BEGIN:VCALENDAR
VERSION:2.0
PRODID:-//St. Peter&#039;s Church - ECPv6.15.20//NONSGML v1.0//EN
CALSCALE:GREGORIAN
METHOD:PUBLISH
X-ORIGINAL-URL:https://www.stpetercatholicchurch.org
X-WR-CALDESC:Events for St. Peter&#039;s Church
REFRESH-INTERVAL;VALUE=DURATION:PT1H
X-Robots-Tag:noindex
X-PUBLISHED-TTL:PT1H
BEGIN:VTIMEZONE
TZID:America/Chicago
BEGIN:DAYLIGHT
TZOFFSETFROM:-0600
TZOFFSETTO:-0500
TZNAME:CDT
DTSTART:20200308T080000
END:DAYLIGHT
BEGIN:STANDARD
TZOFFSETFROM:-0500
TZOFFSETTO:-0600
TZNAME:CST
DTSTART:20201101T070000
END:STANDARD
BEGIN:DAYLIGHT
TZOFFSETFROM:-0600
TZOFFSETTO:-0500
TZNAME:CDT
DTSTART:20210314T080000
END:DAYLIGHT
BEGIN:STANDARD
TZOFFSETFROM:-0500
TZOFFSETTO:-0600
TZNAME:CST
DTSTART:20211107T070000
END:STANDARD
BEGIN:DAYLIGHT
TZOFFSETFROM:-0600
TZOFFSETTO:-0500
TZNAME:CDT
DTSTART:20220313T080000
END:DAYLIGHT
BEGIN:STANDARD
TZOFFSETFROM:-0500
TZOFFSETTO:-0600
TZNAME:CST
DTSTART:20221106T070000
END:STANDARD
END:VTIMEZONE
BEGIN:VEVENT
DTSTART;TZID=America/Chicago:20211018T000000
DTEND;TZID=America/Chicago:20211019T000000
DTSTAMP:20260422T022253
CREATED:20210918T185408Z
LAST-MODIFIED:20211018T152402Z
UID:10000898-1634515200-1634601600@www.stpetercatholicchurch.org
SUMMARY:Parish Office Closed - Mondays
DESCRIPTION:
URL:https://www.stpetercatholicchurch.org/event/parish-office-closed-mondays-7/
LOCATION:Parish Office Closed
END:VEVENT
BEGIN:VEVENT
DTSTART;TZID=America/Chicago:20211011T000000
DTEND;TZID=America/Chicago:20211012T000000
DTSTAMP:20260422T022253
CREATED:20210911T173907Z
LAST-MODIFIED:20211011T145402Z
UID:10000791-1633910400-1633996800@www.stpetercatholicchurch.org
SUMMARY:Parish Office Closed - Mondays
DESCRIPTION:
URL:https://www.stpetercatholicchurch.org/event/parish-office-closed-mondays-6/
LOCATION:Parish Office Closed
END:VEVENT
BEGIN:VEVENT
DTSTART;TZID=America/Chicago:20211004T000000
DTEND;TZID=America/Chicago:20211005T000000
DTSTAMP:20260422T022253
CREATED:20210904T155410Z
LAST-MODIFIED:20211004T202402Z
UID:10000865-1633305600-1633392000@www.stpetercatholicchurch.org
SUMMARY:Parish Office Closed - Mondays
DESCRIPTION:
URL:https://www.stpetercatholicchurch.org/event/parish-office-closed-mondays-5/
LOCATION:Parish Office Closed
END:VEVENT
BEGIN:VEVENT
DTSTART;TZID=America/Chicago:20210927T000000
DTEND;TZID=America/Chicago:20210928T000000
DTSTAMP:20260422T022253
CREATED:20210903T155107Z
LAST-MODIFIED:20210927T192403Z
UID:10000856-1632700800-1632787200@www.stpetercatholicchurch.org
SUMMARY:Parish Office Closed - Mondays
DESCRIPTION:
URL:https://www.stpetercatholicchurch.org/event/parish-office-closed-mondays-4/
LOCATION:Parish Office Closed
END:VEVENT
BEGIN:VEVENT
DTSTART;TZID=America/Chicago:20210920T000000
DTEND;TZID=America/Chicago:20210921T000000
DTSTAMP:20260422T022253
CREATED:20210903T155106Z
LAST-MODIFIED:20210920T185402Z
UID:10000852-1632096000-1632182400@www.stpetercatholicchurch.org
SUMMARY:Parish Office Closed - Mondays
DESCRIPTION:
URL:https://www.stpetercatholicchurch.org/event/parish-office-closed-mondays-3/
LOCATION:Parish Office Closed
END:VEVENT
BEGIN:VEVENT
DTSTART;TZID=America/Chicago:20210913T000000
DTEND;TZID=America/Chicago:20210914T000000
DTSTAMP:20260422T022253
CREATED:20210903T155058Z
LAST-MODIFIED:20210913T180903Z
UID:10000828-1631491200-1631577600@www.stpetercatholicchurch.org
SUMMARY:Parish Office Closed - Mondays
DESCRIPTION:
URL:https://www.stpetercatholicchurch.org/event/parish-office-closed-mondays-2/
LOCATION:Parish Office Closed
END:VEVENT
BEGIN:VEVENT
DTSTART;TZID=America/Chicago:20210906T000000
DTEND;TZID=America/Chicago:20210907T000000
DTSTAMP:20260422T022253
CREATED:20210903T155034Z
LAST-MODIFIED:20210906T162403Z
UID:10000805-1630886400-1630972800@www.stpetercatholicchurch.org
SUMMARY:Parish Office Closed - Mondays
DESCRIPTION:
URL:https://www.stpetercatholicchurch.org/event/parish-office-closed-mondays/
LOCATION:Parish Office Closed
END:VEVENT
END:VCALENDAR