BEGIN:VCALENDAR
VERSION:2.0
PRODID:-//St. Peter&#039;s Church - ECPv6.15.20//NONSGML v1.0//EN
CALSCALE:GREGORIAN
METHOD:PUBLISH
X-ORIGINAL-URL:https://www.stpetercatholicchurch.org
X-WR-CALDESC:Events for St. Peter&#039;s Church
REFRESH-INTERVAL;VALUE=DURATION:PT1H
X-Robots-Tag:noindex
X-PUBLISHED-TTL:PT1H
BEGIN:VTIMEZONE
TZID:America/Chicago
BEGIN:DAYLIGHT
TZOFFSETFROM:-0600
TZOFFSETTO:-0500
TZNAME:CDT
DTSTART:20200308T080000
END:DAYLIGHT
BEGIN:STANDARD
TZOFFSETFROM:-0500
TZOFFSETTO:-0600
TZNAME:CST
DTSTART:20201101T070000
END:STANDARD
BEGIN:DAYLIGHT
TZOFFSETFROM:-0600
TZOFFSETTO:-0500
TZNAME:CDT
DTSTART:20210314T080000
END:DAYLIGHT
BEGIN:STANDARD
TZOFFSETFROM:-0500
TZOFFSETTO:-0600
TZNAME:CST
DTSTART:20211107T070000
END:STANDARD
BEGIN:DAYLIGHT
TZOFFSETFROM:-0600
TZOFFSETTO:-0500
TZNAME:CDT
DTSTART:20220313T080000
END:DAYLIGHT
BEGIN:STANDARD
TZOFFSETFROM:-0500
TZOFFSETTO:-0600
TZNAME:CST
DTSTART:20221106T070000
END:STANDARD
BEGIN:DAYLIGHT
TZOFFSETFROM:-0600
TZOFFSETTO:-0500
TZNAME:CDT
DTSTART:20230312T080000
END:DAYLIGHT
BEGIN:STANDARD
TZOFFSETFROM:-0500
TZOFFSETTO:-0600
TZNAME:CST
DTSTART:20231105T070000
END:STANDARD
END:VTIMEZONE
BEGIN:VEVENT
DTSTART;TZID=America/Chicago:20220114T080000
DTEND;TZID=America/Chicago:20220114T084500
DTSTAMP:20260422T074750
CREATED:20211020T155503Z
LAST-MODIFIED:20211109T180916Z
UID:10001134-1642147200-1642149900@www.stpetercatholicchurch.org
SUMMARY:Daily Mass
DESCRIPTION:Daily Mass: 8:00 am\nNo Mass on Monday’s
URL:https://www.stpetercatholicchurch.org/event/daily-mass-76/
LOCATION:Church
CATEGORIES:Mass
END:VEVENT
BEGIN:VEVENT
DTSTART;TZID=America/Chicago:20220113T080000
DTEND;TZID=America/Chicago:20220113T084500
DTSTAMP:20260422T074750
CREATED:20211020T155421Z
LAST-MODIFIED:20211109T180916Z
UID:10001129-1642060800-1642063500@www.stpetercatholicchurch.org
SUMMARY:Daily Mass
DESCRIPTION:Daily Mass: 8:00 am\nNo Mass on Monday’s
URL:https://www.stpetercatholicchurch.org/event/daily-mass-75/
LOCATION:Church
CATEGORIES:Mass
END:VEVENT
BEGIN:VEVENT
DTSTART;TZID=America/Chicago:20220112T080000
DTEND;TZID=America/Chicago:20220112T084500
DTSTAMP:20260422T074750
CREATED:20211020T155421Z
LAST-MODIFIED:20211109T180916Z
UID:10001128-1641974400-1641977100@www.stpetercatholicchurch.org
SUMMARY:Daily Mass
DESCRIPTION:Daily Mass: 8:00 am\nNo Mass on Monday’s
URL:https://www.stpetercatholicchurch.org/event/daily-mass-74/
LOCATION:Church
CATEGORIES:Mass
END:VEVENT
BEGIN:VEVENT
DTSTART;TZID=America/Chicago:20220111T080000
DTEND;TZID=America/Chicago:20220111T084500
DTSTAMP:20260422T074750
CREATED:20211020T155421Z
LAST-MODIFIED:20211109T180916Z
UID:10001126-1641888000-1641890700@www.stpetercatholicchurch.org
SUMMARY:Daily Mass
DESCRIPTION:Daily Mass: 8:00 am\nNo Mass on Monday’s
URL:https://www.stpetercatholicchurch.org/event/daily-mass-73/
LOCATION:Church
CATEGORIES:Mass
END:VEVENT
BEGIN:VEVENT
DTSTART;TZID=America/Chicago:20220109T064500
DTEND;TZID=America/Chicago:20220109T070000
DTSTAMP:20260422T074750
CREATED:20211020T155421Z
LAST-MODIFIED:20211109T180916Z
UID:10001124-1641710700-1641711600@www.stpetercatholicchurch.org
SUMMARY:Benediction
DESCRIPTION:Benediction of the Holy Eucharist
URL:https://www.stpetercatholicchurch.org/event/benediction-19/
LOCATION:Church
CATEGORIES:Parish Events,Special Events
END:VEVENT
BEGIN:VEVENT
DTSTART;TZID=America/Chicago:20220109T000000
DTEND;TZID=America/Chicago:20220110T000000
DTSTAMP:20260422T074750
CREATED:20211020T155421Z
LAST-MODIFIED:20211109T180916Z
UID:10001123-1641686400-1641772800@www.stpetercatholicchurch.org
SUMMARY:Sunday Masses
DESCRIPTION:7:00 am\,\n9:00 am &\n11:00 am
URL:https://www.stpetercatholicchurch.org/event/sunday-masses-19/
LOCATION:Church
CATEGORIES:Mass
END:VEVENT
BEGIN:VEVENT
DTSTART;TZID=America/Chicago:20220108T160000
DTEND;TZID=America/Chicago:20220108T171500
DTSTAMP:20260422T074750
CREATED:20211020T155421Z
LAST-MODIFIED:20211109T180916Z
UID:10001122-1641657600-1641662100@www.stpetercatholicchurch.org
SUMMARY:Mass
DESCRIPTION:
URL:https://www.stpetercatholicchurch.org/event/mass-19/
LOCATION:Church
CATEGORIES:Mass
END:VEVENT
BEGIN:VEVENT
DTSTART;TZID=America/Chicago:20220107T190000
DTEND;TZID=America/Chicago:20220107T194500
DTSTAMP:20260422T074750
CREATED:20211020T155420Z
LAST-MODIFIED:20211109T180915Z
UID:10001118-1641582000-1641584700@www.stpetercatholicchurch.org
SUMMARY:Stations of the Cross
DESCRIPTION:
URL:https://www.stpetercatholicchurch.org/event/stations-of-the-cross-19/
LOCATION:Church
CATEGORIES:Parish Events,Special Events
END:VEVENT
BEGIN:VEVENT
DTSTART;TZID=America/Chicago:20220107T080000
DTEND;TZID=America/Chicago:20220107T084500
DTSTAMP:20260422T074750
CREATED:20211020T155420Z
LAST-MODIFIED:20211109T180915Z
UID:10001116-1641542400-1641545100@www.stpetercatholicchurch.org
SUMMARY:Daily Mass
DESCRIPTION:Daily Mass: 8:00 am\nNo Mass on Monday’s
URL:https://www.stpetercatholicchurch.org/event/daily-mass-72/
LOCATION:Church
CATEGORIES:Mass
END:VEVENT
BEGIN:VEVENT
DTSTART;TZID=America/Chicago:20220106T080000
DTEND;TZID=America/Chicago:20220106T084500
DTSTAMP:20260422T074750
CREATED:20211020T155420Z
LAST-MODIFIED:20211109T180915Z
UID:10001114-1641456000-1641458700@www.stpetercatholicchurch.org
SUMMARY:Daily Mass
DESCRIPTION:Daily Mass: 8:00 am\nNo Mass on Monday’s
URL:https://www.stpetercatholicchurch.org/event/daily-mass-71/
LOCATION:Church
CATEGORIES:Mass
END:VEVENT
BEGIN:VEVENT
DTSTART;TZID=America/Chicago:20220105T080000
DTEND;TZID=America/Chicago:20220105T084500
DTSTAMP:20260422T074750
CREATED:20211020T155420Z
LAST-MODIFIED:20211109T180915Z
UID:10001113-1641369600-1641372300@www.stpetercatholicchurch.org
SUMMARY:Daily Mass
DESCRIPTION:Daily Mass: 8:00 am\nNo Mass on Monday’s
URL:https://www.stpetercatholicchurch.org/event/daily-mass-70/
LOCATION:Church
CATEGORIES:Mass
END:VEVENT
BEGIN:VEVENT
DTSTART;TZID=America/Chicago:20220104T080000
DTEND;TZID=America/Chicago:20220104T084500
DTSTAMP:20260422T074750
CREATED:20211020T155419Z
LAST-MODIFIED:20211109T180915Z
UID:10001111-1641283200-1641285900@www.stpetercatholicchurch.org
SUMMARY:Daily Mass
DESCRIPTION:Daily Mass: 8:00 am\nNo Mass on Monday’s
URL:https://www.stpetercatholicchurch.org/event/daily-mass-69/
LOCATION:Church
CATEGORIES:Mass
END:VEVENT
BEGIN:VEVENT
DTSTART;TZID=America/Chicago:20220102T064500
DTEND;TZID=America/Chicago:20220102T070000
DTSTAMP:20260422T074750
CREATED:20211020T155419Z
LAST-MODIFIED:20211109T180914Z
UID:10001105-1641105900-1641106800@www.stpetercatholicchurch.org
SUMMARY:Benediction
DESCRIPTION:Benediction of the Holy Eucharist
URL:https://www.stpetercatholicchurch.org/event/benediction-18/
LOCATION:Church
CATEGORIES:Parish Events,Special Events
END:VEVENT
BEGIN:VEVENT
DTSTART;TZID=America/Chicago:20220102T000000
DTEND;TZID=America/Chicago:20220103T000000
DTSTAMP:20260422T074750
CREATED:20211020T155419Z
LAST-MODIFIED:20211109T180915Z
UID:10001109-1641081600-1641168000@www.stpetercatholicchurch.org
SUMMARY:Sunday Masses
DESCRIPTION:7:00 am\,\n9:00 am &\n11:00 am
URL:https://www.stpetercatholicchurch.org/event/sunday-masses-18/
LOCATION:Church
CATEGORIES:Mass
END:VEVENT
BEGIN:VEVENT
DTSTART;TZID=America/Chicago:20220101T160000
DTEND;TZID=America/Chicago:20220101T171500
DTSTAMP:20260422T074750
CREATED:20211020T155419Z
LAST-MODIFIED:20211109T180914Z
UID:10001104-1641052800-1641057300@www.stpetercatholicchurch.org
SUMMARY:Mass
DESCRIPTION:
URL:https://www.stpetercatholicchurch.org/event/mass-18/
LOCATION:Church
CATEGORIES:Mass
END:VEVENT
BEGIN:VEVENT
DTSTART;TZID=America/Chicago:20211231T190000
DTEND;TZID=America/Chicago:20211231T194500
DTSTAMP:20260422T074750
CREATED:20211020T155417Z
LAST-MODIFIED:20211109T180914Z
UID:10000945-1640977200-1640979900@www.stpetercatholicchurch.org
SUMMARY:Stations of the Cross
DESCRIPTION:
URL:https://www.stpetercatholicchurch.org/event/stations-of-the-cross-18/
LOCATION:Church
CATEGORIES:Parish Events,Special Events
END:VEVENT
BEGIN:VEVENT
DTSTART;TZID=America/Chicago:20211231T080000
DTEND;TZID=America/Chicago:20211231T084500
DTSTAMP:20260422T074750
CREATED:20211020T155418Z
LAST-MODIFIED:20211109T180914Z
UID:10001097-1640937600-1640940300@www.stpetercatholicchurch.org
SUMMARY:Daily Mass
DESCRIPTION:Daily Mass: 8:00 am\nNo Mass on Monday’s
URL:https://www.stpetercatholicchurch.org/event/daily-mass-68/
LOCATION:Church
CATEGORIES:Mass
END:VEVENT
BEGIN:VEVENT
DTSTART;TZID=America/Chicago:20211230T080000
DTEND;TZID=America/Chicago:20211230T084500
DTSTAMP:20260422T074750
CREATED:20211020T155418Z
LAST-MODIFIED:20211109T180914Z
UID:10001096-1640851200-1640853900@www.stpetercatholicchurch.org
SUMMARY:Daily Mass
DESCRIPTION:Daily Mass: 8:00 am\nNo Mass on Monday’s
URL:https://www.stpetercatholicchurch.org/event/daily-mass-67/
LOCATION:Church
CATEGORIES:Mass
END:VEVENT
BEGIN:VEVENT
DTSTART;TZID=America/Chicago:20211229T080000
DTEND;TZID=America/Chicago:20211229T084500
DTSTAMP:20260422T074750
CREATED:20211020T155418Z
LAST-MODIFIED:20211109T180913Z
UID:10001095-1640764800-1640767500@www.stpetercatholicchurch.org
SUMMARY:Daily Mass
DESCRIPTION:Daily Mass: 8:00 am\nNo Mass on Monday’s
URL:https://www.stpetercatholicchurch.org/event/daily-mass-66/
LOCATION:Church
CATEGORIES:Mass
END:VEVENT
BEGIN:VEVENT
DTSTART;TZID=America/Chicago:20211228T080000
DTEND;TZID=America/Chicago:20211228T084500
DTSTAMP:20260422T074750
CREATED:20211020T155418Z
LAST-MODIFIED:20211109T180913Z
UID:10000953-1640678400-1640681100@www.stpetercatholicchurch.org
SUMMARY:Daily Mass
DESCRIPTION:Daily Mass: 8:00 am\nNo Mass on Monday’s
URL:https://www.stpetercatholicchurch.org/event/daily-mass-65/
LOCATION:Church
CATEGORIES:Mass
END:VEVENT
BEGIN:VEVENT
DTSTART;TZID=America/Chicago:20211226T064500
DTEND;TZID=America/Chicago:20211226T070000
DTSTAMP:20260422T074750
CREATED:20211020T155417Z
LAST-MODIFIED:20211109T180913Z
UID:10000938-1640501100-1640502000@www.stpetercatholicchurch.org
SUMMARY:Benediction
DESCRIPTION:Benediction of the Holy Eucharist
URL:https://www.stpetercatholicchurch.org/event/benediction-17/
LOCATION:Church
CATEGORIES:Parish Events,Special Events
END:VEVENT
BEGIN:VEVENT
DTSTART;TZID=America/Chicago:20211226T000000
DTEND;TZID=America/Chicago:20211227T000000
DTSTAMP:20260422T074750
CREATED:20211020T155417Z
LAST-MODIFIED:20211109T180913Z
UID:10000942-1640476800-1640563200@www.stpetercatholicchurch.org
SUMMARY:Sunday Masses
DESCRIPTION:7:00 am\,\n9:00 am &\n11:00 am
URL:https://www.stpetercatholicchurch.org/event/sunday-masses-17/
LOCATION:Church
CATEGORIES:Mass
END:VEVENT
BEGIN:VEVENT
DTSTART;TZID=America/Chicago:20211225T160000
DTEND;TZID=America/Chicago:20211225T171500
DTSTAMP:20260422T074750
CREATED:20211020T155417Z
LAST-MODIFIED:20211109T180913Z
UID:10001094-1640448000-1640452500@www.stpetercatholicchurch.org
SUMMARY:Mass
DESCRIPTION:
URL:https://www.stpetercatholicchurch.org/event/mass-17/
LOCATION:Church
CATEGORIES:Mass
END:VEVENT
BEGIN:VEVENT
DTSTART;TZID=America/Chicago:20211225T000000
DTEND;TZID=America/Chicago:20211226T000000
DTSTAMP:20260422T074750
CREATED:20211020T155418Z
LAST-MODIFIED:20211109T180913Z
UID:10000951-1640390400-1640476800@www.stpetercatholicchurch.org
SUMMARY:Christmas Day Mass Times
DESCRIPTION:Nativity of the Lord\nHOLY DAY OF OBLIGATION\nChristmas Day: Mass Times – 9:00 am  & 11:00 am
URL:https://www.stpetercatholicchurch.org/event/christmas-day-mass-times/
LOCATION:Church
CATEGORIES:Parish Events,Special Events
END:VEVENT
BEGIN:VEVENT
DTSTART;TZID=America/Chicago:20211224T190000
DTEND;TZID=America/Chicago:20211224T194500
DTSTAMP:20260422T074750
CREATED:20211020T155416Z
LAST-MODIFIED:20211109T180912Z
UID:10001091-1640372400-1640375100@www.stpetercatholicchurch.org
SUMMARY:Stations of the Cross
DESCRIPTION:
URL:https://www.stpetercatholicchurch.org/event/stations-of-the-cross-17/
LOCATION:Church
CATEGORIES:Parish Events,Special Events
END:VEVENT
BEGIN:VEVENT
DTSTART;TZID=America/Chicago:20211224T080000
DTEND;TZID=America/Chicago:20211224T084500
DTSTAMP:20260422T074750
CREATED:20211020T155416Z
LAST-MODIFIED:20211109T180912Z
UID:10001088-1640332800-1640335500@www.stpetercatholicchurch.org
SUMMARY:Daily Mass
DESCRIPTION:Daily Mass: 8:00 am\nNo Mass on Monday’s
URL:https://www.stpetercatholicchurch.org/event/daily-mass-64/
LOCATION:Church
CATEGORIES:Mass
END:VEVENT
BEGIN:VEVENT
DTSTART;TZID=America/Chicago:20211223T080000
DTEND;TZID=America/Chicago:20211223T084500
DTSTAMP:20260422T074750
CREATED:20211020T155416Z
LAST-MODIFIED:20211109T180912Z
UID:10001086-1640246400-1640249100@www.stpetercatholicchurch.org
SUMMARY:Daily Mass
DESCRIPTION:Daily Mass: 8:00 am\nNo Mass on Monday’s
URL:https://www.stpetercatholicchurch.org/event/daily-mass-63/
LOCATION:Church
CATEGORIES:Mass
END:VEVENT
BEGIN:VEVENT
DTSTART;TZID=America/Chicago:20211222T080000
DTEND;TZID=America/Chicago:20211222T084500
DTSTAMP:20260422T074750
CREATED:20211020T155416Z
LAST-MODIFIED:20211109T180912Z
UID:10001085-1640160000-1640162700@www.stpetercatholicchurch.org
SUMMARY:Daily Mass
DESCRIPTION:Daily Mass: 8:00 am\nNo Mass on Monday’s
URL:https://www.stpetercatholicchurch.org/event/daily-mass-62/
LOCATION:Church
CATEGORIES:Mass
END:VEVENT
BEGIN:VEVENT
DTSTART;TZID=America/Chicago:20211221T080000
DTEND;TZID=America/Chicago:20211221T084500
DTSTAMP:20260422T074750
CREATED:20211020T155416Z
LAST-MODIFIED:20211109T180912Z
UID:10001084-1640073600-1640076300@www.stpetercatholicchurch.org
SUMMARY:Daily Mass
DESCRIPTION:Daily Mass: 8:00 am\nNo Mass on Monday’s
URL:https://www.stpetercatholicchurch.org/event/daily-mass-61/
LOCATION:Church
CATEGORIES:Mass
END:VEVENT
BEGIN:VEVENT
DTSTART;TZID=America/Chicago:20211219T064500
DTEND;TZID=America/Chicago:20211219T070000
DTSTAMP:20260422T074750
CREATED:20211020T155415Z
LAST-MODIFIED:20211109T180912Z
UID:10001081-1639896300-1639897200@www.stpetercatholicchurch.org
SUMMARY:Benediction
DESCRIPTION:Benediction of the Holy Eucharist
URL:https://www.stpetercatholicchurch.org/event/benediction-16/
LOCATION:Church
CATEGORIES:Parish Events,Special Events
END:VEVENT
END:VCALENDAR