BEGIN:VCALENDAR
VERSION:2.0
PRODID:-//St. Peter&#039;s Church - ECPv6.15.20//NONSGML v1.0//EN
CALSCALE:GREGORIAN
METHOD:PUBLISH
X-WR-CALNAME:St. Peter&#039;s Church
X-ORIGINAL-URL:https://www.stpetercatholicchurch.org
X-WR-CALDESC:Events for St. Peter&#039;s Church
REFRESH-INTERVAL;VALUE=DURATION:PT1H
X-Robots-Tag:noindex
X-PUBLISHED-TTL:PT1H
BEGIN:VTIMEZONE
TZID:America/Chicago
BEGIN:DAYLIGHT
TZOFFSETFROM:-0600
TZOFFSETTO:-0500
TZNAME:CDT
DTSTART:20210314T080000
END:DAYLIGHT
BEGIN:STANDARD
TZOFFSETFROM:-0500
TZOFFSETTO:-0600
TZNAME:CST
DTSTART:20211107T070000
END:STANDARD
BEGIN:DAYLIGHT
TZOFFSETFROM:-0600
TZOFFSETTO:-0500
TZNAME:CDT
DTSTART:20220313T080000
END:DAYLIGHT
BEGIN:STANDARD
TZOFFSETFROM:-0500
TZOFFSETTO:-0600
TZNAME:CST
DTSTART:20221106T070000
END:STANDARD
BEGIN:DAYLIGHT
TZOFFSETFROM:-0600
TZOFFSETTO:-0500
TZNAME:CDT
DTSTART:20230312T080000
END:DAYLIGHT
BEGIN:STANDARD
TZOFFSETFROM:-0500
TZOFFSETTO:-0600
TZNAME:CST
DTSTART:20231105T070000
END:STANDARD
END:VTIMEZONE
BEGIN:VEVENT
DTSTART;TZID=America/Chicago:20220216T080000
DTEND;TZID=America/Chicago:20220216T084500
DTSTAMP:20260422T003020
CREATED:20211020T155511Z
LAST-MODIFIED:20211109T181004Z
UID:10001021-1644998400-1645001100@www.stpetercatholicchurch.org
SUMMARY:Daily Mass
DESCRIPTION:Daily Mass: 8:00 am\nNo Mass on Monday’s
URL:https://www.stpetercatholicchurch.org/event/daily-mass-94/
LOCATION:Church
CATEGORIES:Mass
END:VEVENT
BEGIN:VEVENT
DTSTART;TZID=America/Chicago:20220215T080000
DTEND;TZID=America/Chicago:20220215T084500
DTSTAMP:20260422T003020
CREATED:20211020T155510Z
LAST-MODIFIED:20211109T181004Z
UID:10001020-1644912000-1644914700@www.stpetercatholicchurch.org
SUMMARY:Daily Mass
DESCRIPTION:Daily Mass: 8:00 am\nNo Mass on Monday’s
URL:https://www.stpetercatholicchurch.org/event/daily-mass-93/
LOCATION:Church
CATEGORIES:Mass
END:VEVENT
BEGIN:VEVENT
DTSTART;TZID=America/Chicago:20220213T064500
DTEND;TZID=America/Chicago:20220213T070000
DTSTAMP:20260422T003020
CREATED:20211020T155510Z
LAST-MODIFIED:20211109T181003Z
UID:10001179-1644734700-1644735600@www.stpetercatholicchurch.org
SUMMARY:Benediction
DESCRIPTION:Benediction of the Holy Eucharist
URL:https://www.stpetercatholicchurch.org/event/benediction-24/
LOCATION:Church
CATEGORIES:Parish Events,Special Events
END:VEVENT
BEGIN:VEVENT
DTSTART;TZID=America/Chicago:20220213T000000
DTEND;TZID=America/Chicago:20220214T000000
DTSTAMP:20260422T003020
CREATED:20211020T155510Z
LAST-MODIFIED:20211109T181003Z
UID:10001178-1644710400-1644796800@www.stpetercatholicchurch.org
SUMMARY:Sunday Masses
DESCRIPTION:7:00 am\,\n9:00 am &\n11:00 am
URL:https://www.stpetercatholicchurch.org/event/sunday-masses-24/
LOCATION:Church
CATEGORIES:Mass
END:VEVENT
BEGIN:VEVENT
DTSTART;TZID=America/Chicago:20220212T160000
DTEND;TZID=America/Chicago:20220212T171500
DTSTAMP:20260422T003020
CREATED:20211020T155510Z
LAST-MODIFIED:20211109T181003Z
UID:10001175-1644681600-1644686100@www.stpetercatholicchurch.org
SUMMARY:Mass
DESCRIPTION:
URL:https://www.stpetercatholicchurch.org/event/mass-24/
LOCATION:Church
CATEGORIES:Mass
END:VEVENT
BEGIN:VEVENT
DTSTART;TZID=America/Chicago:20220211T190000
DTEND;TZID=America/Chicago:20220211T194500
DTSTAMP:20260422T003020
CREATED:20211020T155510Z
LAST-MODIFIED:20211109T181003Z
UID:10001173-1644606000-1644608700@www.stpetercatholicchurch.org
SUMMARY:Stations of the Cross
DESCRIPTION:
URL:https://www.stpetercatholicchurch.org/event/stations-of-the-cross-24/
LOCATION:Church
CATEGORIES:Parish Events,Special Events
END:VEVENT
BEGIN:VEVENT
DTSTART;TZID=America/Chicago:20220211T093000
DTEND;TZID=America/Chicago:20220211T113000
DTSTAMP:20260422T003020
CREATED:20211020T155510Z
LAST-MODIFIED:20211109T181003Z
UID:10001172-1644571800-1644579000@www.stpetercatholicchurch.org
SUMMARY:Womans Morning of Recollection
DESCRIPTION:
URL:https://www.stpetercatholicchurch.org/event/womans-morning-of-recollection-6/
LOCATION:Church
CATEGORIES:Non-Mass Events
END:VEVENT
BEGIN:VEVENT
DTSTART;TZID=America/Chicago:20220211T080000
DTEND;TZID=America/Chicago:20220211T084500
DTSTAMP:20260422T003020
CREATED:20211020T155510Z
LAST-MODIFIED:20211109T181002Z
UID:10001170-1644566400-1644569100@www.stpetercatholicchurch.org
SUMMARY:Daily Mass
DESCRIPTION:Daily Mass: 8:00 am\nNo Mass on Monday’s
URL:https://www.stpetercatholicchurch.org/event/daily-mass-92/
LOCATION:Church
CATEGORIES:Mass
END:VEVENT
BEGIN:VEVENT
DTSTART;TZID=America/Chicago:20220210T080000
DTEND;TZID=America/Chicago:20220210T084500
DTSTAMP:20260422T003020
CREATED:20211020T155509Z
LAST-MODIFIED:20211109T180923Z
UID:10001017-1644480000-1644482700@www.stpetercatholicchurch.org
SUMMARY:Daily Mass
DESCRIPTION:Daily Mass: 8:00 am\nNo Mass on Monday’s
URL:https://www.stpetercatholicchurch.org/event/daily-mass-91/
LOCATION:Church
CATEGORIES:Mass
END:VEVENT
BEGIN:VEVENT
DTSTART;TZID=America/Chicago:20220209T080000
DTEND;TZID=America/Chicago:20220209T084500
DTSTAMP:20260422T003020
CREATED:20211020T155509Z
LAST-MODIFIED:20211109T180922Z
UID:10001016-1644393600-1644396300@www.stpetercatholicchurch.org
SUMMARY:Daily Mass
DESCRIPTION:Daily Mass: 8:00 am\nNo Mass on Monday’s
URL:https://www.stpetercatholicchurch.org/event/daily-mass-90/
LOCATION:Church
CATEGORIES:Mass
END:VEVENT
BEGIN:VEVENT
DTSTART;TZID=America/Chicago:20220208T080000
DTEND;TZID=America/Chicago:20220208T084500
DTSTAMP:20260422T003020
CREATED:20211020T155509Z
LAST-MODIFIED:20211109T180922Z
UID:10001014-1644307200-1644309900@www.stpetercatholicchurch.org
SUMMARY:Daily Mass
DESCRIPTION:Daily Mass: 8:00 am\nNo Mass on Monday’s
URL:https://www.stpetercatholicchurch.org/event/daily-mass-89/
LOCATION:Church
CATEGORIES:Mass
END:VEVENT
BEGIN:VEVENT
DTSTART;TZID=America/Chicago:20220206T064500
DTEND;TZID=America/Chicago:20220206T070000
DTSTAMP:20260422T003020
CREATED:20211020T155508Z
LAST-MODIFIED:20211109T180922Z
UID:10001167-1644129900-1644130800@www.stpetercatholicchurch.org
SUMMARY:Benediction
DESCRIPTION:Benediction of the Holy Eucharist
URL:https://www.stpetercatholicchurch.org/event/benediction-23/
LOCATION:Church
CATEGORIES:Parish Events,Special Events
END:VEVENT
BEGIN:VEVENT
DTSTART;TZID=America/Chicago:20220206T000000
DTEND;TZID=America/Chicago:20220207T000000
DTSTAMP:20260422T003020
CREATED:20211020T155508Z
LAST-MODIFIED:20211109T180921Z
UID:10001166-1644105600-1644192000@www.stpetercatholicchurch.org
SUMMARY:Sunday Masses
DESCRIPTION:7:00 am\,\n9:00 am &\n11:00 am
URL:https://www.stpetercatholicchurch.org/event/sunday-masses-23/
LOCATION:Church
CATEGORIES:Mass
END:VEVENT
BEGIN:VEVENT
DTSTART;TZID=America/Chicago:20220205T160000
DTEND;TZID=America/Chicago:20220205T171500
DTSTAMP:20260422T003020
CREATED:20211020T155508Z
LAST-MODIFIED:20211109T180922Z
UID:10001165-1644076800-1644081300@www.stpetercatholicchurch.org
SUMMARY:Mass
DESCRIPTION:
URL:https://www.stpetercatholicchurch.org/event/mass-23/
LOCATION:Church
CATEGORIES:Mass
END:VEVENT
BEGIN:VEVENT
DTSTART;TZID=America/Chicago:20220204T190000
DTEND;TZID=America/Chicago:20220204T194500
DTSTAMP:20260422T003020
CREATED:20211020T155508Z
LAST-MODIFIED:20211109T180921Z
UID:10001162-1644001200-1644003900@www.stpetercatholicchurch.org
SUMMARY:Stations of the Cross
DESCRIPTION:
URL:https://www.stpetercatholicchurch.org/event/stations-of-the-cross-23/
LOCATION:Church
CATEGORIES:Parish Events,Special Events
END:VEVENT
BEGIN:VEVENT
DTSTART;TZID=America/Chicago:20220204T080000
DTEND;TZID=America/Chicago:20220204T084500
DTSTAMP:20260422T003020
CREATED:20211020T155508Z
LAST-MODIFIED:20211109T180921Z
UID:10001161-1643961600-1643964300@www.stpetercatholicchurch.org
SUMMARY:Daily Mass
DESCRIPTION:Daily Mass: 8:00 am\nNo Mass on Monday’s
URL:https://www.stpetercatholicchurch.org/event/daily-mass-88/
LOCATION:Church
CATEGORIES:Mass
END:VEVENT
BEGIN:VEVENT
DTSTART;TZID=America/Chicago:20220203T080000
DTEND;TZID=America/Chicago:20220203T084500
DTSTAMP:20260422T003020
CREATED:20211020T155507Z
LAST-MODIFIED:20211109T180921Z
UID:10001008-1643875200-1643877900@www.stpetercatholicchurch.org
SUMMARY:Daily Mass
DESCRIPTION:Daily Mass: 8:00 am\nNo Mass on Monday’s
URL:https://www.stpetercatholicchurch.org/event/daily-mass-87/
LOCATION:Church
CATEGORIES:Mass
END:VEVENT
BEGIN:VEVENT
DTSTART;TZID=America/Chicago:20220202T080000
DTEND;TZID=America/Chicago:20220202T084500
DTSTAMP:20260422T003020
CREATED:20211020T155507Z
LAST-MODIFIED:20211109T180920Z
UID:10001007-1643788800-1643791500@www.stpetercatholicchurch.org
SUMMARY:Daily Mass
DESCRIPTION:Daily Mass: 8:00 am\nNo Mass on Monday’s
URL:https://www.stpetercatholicchurch.org/event/daily-mass-86/
LOCATION:Church
CATEGORIES:Mass
END:VEVENT
BEGIN:VEVENT
DTSTART;TZID=America/Chicago:20220201T080000
DTEND;TZID=America/Chicago:20220201T084500
DTSTAMP:20260422T003020
CREATED:20211020T155507Z
LAST-MODIFIED:20211109T180920Z
UID:10001005-1643702400-1643705100@www.stpetercatholicchurch.org
SUMMARY:Daily Mass
DESCRIPTION:Daily Mass: 8:00 am\nNo Mass on Monday’s
URL:https://www.stpetercatholicchurch.org/event/daily-mass-85/
LOCATION:Church
CATEGORIES:Mass
END:VEVENT
BEGIN:VEVENT
DTSTART;TZID=America/Chicago:20220130T064500
DTEND;TZID=America/Chicago:20220130T070000
DTSTAMP:20260422T003020
CREATED:20211020T155507Z
LAST-MODIFIED:20211109T180920Z
UID:10001002-1643525100-1643526000@www.stpetercatholicchurch.org
SUMMARY:Benediction
DESCRIPTION:Benediction of the Holy Eucharist
URL:https://www.stpetercatholicchurch.org/event/benediction-22/
LOCATION:Church
CATEGORIES:Parish Events,Special Events
END:VEVENT
BEGIN:VEVENT
DTSTART;TZID=America/Chicago:20220130T000000
DTEND;TZID=America/Chicago:20220131T000000
DTSTAMP:20260422T003020
CREATED:20211020T155507Z
LAST-MODIFIED:20211109T180920Z
UID:10001003-1643500800-1643587200@www.stpetercatholicchurch.org
SUMMARY:Sunday Masses
DESCRIPTION:7:00 am\,\n9:00 am &\n11:00 am
URL:https://www.stpetercatholicchurch.org/event/sunday-masses-22/
LOCATION:Church
CATEGORIES:Mass
END:VEVENT
BEGIN:VEVENT
DTSTART;TZID=America/Chicago:20220129T160000
DTEND;TZID=America/Chicago:20220129T171500
DTSTAMP:20260422T003020
CREATED:20211020T155507Z
LAST-MODIFIED:20211109T180920Z
UID:10001001-1643472000-1643476500@www.stpetercatholicchurch.org
SUMMARY:Mass
DESCRIPTION:
URL:https://www.stpetercatholicchurch.org/event/mass-22/
LOCATION:Church
CATEGORIES:Mass
END:VEVENT
BEGIN:VEVENT
DTSTART;TZID=America/Chicago:20220128T190000
DTEND;TZID=America/Chicago:20220128T194500
DTSTAMP:20260422T003020
CREATED:20211020T155506Z
LAST-MODIFIED:20211109T180920Z
UID:10001158-1643396400-1643399100@www.stpetercatholicchurch.org
SUMMARY:Stations of the Cross
DESCRIPTION:
URL:https://www.stpetercatholicchurch.org/event/stations-of-the-cross-22/
LOCATION:Church
CATEGORIES:Parish Events,Special Events
END:VEVENT
BEGIN:VEVENT
DTSTART;TZID=America/Chicago:20220128T080000
DTEND;TZID=America/Chicago:20220128T084500
DTSTAMP:20260422T003020
CREATED:20211020T155506Z
LAST-MODIFIED:20211109T180919Z
UID:10001156-1643356800-1643359500@www.stpetercatholicchurch.org
SUMMARY:Daily Mass
DESCRIPTION:Daily Mass: 8:00 am\nNo Mass on Monday’s
URL:https://www.stpetercatholicchurch.org/event/daily-mass-84/
LOCATION:Church
CATEGORIES:Mass
END:VEVENT
BEGIN:VEVENT
DTSTART;TZID=America/Chicago:20220127T080000
DTEND;TZID=America/Chicago:20220127T084500
DTSTAMP:20260422T003020
CREATED:20211020T155506Z
LAST-MODIFIED:20211109T180919Z
UID:10001154-1643270400-1643273100@www.stpetercatholicchurch.org
SUMMARY:Daily Mass
DESCRIPTION:Daily Mass: 8:00 am\nNo Mass on Monday’s
URL:https://www.stpetercatholicchurch.org/event/daily-mass-83/
LOCATION:Church
CATEGORIES:Mass
END:VEVENT
BEGIN:VEVENT
DTSTART;TZID=America/Chicago:20220126T080000
DTEND;TZID=America/Chicago:20220126T084500
DTSTAMP:20260422T003020
CREATED:20211020T155506Z
LAST-MODIFIED:20211109T180919Z
UID:10001153-1643184000-1643186700@www.stpetercatholicchurch.org
SUMMARY:Daily Mass
DESCRIPTION:Daily Mass: 8:00 am\nNo Mass on Monday’s
URL:https://www.stpetercatholicchurch.org/event/daily-mass-82/
LOCATION:Church
CATEGORIES:Mass
END:VEVENT
BEGIN:VEVENT
DTSTART;TZID=America/Chicago:20220125T080000
DTEND;TZID=America/Chicago:20220125T084500
DTSTAMP:20260422T003020
CREATED:20211020T155506Z
LAST-MODIFIED:20211109T180919Z
UID:10001150-1643097600-1643100300@www.stpetercatholicchurch.org
SUMMARY:Daily Mass
DESCRIPTION:Daily Mass: 8:00 am\nNo Mass on Monday’s
URL:https://www.stpetercatholicchurch.org/event/daily-mass-81/
LOCATION:Church
CATEGORIES:Mass
END:VEVENT
BEGIN:VEVENT
DTSTART;TZID=America/Chicago:20220123T064500
DTEND;TZID=America/Chicago:20220123T070000
DTSTAMP:20260422T003020
CREATED:20211020T155505Z
LAST-MODIFIED:20211109T180918Z
UID:10000996-1642920300-1642921200@www.stpetercatholicchurch.org
SUMMARY:Benediction
DESCRIPTION:Benediction of the Holy Eucharist
URL:https://www.stpetercatholicchurch.org/event/benediction-21/
LOCATION:Church
CATEGORIES:Parish Events,Special Events
END:VEVENT
BEGIN:VEVENT
DTSTART;TZID=America/Chicago:20220123T000000
DTEND;TZID=America/Chicago:20220124T000000
DTSTAMP:20260422T003020
CREATED:20211020T155505Z
LAST-MODIFIED:20211109T180918Z
UID:10000998-1642896000-1642982400@www.stpetercatholicchurch.org
SUMMARY:Sunday Masses
DESCRIPTION:7:00 am\,\n9:00 am &\n11:00 am
URL:https://www.stpetercatholicchurch.org/event/sunday-masses-21/
LOCATION:Church
CATEGORIES:Mass
END:VEVENT
BEGIN:VEVENT
DTSTART;TZID=America/Chicago:20220122T160000
DTEND;TZID=America/Chicago:20220122T171500
DTSTAMP:20260422T003020
CREATED:20211020T155505Z
LAST-MODIFIED:20211109T180919Z
UID:10000995-1642867200-1642871700@www.stpetercatholicchurch.org
SUMMARY:Mass
DESCRIPTION:
URL:https://www.stpetercatholicchurch.org/event/mass-21/
LOCATION:Church
CATEGORIES:Mass
END:VEVENT
END:VCALENDAR