BEGIN:VCALENDAR
VERSION:2.0
PRODID:-//St. Peter&#039;s Church - ECPv6.15.20//NONSGML v1.0//EN
CALSCALE:GREGORIAN
METHOD:PUBLISH
X-WR-CALNAME:St. Peter&#039;s Church
X-ORIGINAL-URL:https://www.stpetercatholicchurch.org
X-WR-CALDESC:Events for St. Peter&#039;s Church
REFRESH-INTERVAL;VALUE=DURATION:PT1H
X-Robots-Tag:noindex
X-PUBLISHED-TTL:PT1H
BEGIN:VTIMEZONE
TZID:America/Chicago
BEGIN:DAYLIGHT
TZOFFSETFROM:-0600
TZOFFSETTO:-0500
TZNAME:CDT
DTSTART:20210314T080000
END:DAYLIGHT
BEGIN:STANDARD
TZOFFSETFROM:-0500
TZOFFSETTO:-0600
TZNAME:CST
DTSTART:20211107T070000
END:STANDARD
BEGIN:DAYLIGHT
TZOFFSETFROM:-0600
TZOFFSETTO:-0500
TZNAME:CDT
DTSTART:20220313T080000
END:DAYLIGHT
BEGIN:STANDARD
TZOFFSETFROM:-0500
TZOFFSETTO:-0600
TZNAME:CST
DTSTART:20221106T070000
END:STANDARD
BEGIN:DAYLIGHT
TZOFFSETFROM:-0600
TZOFFSETTO:-0500
TZNAME:CDT
DTSTART:20230312T080000
END:DAYLIGHT
BEGIN:STANDARD
TZOFFSETFROM:-0500
TZOFFSETTO:-0600
TZNAME:CST
DTSTART:20231105T070000
END:STANDARD
END:VTIMEZONE
BEGIN:VEVENT
DTSTART;TZID=America/Chicago:20220313T064500
DTEND;TZID=America/Chicago:20220313T070000
DTSTAMP:20260421T185454
CREATED:20211108T181014Z
LAST-MODIFIED:20211108T181014Z
UID:10001523-1647153900-1647154800@www.stpetercatholicchurch.org
SUMMARY:Benediction
DESCRIPTION:Benediction of the Holy Eucharist
URL:https://www.stpetercatholicchurch.org/event/benediction-28/
LOCATION:Church
CATEGORIES:Special Events
END:VEVENT
BEGIN:VEVENT
DTSTART;TZID=America/Chicago:20220312T160000
DTEND;TZID=America/Chicago:20220312T171500
DTSTAMP:20260421T185454
CREATED:20211108T181014Z
LAST-MODIFIED:20211109T181010Z
UID:10001521-1647100800-1647105300@www.stpetercatholicchurch.org
SUMMARY:Mass
DESCRIPTION:
URL:https://www.stpetercatholicchurch.org/event/mass-28/
LOCATION:Church
CATEGORIES:Mass
END:VEVENT
BEGIN:VEVENT
DTSTART;TZID=America/Chicago:20220311T190000
DTEND;TZID=America/Chicago:20220311T194500
DTSTAMP:20260421T185454
CREATED:20211107T175511Z
LAST-MODIFIED:20211109T181009Z
UID:10001517-1647025200-1647027900@www.stpetercatholicchurch.org
SUMMARY:Stations of the Cross
DESCRIPTION:
URL:https://www.stpetercatholicchurch.org/event/stations-of-the-cross-28/
LOCATION:Church
CATEGORIES:Special Events
END:VEVENT
BEGIN:VEVENT
DTSTART;TZID=America/Chicago:20220311T093000
DTEND;TZID=America/Chicago:20220311T113000
DTSTAMP:20260421T185454
CREATED:20211106T174012Z
LAST-MODIFIED:20211109T181009Z
UID:10001515-1646991000-1646998200@www.stpetercatholicchurch.org
SUMMARY:Womans Morning of Recollection
DESCRIPTION:
URL:https://www.stpetercatholicchurch.org/event/womans-morning-of-recollection-7/
LOCATION:Church
CATEGORIES:Non-Mass Events
END:VEVENT
BEGIN:VEVENT
DTSTART;TZID=America/Chicago:20220311T080000
DTEND;TZID=America/Chicago:20220311T084500
DTSTAMP:20260421T185454
CREATED:20211106T174012Z
LAST-MODIFIED:20211109T181009Z
UID:10001519-1646985600-1646988300@www.stpetercatholicchurch.org
SUMMARY:Daily Mass
DESCRIPTION:Daily Mass: 8:00 am\nNo Mass on Monday’s
URL:https://www.stpetercatholicchurch.org/event/daily-mass-108/
LOCATION:Church
CATEGORIES:Mass
END:VEVENT
BEGIN:VEVENT
DTSTART;TZID=America/Chicago:20220310T080000
DTEND;TZID=America/Chicago:20220310T084500
DTSTAMP:20260421T185454
CREATED:20211106T174012Z
LAST-MODIFIED:20211109T181008Z
UID:10001513-1646899200-1646901900@www.stpetercatholicchurch.org
SUMMARY:Daily Mass
DESCRIPTION:Daily Mass: 8:00 am\nNo Mass on Monday’s
URL:https://www.stpetercatholicchurch.org/event/daily-mass-107/
LOCATION:Church
CATEGORIES:Mass
END:VEVENT
BEGIN:VEVENT
DTSTART;TZID=America/Chicago:20220309T080000
DTEND;TZID=America/Chicago:20220309T084500
DTSTAMP:20260421T185454
CREATED:20211104T172511Z
LAST-MODIFIED:20211109T181008Z
UID:10001511-1646812800-1646815500@www.stpetercatholicchurch.org
SUMMARY:Daily Mass
DESCRIPTION:Daily Mass: 8:00 am\nNo Mass on Monday’s
URL:https://www.stpetercatholicchurch.org/event/daily-mass-106/
LOCATION:Church
CATEGORIES:Mass
END:VEVENT
BEGIN:VEVENT
DTSTART;TZID=America/Chicago:20220308T080000
DTEND;TZID=America/Chicago:20220308T084500
DTSTAMP:20260421T185454
CREATED:20211104T172511Z
LAST-MODIFIED:20211109T181008Z
UID:10001453-1646726400-1646729100@www.stpetercatholicchurch.org
SUMMARY:Daily Mass
DESCRIPTION:Daily Mass: 8:00 am\nNo Mass on Monday’s
URL:https://www.stpetercatholicchurch.org/event/daily-mass-105/
LOCATION:Church
CATEGORIES:Mass
END:VEVENT
BEGIN:VEVENT
DTSTART;TZID=America/Chicago:20220306T064500
DTEND;TZID=America/Chicago:20220306T070000
DTSTAMP:20260421T185454
CREATED:20211102T171007Z
LAST-MODIFIED:20211109T181008Z
UID:10001208-1646549100-1646550000@www.stpetercatholicchurch.org
SUMMARY:Benediction
DESCRIPTION:Benediction of the Holy Eucharist
URL:https://www.stpetercatholicchurch.org/event/benediction-27/
LOCATION:Church
CATEGORIES:Parish Events,Special Events
END:VEVENT
BEGIN:VEVENT
DTSTART;TZID=America/Chicago:20220306T000000
DTEND;TZID=America/Chicago:20220307T000000
DTSTAMP:20260421T185454
CREATED:20211101T165509Z
LAST-MODIFIED:20211109T181008Z
UID:10001206-1646524800-1646611200@www.stpetercatholicchurch.org
SUMMARY:Sunday Masses
DESCRIPTION:7:00 am\,\n9:00 am &\n11:00 am
URL:https://www.stpetercatholicchurch.org/event/sunday-masses-27/
LOCATION:Church
CATEGORIES:Mass
END:VEVENT
BEGIN:VEVENT
DTSTART;TZID=America/Chicago:20220305T160000
DTEND;TZID=America/Chicago:20220305T171500
DTSTAMP:20260421T185454
CREATED:20211031T165505Z
LAST-MODIFIED:20211109T181007Z
UID:10001203-1646496000-1646500500@www.stpetercatholicchurch.org
SUMMARY:Mass
DESCRIPTION:
URL:https://www.stpetercatholicchurch.org/event/mass-27/
LOCATION:Church
CATEGORIES:Mass
END:VEVENT
BEGIN:VEVENT
DTSTART;TZID=America/Chicago:20220304T190000
DTEND;TZID=America/Chicago:20220304T194500
DTSTAMP:20260421T185454
CREATED:20211030T164006Z
LAST-MODIFIED:20211109T181007Z
UID:10001200-1646420400-1646423100@www.stpetercatholicchurch.org
SUMMARY:Stations of the Cross
DESCRIPTION:
URL:https://www.stpetercatholicchurch.org/event/stations-of-the-cross-27/
LOCATION:Church
CATEGORIES:Parish Events,Special Events
END:VEVENT
BEGIN:VEVENT
DTSTART;TZID=America/Chicago:20220304T080000
DTEND;TZID=America/Chicago:20220304T084500
DTSTAMP:20260421T185454
CREATED:20211030T164006Z
LAST-MODIFIED:20211109T181007Z
UID:10001199-1646380800-1646383500@www.stpetercatholicchurch.org
SUMMARY:Daily Mass
DESCRIPTION:Daily Mass: 8:00 am\nNo Mass on Monday’s
URL:https://www.stpetercatholicchurch.org/event/daily-mass-104/
LOCATION:Church
CATEGORIES:Mass
END:VEVENT
BEGIN:VEVENT
DTSTART;TZID=America/Chicago:20220303T080000
DTEND;TZID=America/Chicago:20220303T084500
DTSTAMP:20260421T185454
CREATED:20211022T162506Z
LAST-MODIFIED:20211109T181007Z
UID:10001039-1646294400-1646297100@www.stpetercatholicchurch.org
SUMMARY:Daily Mass
DESCRIPTION:Daily Mass: 8:00 am\nNo Mass on Monday’s
URL:https://www.stpetercatholicchurch.org/event/daily-mass-103/
LOCATION:Church
CATEGORIES:Mass
END:VEVENT
BEGIN:VEVENT
DTSTART;TZID=America/Chicago:20220302T080000
DTEND;TZID=America/Chicago:20220302T084500
DTSTAMP:20260421T185454
CREATED:20211022T162506Z
LAST-MODIFIED:20211109T181007Z
UID:10001037-1646208000-1646210700@www.stpetercatholicchurch.org
SUMMARY:Daily Mass
DESCRIPTION:Daily Mass: 8:00 am\nNo Mass on Monday’s
URL:https://www.stpetercatholicchurch.org/event/daily-mass-102/
LOCATION:Church
CATEGORIES:Mass
END:VEVENT
BEGIN:VEVENT
DTSTART;TZID=America/Chicago:20220301T080000
DTEND;TZID=America/Chicago:20220301T084500
DTSTAMP:20260421T185454
CREATED:20211022T162506Z
LAST-MODIFIED:20211109T181007Z
UID:10001035-1646121600-1646124300@www.stpetercatholicchurch.org
SUMMARY:Daily Mass
DESCRIPTION:Daily Mass: 8:00 am\nNo Mass on Monday’s
URL:https://www.stpetercatholicchurch.org/event/daily-mass-101/
LOCATION:Church
CATEGORIES:Mass
END:VEVENT
BEGIN:VEVENT
DTSTART;TZID=America/Chicago:20220227T064500
DTEND;TZID=America/Chicago:20220227T070000
DTSTAMP:20260421T185454
CREATED:20211024T162505Z
LAST-MODIFIED:20211109T181006Z
UID:10001193-1645944300-1645945200@www.stpetercatholicchurch.org
SUMMARY:Benediction
DESCRIPTION:Benediction of the Holy Eucharist
URL:https://www.stpetercatholicchurch.org/event/benediction-26/
LOCATION:Church
CATEGORIES:Parish Events,Special Events
END:VEVENT
BEGIN:VEVENT
DTSTART;TZID=America/Chicago:20220227T000000
DTEND;TZID=America/Chicago:20220228T000000
DTSTAMP:20260421T185454
CREATED:20211025T162506Z
LAST-MODIFIED:20211109T181006Z
UID:10001194-1645920000-1646006400@www.stpetercatholicchurch.org
SUMMARY:Sunday Masses
DESCRIPTION:7:00 am\,\n9:00 am &\n11:00 am
URL:https://www.stpetercatholicchurch.org/event/sunday-masses-26/
LOCATION:Church
CATEGORIES:Mass
END:VEVENT
BEGIN:VEVENT
DTSTART;TZID=America/Chicago:20220226T160000
DTEND;TZID=America/Chicago:20220226T171500
DTSTAMP:20260421T185454
CREATED:20211024T162505Z
LAST-MODIFIED:20211109T181006Z
UID:10001192-1645891200-1645895700@www.stpetercatholicchurch.org
SUMMARY:Mass
DESCRIPTION:
URL:https://www.stpetercatholicchurch.org/event/mass-26/
LOCATION:Church
CATEGORIES:Mass
END:VEVENT
BEGIN:VEVENT
DTSTART;TZID=America/Chicago:20220225T190000
DTEND;TZID=America/Chicago:20220225T194500
DTSTAMP:20260421T185454
CREATED:20211022T162506Z
LAST-MODIFIED:20211109T181006Z
UID:10001191-1645815600-1645818300@www.stpetercatholicchurch.org
SUMMARY:Stations of the Cross
DESCRIPTION:
URL:https://www.stpetercatholicchurch.org/event/stations-of-the-cross-26/
LOCATION:Church
CATEGORIES:Parish Events,Special Events
END:VEVENT
BEGIN:VEVENT
DTSTART;TZID=America/Chicago:20220225T080000
DTEND;TZID=America/Chicago:20220225T084500
DTSTAMP:20260421T185454
CREATED:20211022T162505Z
LAST-MODIFIED:20211109T181006Z
UID:10001190-1645776000-1645778700@www.stpetercatholicchurch.org
SUMMARY:Daily Mass
DESCRIPTION:Daily Mass: 8:00 am\nNo Mass on Monday’s
URL:https://www.stpetercatholicchurch.org/event/daily-mass-100/
LOCATION:Church
CATEGORIES:Mass
END:VEVENT
BEGIN:VEVENT
DTSTART;TZID=America/Chicago:20220224T080000
DTEND;TZID=America/Chicago:20220224T084500
DTSTAMP:20260421T185454
CREATED:20211022T162505Z
LAST-MODIFIED:20211109T181005Z
UID:10001189-1645689600-1645692300@www.stpetercatholicchurch.org
SUMMARY:Daily Mass
DESCRIPTION:Daily Mass: 8:00 am\nNo Mass on Monday’s
URL:https://www.stpetercatholicchurch.org/event/daily-mass-99/
LOCATION:Church
CATEGORIES:Mass
END:VEVENT
BEGIN:VEVENT
DTSTART;TZID=America/Chicago:20220223T080000
DTEND;TZID=America/Chicago:20220223T084500
DTSTAMP:20260421T185454
CREATED:20211021T161108Z
LAST-MODIFIED:20211109T181005Z
UID:10001188-1645603200-1645605900@www.stpetercatholicchurch.org
SUMMARY:Daily Mass
DESCRIPTION:Daily Mass: 8:00 am\nNo Mass on Monday’s
URL:https://www.stpetercatholicchurch.org/event/daily-mass-98/
LOCATION:Church
CATEGORIES:Mass
END:VEVENT
BEGIN:VEVENT
DTSTART;TZID=America/Chicago:20220222T080000
DTEND;TZID=America/Chicago:20220222T084500
DTSTAMP:20260421T185454
CREATED:20211020T155512Z
LAST-MODIFIED:20211109T181006Z
UID:10001185-1645516800-1645519500@www.stpetercatholicchurch.org
SUMMARY:Daily Mass
DESCRIPTION:Daily Mass: 8:00 am\nNo Mass on Monday’s
URL:https://www.stpetercatholicchurch.org/event/daily-mass-97/
LOCATION:Church
CATEGORIES:Mass
END:VEVENT
BEGIN:VEVENT
DTSTART;TZID=America/Chicago:20220220T064500
DTEND;TZID=America/Chicago:20220220T070000
DTSTAMP:20260421T185454
CREATED:20211020T155512Z
LAST-MODIFIED:20211109T181005Z
UID:10001181-1645339500-1645340400@www.stpetercatholicchurch.org
SUMMARY:Benediction
DESCRIPTION:Benediction of the Holy Eucharist
URL:https://www.stpetercatholicchurch.org/event/benediction-25/
LOCATION:Church
CATEGORIES:Parish Events,Special Events
END:VEVENT
BEGIN:VEVENT
DTSTART;TZID=America/Chicago:20220220T000000
DTEND;TZID=America/Chicago:20220221T000000
DTSTAMP:20260421T185454
CREATED:20211020T155512Z
LAST-MODIFIED:20211109T181005Z
UID:10001183-1645315200-1645401600@www.stpetercatholicchurch.org
SUMMARY:Sunday Masses
DESCRIPTION:7:00 am\,\n9:00 am &\n11:00 am
URL:https://www.stpetercatholicchurch.org/event/sunday-masses-25/
LOCATION:Church
CATEGORIES:Mass
END:VEVENT
BEGIN:VEVENT
DTSTART;TZID=America/Chicago:20220219T160000
DTEND;TZID=America/Chicago:20220219T171500
DTSTAMP:20260421T185454
CREATED:20211020T155511Z
LAST-MODIFIED:20211109T181005Z
UID:10001029-1645286400-1645290900@www.stpetercatholicchurch.org
SUMMARY:Mass
DESCRIPTION:
URL:https://www.stpetercatholicchurch.org/event/mass-25/
LOCATION:Church
CATEGORIES:Mass
END:VEVENT
BEGIN:VEVENT
DTSTART;TZID=America/Chicago:20220218T190000
DTEND;TZID=America/Chicago:20220218T194500
DTSTAMP:20260421T185454
CREATED:20211020T155511Z
LAST-MODIFIED:20211109T181004Z
UID:10001026-1645210800-1645213500@www.stpetercatholicchurch.org
SUMMARY:Stations of the Cross
DESCRIPTION:
URL:https://www.stpetercatholicchurch.org/event/stations-of-the-cross-25/
LOCATION:Church
CATEGORIES:Parish Events,Special Events
END:VEVENT
BEGIN:VEVENT
DTSTART;TZID=America/Chicago:20220218T080000
DTEND;TZID=America/Chicago:20220218T084500
DTSTAMP:20260421T185454
CREATED:20211020T155511Z
LAST-MODIFIED:20211109T181004Z
UID:10001025-1645171200-1645173900@www.stpetercatholicchurch.org
SUMMARY:Daily Mass
DESCRIPTION:Daily Mass: 8:00 am\nNo Mass on Monday’s
URL:https://www.stpetercatholicchurch.org/event/daily-mass-96/
LOCATION:Church
CATEGORIES:Mass
END:VEVENT
BEGIN:VEVENT
DTSTART;TZID=America/Chicago:20220217T080000
DTEND;TZID=America/Chicago:20220217T084500
DTSTAMP:20260421T185454
CREATED:20211020T155511Z
LAST-MODIFIED:20211109T181004Z
UID:10001022-1645084800-1645087500@www.stpetercatholicchurch.org
SUMMARY:Daily Mass
DESCRIPTION:Daily Mass: 8:00 am\nNo Mass on Monday’s
URL:https://www.stpetercatholicchurch.org/event/daily-mass-95/
LOCATION:Church
CATEGORIES:Mass
END:VEVENT
END:VCALENDAR