BEGIN:VCALENDAR
VERSION:2.0
PRODID:-//St. Peter&#039;s Church - ECPv6.15.20//NONSGML v1.0//EN
CALSCALE:GREGORIAN
METHOD:PUBLISH
X-WR-CALNAME:St. Peter&#039;s Church
X-ORIGINAL-URL:https://www.stpetercatholicchurch.org
X-WR-CALDESC:Events for St. Peter&#039;s Church
REFRESH-INTERVAL;VALUE=DURATION:PT1H
X-Robots-Tag:noindex
X-PUBLISHED-TTL:PT1H
BEGIN:VTIMEZONE
TZID:America/Chicago
BEGIN:DAYLIGHT
TZOFFSETFROM:-0600
TZOFFSETTO:-0500
TZNAME:CDT
DTSTART:20200308T080000
END:DAYLIGHT
BEGIN:STANDARD
TZOFFSETFROM:-0500
TZOFFSETTO:-0600
TZNAME:CST
DTSTART:20201101T070000
END:STANDARD
BEGIN:DAYLIGHT
TZOFFSETFROM:-0600
TZOFFSETTO:-0500
TZNAME:CDT
DTSTART:20210314T080000
END:DAYLIGHT
BEGIN:STANDARD
TZOFFSETFROM:-0500
TZOFFSETTO:-0600
TZNAME:CST
DTSTART:20211107T070000
END:STANDARD
BEGIN:DAYLIGHT
TZOFFSETFROM:-0600
TZOFFSETTO:-0500
TZNAME:CDT
DTSTART:20220313T080000
END:DAYLIGHT
BEGIN:STANDARD
TZOFFSETFROM:-0500
TZOFFSETTO:-0600
TZNAME:CST
DTSTART:20221106T070000
END:STANDARD
BEGIN:DAYLIGHT
TZOFFSETFROM:-0600
TZOFFSETTO:-0500
TZNAME:CDT
DTSTART:20230312T080000
END:DAYLIGHT
BEGIN:STANDARD
TZOFFSETFROM:-0500
TZOFFSETTO:-0600
TZNAME:CST
DTSTART:20231105T070000
END:STANDARD
END:VTIMEZONE
BEGIN:VEVENT
DTSTART;TZID=America/Chicago:20211111T133000
DTEND;TZID=America/Chicago:20211111T150000
DTSTAMP:20260425T222017
CREATED:20211012T145409Z
LAST-MODIFIED:20211109T180903Z
UID:10000950-1636637400-1636642800@www.stpetercatholicchurch.org
SUMMARY:Prayers & Squares
DESCRIPTION:
URL:https://www.stpetercatholicchurch.org/event/prayers-squares-3/
LOCATION:Parish Hall
CATEGORIES:Small Groups
END:VEVENT
BEGIN:VEVENT
DTSTART;TZID=America/Chicago:20211111T190000
DTEND;TZID=America/Chicago:20211111T210000
DTSTAMP:20260425T222017
CREATED:20211013T150907Z
LAST-MODIFIED:20211109T180905Z
UID:10000952-1636657200-1636664400@www.stpetercatholicchurch.org
SUMMARY:Adult Choir Rehearsal
DESCRIPTION:(9:00 & 11:00 am Mass) – Choir Rehearsal – 7:00 pm
URL:https://www.stpetercatholicchurch.org/event/adult-choir-rehearsal-10/
LOCATION:Church Choir Loft
CATEGORIES:Small Groups
END:VEVENT
BEGIN:VEVENT
DTSTART;TZID=America/Chicago:20211115T190000
DTEND;TZID=America/Chicago:20211115T203000
DTSTAMP:20260425T222017
CREATED:20211017T152407Z
LAST-MODIFIED:20211109T180906Z
UID:10000965-1637002800-1637008200@www.stpetercatholicchurch.org
SUMMARY:S.V.d.P
DESCRIPTION:
URL:https://www.stpetercatholicchurch.org/event/s-v-d-p-6/
LOCATION:Parish Office Upper Room Classroom
CATEGORIES:Small Groups
END:VEVENT
BEGIN:VEVENT
DTSTART;TZID=America/Chicago:20211118T190000
DTEND;TZID=America/Chicago:20211118T210000
DTSTAMP:20260425T222017
CREATED:20211020T155407Z
LAST-MODIFIED:20211109T180906Z
UID:10000969-1637262000-1637269200@www.stpetercatholicchurch.org
SUMMARY:Adult Choir Rehearsal
DESCRIPTION:(9:00 & 11:00 am Mass) – Choir Rehearsal – 7:00 pm
URL:https://www.stpetercatholicchurch.org/event/adult-choir-rehearsal-11/
LOCATION:Church Choir Loft
CATEGORIES:Small Groups
END:VEVENT
BEGIN:VEVENT
DTSTART;TZID=America/Chicago:20211123T190000
DTEND;TZID=America/Chicago:20211123T203000
DTSTAMP:20260425T222017
CREATED:20211020T155408Z
LAST-MODIFIED:20211109T180907Z
UID:10000981-1637694000-1637699400@www.stpetercatholicchurch.org
SUMMARY:K of C Mtg
DESCRIPTION:
URL:https://www.stpetercatholicchurch.org/event/k-of-c-mtg-6/
LOCATION:Parish Hall
CATEGORIES:Small Groups
END:VEVENT
BEGIN:VEVENT
DTSTART;TZID=America/Chicago:20211125T190000
DTEND;TZID=America/Chicago:20211125T210000
DTSTAMP:20260425T222017
CREATED:20211020T155409Z
LAST-MODIFIED:20211109T180907Z
UID:10000984-1637866800-1637874000@www.stpetercatholicchurch.org
SUMMARY:Adult Choir Rehearsal
DESCRIPTION:(9:00 & 11:00 am Mass) – Choir Rehearsal – 7:00 pm
URL:https://www.stpetercatholicchurch.org/event/adult-choir-rehearsal-12/
LOCATION:Church Choir Loft
CATEGORIES:Small Groups
END:VEVENT
BEGIN:VEVENT
DTSTART;TZID=America/Chicago:20211130T100000
DTEND;TZID=America/Chicago:20211130T120000
DTSTAMP:20260425T222017
CREATED:20211020T155410Z
LAST-MODIFIED:20211109T180908Z
UID:10000894-1638266400-1638273600@www.stpetercatholicchurch.org
SUMMARY:Peace of Heart Forum
DESCRIPTION:
URL:https://www.stpetercatholicchurch.org/event/peace-of-heart-forum-3/
LOCATION:Parish Hall
CATEGORIES:Small Groups
END:VEVENT
BEGIN:VEVENT
DTSTART;TZID=America/Chicago:20211202T190000
DTEND;TZID=America/Chicago:20211202T210000
DTSTAMP:20260425T222017
CREATED:20211020T155410Z
LAST-MODIFIED:20211109T180908Z
UID:10000988-1638471600-1638478800@www.stpetercatholicchurch.org
SUMMARY:Adult Choir Rehearsal
DESCRIPTION:(9:00 & 11:00 am Mass) – Choir Rehearsal – 7:00 pm
URL:https://www.stpetercatholicchurch.org/event/adult-choir-rehearsal-13/
LOCATION:Church Choir Loft
CATEGORIES:Small Groups
END:VEVENT
BEGIN:VEVENT
DTSTART;TZID=America/Chicago:20211207T190000
DTEND;TZID=America/Chicago:20211207T210000
DTSTAMP:20260425T222017
CREATED:20211020T155412Z
LAST-MODIFIED:20211109T180909Z
UID:10001052-1638903600-1638910800@www.stpetercatholicchurch.org
SUMMARY:Women's Ministry Meetings
DESCRIPTION:
URL:https://www.stpetercatholicchurch.org/event/womens-ministry-meetings-4/
LOCATION:Parish Hall
CATEGORIES:Small Groups
END:VEVENT
BEGIN:VEVENT
DTSTART;TZID=America/Chicago:20211209T133000
DTEND;TZID=America/Chicago:20211209T150000
DTSTAMP:20260425T222017
CREATED:20211020T155412Z
LAST-MODIFIED:20211109T180909Z
UID:10001055-1639056600-1639062000@www.stpetercatholicchurch.org
SUMMARY:Prayers & Squares
DESCRIPTION:
URL:https://www.stpetercatholicchurch.org/event/prayers-squares-4/
LOCATION:Parish Hall
CATEGORIES:Small Groups
END:VEVENT
BEGIN:VEVENT
DTSTART;TZID=America/Chicago:20211209T190000
DTEND;TZID=America/Chicago:20211209T210000
DTSTAMP:20260425T222017
CREATED:20211020T155412Z
LAST-MODIFIED:20211109T180910Z
UID:10001056-1639076400-1639083600@www.stpetercatholicchurch.org
SUMMARY:Adult Choir Rehearsal
DESCRIPTION:(9:00 & 11:00 am Mass) – Choir Rehearsal – 7:00 pm
URL:https://www.stpetercatholicchurch.org/event/adult-choir-rehearsal-14/
LOCATION:Church Choir Loft
CATEGORIES:Small Groups
END:VEVENT
BEGIN:VEVENT
DTSTART;TZID=America/Chicago:20211214T190000
DTEND;TZID=America/Chicago:20211214T210000
DTSTAMP:20260425T222017
CREATED:20211020T155414Z
LAST-MODIFIED:20211109T180911Z
UID:10001069-1639508400-1639515600@www.stpetercatholicchurch.org
SUMMARY:K of C Mtg
DESCRIPTION:
URL:https://www.stpetercatholicchurch.org/event/k-of-c-mtg-7/
LOCATION:Parish Hall
CATEGORIES:Small Groups
END:VEVENT
BEGIN:VEVENT
DTSTART;TZID=America/Chicago:20211216T190000
DTEND;TZID=America/Chicago:20211216T210000
DTSTAMP:20260425T222017
CREATED:20211020T155414Z
LAST-MODIFIED:20211109T180911Z
UID:10001072-1639681200-1639688400@www.stpetercatholicchurch.org
SUMMARY:Adult Choir Rehearsal
DESCRIPTION:(9:00 & 11:00 am Mass) – Choir Rehearsal – 7:00 pm
URL:https://www.stpetercatholicchurch.org/event/adult-choir-rehearsal-15/
LOCATION:Church Choir Loft
CATEGORIES:Small Groups
END:VEVENT
BEGIN:VEVENT
DTSTART;TZID=America/Chicago:20211220T190000
DTEND;TZID=America/Chicago:20211220T203000
DTSTAMP:20260425T222017
CREATED:20211020T155415Z
LAST-MODIFIED:20211109T180912Z
UID:10001082-1640026800-1640032200@www.stpetercatholicchurch.org
SUMMARY:S.V.d.P
DESCRIPTION:
URL:https://www.stpetercatholicchurch.org/event/s-v-d-p-8/
LOCATION:Parish Office Upper Room Classroom
CATEGORIES:Small Groups
END:VEVENT
BEGIN:VEVENT
DTSTART;TZID=America/Chicago:20211223T190000
DTEND;TZID=America/Chicago:20211223T210000
DTSTAMP:20260425T222017
CREATED:20211020T155416Z
LAST-MODIFIED:20211109T180912Z
UID:10001087-1640286000-1640293200@www.stpetercatholicchurch.org
SUMMARY:Adult Choir Rehearsal
DESCRIPTION:(9:00 & 11:00 am Mass) – Choir Rehearsal – 7:00 pm
URL:https://www.stpetercatholicchurch.org/event/adult-choir-rehearsal-16/
LOCATION:Church Choir Loft
CATEGORIES:Small Groups
END:VEVENT
BEGIN:VEVENT
DTSTART;TZID=America/Chicago:20211228T100000
DTEND;TZID=America/Chicago:20211228T120000
DTSTAMP:20260425T222017
CREATED:20211020T155418Z
LAST-MODIFIED:20211109T180913Z
UID:10001099-1640685600-1640692800@www.stpetercatholicchurch.org
SUMMARY:Peace of Heart Forum
DESCRIPTION:
URL:https://www.stpetercatholicchurch.org/event/peace-of-heart-forum-4/
LOCATION:Parish Hall
CATEGORIES:Small Groups
END:VEVENT
BEGIN:VEVENT
DTSTART;TZID=America/Chicago:20211228T190000
DTEND;TZID=America/Chicago:20211228T203000
DTSTAMP:20260425T222017
CREATED:20211020T155418Z
LAST-MODIFIED:20211109T180913Z
UID:10001100-1640718000-1640723400@www.stpetercatholicchurch.org
SUMMARY:K of C Mtg
DESCRIPTION:
URL:https://www.stpetercatholicchurch.org/event/k-of-c-mtg-8/
LOCATION:Parish Hall
CATEGORIES:Small Groups
END:VEVENT
BEGIN:VEVENT
DTSTART;TZID=America/Chicago:20211230T190000
DTEND;TZID=America/Chicago:20211230T210000
DTSTAMP:20260425T222017
CREATED:20211020T155418Z
LAST-MODIFIED:20211109T180914Z
UID:10001101-1640890800-1640898000@www.stpetercatholicchurch.org
SUMMARY:Adult Choir Rehearsal
DESCRIPTION:(9:00 & 11:00 am Mass) – Choir Rehearsal – 7:00 pm
URL:https://www.stpetercatholicchurch.org/event/adult-choir-rehearsal-17/
LOCATION:Church Choir Loft
CATEGORIES:Small Groups
END:VEVENT
BEGIN:VEVENT
DTSTART;TZID=America/Chicago:20220104T190000
DTEND;TZID=America/Chicago:20220104T210000
DTSTAMP:20260425T222017
CREATED:20211020T155420Z
LAST-MODIFIED:20211109T180915Z
UID:10001112-1641322800-1641330000@www.stpetercatholicchurch.org
SUMMARY:Women's Ministry Meetings
DESCRIPTION:
URL:https://www.stpetercatholicchurch.org/event/womens-ministry-meetings-5/
LOCATION:Parish Hall
CATEGORIES:Small Groups
END:VEVENT
BEGIN:VEVENT
DTSTART;TZID=America/Chicago:20220106T190000
DTEND;TZID=America/Chicago:20220106T210000
DTSTAMP:20260425T222017
CREATED:20211020T155420Z
LAST-MODIFIED:20211109T180915Z
UID:10001115-1641495600-1641502800@www.stpetercatholicchurch.org
SUMMARY:Adult Choir Rehearsal
DESCRIPTION:(9:00 & 11:00 am Mass) – Choir Rehearsal – 7:00 pm
URL:https://www.stpetercatholicchurch.org/event/adult-choir-rehearsal-18/
LOCATION:Church Choir Loft
CATEGORIES:Small Groups
END:VEVENT
BEGIN:VEVENT
DTSTART;TZID=America/Chicago:20220111T190000
DTEND;TZID=America/Chicago:20220111T210000
DTSTAMP:20260425T222017
CREATED:20211020T155421Z
LAST-MODIFIED:20211109T180916Z
UID:10001127-1641927600-1641934800@www.stpetercatholicchurch.org
SUMMARY:K of C Mtg
DESCRIPTION:
URL:https://www.stpetercatholicchurch.org/event/k-of-c-mtg-9/
LOCATION:Parish Hall
CATEGORIES:Small Groups
END:VEVENT
BEGIN:VEVENT
DTSTART;TZID=America/Chicago:20220113T133000
DTEND;TZID=America/Chicago:20220113T150000
DTSTAMP:20260425T222017
CREATED:20211020T155503Z
LAST-MODIFIED:20211109T180916Z
UID:10001130-1642080600-1642086000@www.stpetercatholicchurch.org
SUMMARY:Prayers & Squares
DESCRIPTION:
URL:https://www.stpetercatholicchurch.org/event/prayers-squares-5/
LOCATION:Parish Hall
CATEGORIES:Small Groups
END:VEVENT
BEGIN:VEVENT
DTSTART;TZID=America/Chicago:20220113T190000
DTEND;TZID=America/Chicago:20220113T210000
DTSTAMP:20260425T222017
CREATED:20211020T155503Z
LAST-MODIFIED:20211109T180916Z
UID:10001131-1642100400-1642107600@www.stpetercatholicchurch.org
SUMMARY:Adult Choir Rehearsal
DESCRIPTION:(9:00 & 11:00 am Mass) – Choir Rehearsal – 7:00 pm
URL:https://www.stpetercatholicchurch.org/event/adult-choir-rehearsal-19/
LOCATION:Church Choir Loft
CATEGORIES:Small Groups
END:VEVENT
BEGIN:VEVENT
DTSTART;TZID=America/Chicago:20220117T190000
DTEND;TZID=America/Chicago:20220117T203000
DTSTAMP:20260425T222017
CREATED:20211020T155504Z
LAST-MODIFIED:20211109T180917Z
UID:10001143-1642446000-1642451400@www.stpetercatholicchurch.org
SUMMARY:S.V.d.P
DESCRIPTION:
URL:https://www.stpetercatholicchurch.org/event/s-v-d-p-10/
LOCATION:Parish Office Upper Room Classroom
CATEGORIES:Small Groups
END:VEVENT
BEGIN:VEVENT
DTSTART;TZID=America/Chicago:20220120T190000
DTEND;TZID=America/Chicago:20220120T210000
DTSTAMP:20260425T222017
CREATED:20211020T155504Z
LAST-MODIFIED:20211109T180918Z
UID:10001147-1642705200-1642712400@www.stpetercatholicchurch.org
SUMMARY:Adult Choir Rehearsal
DESCRIPTION:(9:00 & 11:00 am Mass) – Choir Rehearsal – 7:00 pm
URL:https://www.stpetercatholicchurch.org/event/adult-choir-rehearsal-20/
LOCATION:Church Choir Loft
CATEGORIES:Small Groups
END:VEVENT
BEGIN:VEVENT
DTSTART;TZID=America/Chicago:20220125T100000
DTEND;TZID=America/Chicago:20220125T120000
DTSTAMP:20260425T222017
CREATED:20211020T155506Z
LAST-MODIFIED:20211109T180919Z
UID:10001151-1643104800-1643112000@www.stpetercatholicchurch.org
SUMMARY:Peace of Heart Forum
DESCRIPTION:
URL:https://www.stpetercatholicchurch.org/event/peace-of-heart-forum-5/
LOCATION:Parish Hall
CATEGORIES:Small Groups
END:VEVENT
BEGIN:VEVENT
DTSTART;TZID=America/Chicago:20220125T190000
DTEND;TZID=America/Chicago:20220125T203000
DTSTAMP:20260425T222017
CREATED:20211020T155506Z
LAST-MODIFIED:20211109T180919Z
UID:10001152-1643137200-1643142600@www.stpetercatholicchurch.org
SUMMARY:K of C Mtg
DESCRIPTION:
URL:https://www.stpetercatholicchurch.org/event/k-of-c-mtg-10/
LOCATION:Parish Hall
CATEGORIES:Small Groups
END:VEVENT
BEGIN:VEVENT
DTSTART;TZID=America/Chicago:20220127T190000
DTEND;TZID=America/Chicago:20220127T210000
DTSTAMP:20260425T222017
CREATED:20211020T155506Z
LAST-MODIFIED:20211109T180919Z
UID:10001155-1643310000-1643317200@www.stpetercatholicchurch.org
SUMMARY:Adult Choir Rehearsal
DESCRIPTION:(9:00 & 11:00 am Mass) – Choir Rehearsal – 7:00 pm
URL:https://www.stpetercatholicchurch.org/event/adult-choir-rehearsal-21/
LOCATION:Church Choir Loft
CATEGORIES:Small Groups
END:VEVENT
BEGIN:VEVENT
DTSTART;TZID=America/Chicago:20220201T190000
DTEND;TZID=America/Chicago:20220201T210000
DTSTAMP:20260425T222017
CREATED:20211020T155507Z
LAST-MODIFIED:20211109T180920Z
UID:10001006-1643742000-1643749200@www.stpetercatholicchurch.org
SUMMARY:Women's Ministry Meetings
DESCRIPTION:
URL:https://www.stpetercatholicchurch.org/event/womens-ministry-meetings-6/
LOCATION:Parish Hall
CATEGORIES:Small Groups
END:VEVENT
BEGIN:VEVENT
DTSTART;TZID=America/Chicago:20220203T190000
DTEND;TZID=America/Chicago:20220203T210000
DTSTAMP:20260425T222017
CREATED:20211020T155508Z
LAST-MODIFIED:20211109T180921Z
UID:10001009-1643914800-1643922000@www.stpetercatholicchurch.org
SUMMARY:Adult Choir Rehearsal
DESCRIPTION:(9:00 & 11:00 am Mass) – Choir Rehearsal – 7:00 pm
URL:https://www.stpetercatholicchurch.org/event/adult-choir-rehearsal-22/
LOCATION:Church Choir Loft
CATEGORIES:Small Groups
END:VEVENT
END:VCALENDAR