BEGIN:VCALENDAR
VERSION:2.0
PRODID:-//St. Peter&#039;s Church - ECPv6.15.20//NONSGML v1.0//EN
CALSCALE:GREGORIAN
METHOD:PUBLISH
X-WR-CALNAME:St. Peter&#039;s Church
X-ORIGINAL-URL:https://www.stpetercatholicchurch.org
X-WR-CALDESC:Events for St. Peter&#039;s Church
REFRESH-INTERVAL;VALUE=DURATION:PT1H
X-Robots-Tag:noindex
X-PUBLISHED-TTL:PT1H
BEGIN:VTIMEZONE
TZID:America/Chicago
BEGIN:DAYLIGHT
TZOFFSETFROM:-0600
TZOFFSETTO:-0500
TZNAME:CDT
DTSTART:20210314T080000
END:DAYLIGHT
BEGIN:STANDARD
TZOFFSETFROM:-0500
TZOFFSETTO:-0600
TZNAME:CST
DTSTART:20211107T070000
END:STANDARD
BEGIN:DAYLIGHT
TZOFFSETFROM:-0600
TZOFFSETTO:-0500
TZNAME:CDT
DTSTART:20220313T080000
END:DAYLIGHT
BEGIN:STANDARD
TZOFFSETFROM:-0500
TZOFFSETTO:-0600
TZNAME:CST
DTSTART:20221106T070000
END:STANDARD
BEGIN:DAYLIGHT
TZOFFSETFROM:-0600
TZOFFSETTO:-0500
TZNAME:CDT
DTSTART:20230312T080000
END:DAYLIGHT
BEGIN:STANDARD
TZOFFSETFROM:-0500
TZOFFSETTO:-0600
TZNAME:CST
DTSTART:20231105T070000
END:STANDARD
END:VTIMEZONE
BEGIN:VEVENT
DTSTART;TZID=America/Chicago:20220301T190000
DTEND;TZID=America/Chicago:20220301T210000
DTSTAMP:20260425T061102
CREATED:20211028T164007Z
LAST-MODIFIED:20211109T181007Z
UID:10001196-1646161200-1646168400@www.stpetercatholicchurch.org
SUMMARY:Women's Ministry Meetings
DESCRIPTION:
URL:https://www.stpetercatholicchurch.org/event/womens-ministry-meetings-7/
LOCATION:Parish Hall
CATEGORIES:Small Groups
END:VEVENT
BEGIN:VEVENT
DTSTART;TZID=America/Chicago:20220303T190000
DTEND;TZID=America/Chicago:20220303T210000
DTSTAMP:20260425T061102
CREATED:20211030T164006Z
LAST-MODIFIED:20211109T181007Z
UID:10001197-1646334000-1646341200@www.stpetercatholicchurch.org
SUMMARY:Adult Choir Rehearsal
DESCRIPTION:(9:00 & 11:00 am Mass) – Choir Rehearsal – 7:00 pm
URL:https://www.stpetercatholicchurch.org/event/adult-choir-rehearsal-26/
LOCATION:Church Choir Loft
CATEGORIES:Small Groups
END:VEVENT
BEGIN:VEVENT
DTSTART;TZID=America/Chicago:20220308T190000
DTEND;TZID=America/Chicago:20220308T210000
DTSTAMP:20260425T061102
CREATED:20211104T172511Z
LAST-MODIFIED:20211109T181008Z
UID:10001510-1646766000-1646773200@www.stpetercatholicchurch.org
SUMMARY:K of C Mtg
DESCRIPTION:
URL:https://www.stpetercatholicchurch.org/event/k-of-c-mtg-13/
LOCATION:Parish Hall
CATEGORIES:Small Groups
END:VEVENT
BEGIN:VEVENT
DTSTART;TZID=America/Chicago:20220310T133000
DTEND;TZID=America/Chicago:20220310T150000
DTSTAMP:20260425T061102
CREATED:20211106T174012Z
LAST-MODIFIED:20211109T181008Z
UID:10001514-1646919000-1646924400@www.stpetercatholicchurch.org
SUMMARY:Prayers & Squares
DESCRIPTION:
URL:https://www.stpetercatholicchurch.org/event/prayers-squares-7/
LOCATION:Parish Hall
CATEGORIES:Small Groups
END:VEVENT
BEGIN:VEVENT
DTSTART;TZID=America/Chicago:20220310T190000
DTEND;TZID=America/Chicago:20220310T210000
DTSTAMP:20260425T061102
CREATED:20211106T174012Z
LAST-MODIFIED:20211109T181009Z
UID:10001518-1646938800-1646946000@www.stpetercatholicchurch.org
SUMMARY:Adult Choir Rehearsal
DESCRIPTION:(9:00 & 11:00 am Mass) – Choir Rehearsal – 7:00 pm
URL:https://www.stpetercatholicchurch.org/event/adult-choir-rehearsal-27/
LOCATION:Church Choir Loft
CATEGORIES:Small Groups
END:VEVENT
END:VCALENDAR