BEGIN:VCALENDAR
VERSION:2.0
PRODID:-//St. Peter&#039;s Church - ECPv6.15.20//NONSGML v1.0//EN
CALSCALE:GREGORIAN
METHOD:PUBLISH
X-WR-CALNAME:St. Peter&#039;s Church
X-ORIGINAL-URL:https://www.stpetercatholicchurch.org
X-WR-CALDESC:Events for St. Peter&#039;s Church
REFRESH-INTERVAL;VALUE=DURATION:PT1H
X-Robots-Tag:noindex
X-PUBLISHED-TTL:PT1H
BEGIN:VTIMEZONE
TZID:America/Chicago
BEGIN:DAYLIGHT
TZOFFSETFROM:-0600
TZOFFSETTO:-0500
TZNAME:CDT
DTSTART:20200308T080000
END:DAYLIGHT
BEGIN:STANDARD
TZOFFSETFROM:-0500
TZOFFSETTO:-0600
TZNAME:CST
DTSTART:20201101T070000
END:STANDARD
BEGIN:DAYLIGHT
TZOFFSETFROM:-0600
TZOFFSETTO:-0500
TZNAME:CDT
DTSTART:20210314T080000
END:DAYLIGHT
BEGIN:STANDARD
TZOFFSETFROM:-0500
TZOFFSETTO:-0600
TZNAME:CST
DTSTART:20211107T070000
END:STANDARD
BEGIN:DAYLIGHT
TZOFFSETFROM:-0600
TZOFFSETTO:-0500
TZNAME:CDT
DTSTART:20220313T080000
END:DAYLIGHT
BEGIN:STANDARD
TZOFFSETFROM:-0500
TZOFFSETTO:-0600
TZNAME:CST
DTSTART:20221106T070000
END:STANDARD
END:VTIMEZONE
BEGIN:VEVENT
DTSTART;TZID=America/Chicago:20211102T190000
DTEND;TZID=America/Chicago:20211102T210000
DTSTAMP:20260425T130543
CREATED:20211004T202407Z
LAST-MODIFIED:20211102T170902Z
UID:10000921-1635879600-1635886800@www.stpetercatholicchurch.org
SUMMARY:Women's Ministry Meetings
DESCRIPTION:
URL:https://www.stpetercatholicchurch.org/event/womens-ministry-meetings-3/
LOCATION:Parish Hall
CATEGORIES:Small Groups
END:VEVENT
BEGIN:VEVENT
DTSTART;TZID=America/Chicago:20211104T190000
DTEND;TZID=America/Chicago:20211104T210000
DTSTAMP:20260425T130543
CREATED:20211007T142306Z
LAST-MODIFIED:20211104T172403Z
UID:10000924-1636052400-1636059600@www.stpetercatholicchurch.org
SUMMARY:Adult Choir Rehearsal
DESCRIPTION:(9:00 & 11:00 am Mass) – Choir Rehearsal – 7:00 pm
URL:https://www.stpetercatholicchurch.org/event/adult-choir-rehearsal-9/
LOCATION:Church Choir Loft
CATEGORIES:Small Groups
END:VEVENT
BEGIN:VEVENT
DTSTART;TZID=America/Chicago:20211109T190000
DTEND;TZID=America/Chicago:20211109T210000
DTSTAMP:20260425T130543
CREATED:20211011T145408Z
LAST-MODIFIED:20211109T180905Z
UID:10000943-1636484400-1636491600@www.stpetercatholicchurch.org
SUMMARY:K of C Mtg
DESCRIPTION:
URL:https://www.stpetercatholicchurch.org/event/k-of-c-mtg-5/
LOCATION:Parish Hall
CATEGORIES:Small Groups
END:VEVENT
BEGIN:VEVENT
DTSTART;TZID=America/Chicago:20211111T133000
DTEND;TZID=America/Chicago:20211111T150000
DTSTAMP:20260425T130543
CREATED:20211012T145409Z
LAST-MODIFIED:20211109T180903Z
UID:10000950-1636637400-1636642800@www.stpetercatholicchurch.org
SUMMARY:Prayers & Squares
DESCRIPTION:
URL:https://www.stpetercatholicchurch.org/event/prayers-squares-3/
LOCATION:Parish Hall
CATEGORIES:Small Groups
END:VEVENT
BEGIN:VEVENT
DTSTART;TZID=America/Chicago:20211111T190000
DTEND;TZID=America/Chicago:20211111T210000
DTSTAMP:20260425T130543
CREATED:20211013T150907Z
LAST-MODIFIED:20211109T180905Z
UID:10000952-1636657200-1636664400@www.stpetercatholicchurch.org
SUMMARY:Adult Choir Rehearsal
DESCRIPTION:(9:00 & 11:00 am Mass) – Choir Rehearsal – 7:00 pm
URL:https://www.stpetercatholicchurch.org/event/adult-choir-rehearsal-10/
LOCATION:Church Choir Loft
CATEGORIES:Small Groups
END:VEVENT
BEGIN:VEVENT
DTSTART;TZID=America/Chicago:20211115T190000
DTEND;TZID=America/Chicago:20211115T203000
DTSTAMP:20260425T130543
CREATED:20211017T152407Z
LAST-MODIFIED:20211109T180906Z
UID:10000965-1637002800-1637008200@www.stpetercatholicchurch.org
SUMMARY:S.V.d.P
DESCRIPTION:
URL:https://www.stpetercatholicchurch.org/event/s-v-d-p-6/
LOCATION:Parish Office Upper Room Classroom
CATEGORIES:Small Groups
END:VEVENT
BEGIN:VEVENT
DTSTART;TZID=America/Chicago:20211118T190000
DTEND;TZID=America/Chicago:20211118T210000
DTSTAMP:20260425T130543
CREATED:20211020T155407Z
LAST-MODIFIED:20211109T180906Z
UID:10000969-1637262000-1637269200@www.stpetercatholicchurch.org
SUMMARY:Adult Choir Rehearsal
DESCRIPTION:(9:00 & 11:00 am Mass) – Choir Rehearsal – 7:00 pm
URL:https://www.stpetercatholicchurch.org/event/adult-choir-rehearsal-11/
LOCATION:Church Choir Loft
CATEGORIES:Small Groups
END:VEVENT
BEGIN:VEVENT
DTSTART;TZID=America/Chicago:20211123T190000
DTEND;TZID=America/Chicago:20211123T203000
DTSTAMP:20260425T130543
CREATED:20211020T155408Z
LAST-MODIFIED:20211109T180907Z
UID:10000981-1637694000-1637699400@www.stpetercatholicchurch.org
SUMMARY:K of C Mtg
DESCRIPTION:
URL:https://www.stpetercatholicchurch.org/event/k-of-c-mtg-6/
LOCATION:Parish Hall
CATEGORIES:Small Groups
END:VEVENT
BEGIN:VEVENT
DTSTART;TZID=America/Chicago:20211125T190000
DTEND;TZID=America/Chicago:20211125T210000
DTSTAMP:20260425T130543
CREATED:20211020T155409Z
LAST-MODIFIED:20211109T180907Z
UID:10000984-1637866800-1637874000@www.stpetercatholicchurch.org
SUMMARY:Adult Choir Rehearsal
DESCRIPTION:(9:00 & 11:00 am Mass) – Choir Rehearsal – 7:00 pm
URL:https://www.stpetercatholicchurch.org/event/adult-choir-rehearsal-12/
LOCATION:Church Choir Loft
CATEGORIES:Small Groups
END:VEVENT
BEGIN:VEVENT
DTSTART;TZID=America/Chicago:20211130T100000
DTEND;TZID=America/Chicago:20211130T120000
DTSTAMP:20260425T130543
CREATED:20211020T155410Z
LAST-MODIFIED:20211109T180908Z
UID:10000894-1638266400-1638273600@www.stpetercatholicchurch.org
SUMMARY:Peace of Heart Forum
DESCRIPTION:
URL:https://www.stpetercatholicchurch.org/event/peace-of-heart-forum-3/
LOCATION:Parish Hall
CATEGORIES:Small Groups
END:VEVENT
END:VCALENDAR