BEGIN:VCALENDAR
VERSION:2.0
PRODID:-//St. Peter&#039;s Church - ECPv6.15.20//NONSGML v1.0//EN
CALSCALE:GREGORIAN
METHOD:PUBLISH
X-WR-CALNAME:St. Peter&#039;s Church
X-ORIGINAL-URL:https://www.stpetercatholicchurch.org
X-WR-CALDESC:Events for St. Peter&#039;s Church
REFRESH-INTERVAL;VALUE=DURATION:PT1H
X-Robots-Tag:noindex
X-PUBLISHED-TTL:PT1H
BEGIN:VTIMEZONE
TZID:America/Chicago
BEGIN:DAYLIGHT
TZOFFSETFROM:-0600
TZOFFSETTO:-0500
TZNAME:CDT
DTSTART:20200308T080000
END:DAYLIGHT
BEGIN:STANDARD
TZOFFSETFROM:-0500
TZOFFSETTO:-0600
TZNAME:CST
DTSTART:20201101T070000
END:STANDARD
BEGIN:DAYLIGHT
TZOFFSETFROM:-0600
TZOFFSETTO:-0500
TZNAME:CDT
DTSTART:20210314T080000
END:DAYLIGHT
BEGIN:STANDARD
TZOFFSETFROM:-0500
TZOFFSETTO:-0600
TZNAME:CST
DTSTART:20211107T070000
END:STANDARD
BEGIN:DAYLIGHT
TZOFFSETFROM:-0600
TZOFFSETTO:-0500
TZNAME:CDT
DTSTART:20220313T080000
END:DAYLIGHT
BEGIN:STANDARD
TZOFFSETFROM:-0500
TZOFFSETTO:-0600
TZNAME:CST
DTSTART:20221106T070000
END:STANDARD
END:VTIMEZONE
BEGIN:VEVENT
DTSTART;TZID=America/Chicago:20210907T190000
DTEND;TZID=America/Chicago:20210907T210000
DTSTAMP:20260425T163901
CREATED:20210903T155034Z
LAST-MODIFIED:20210907T163903Z
UID:10000808-1631041200-1631048400@www.stpetercatholicchurch.org
SUMMARY:Women's Ministry Meetings
DESCRIPTION:
URL:https://www.stpetercatholicchurch.org/event/womens-ministry-meetings/
LOCATION:Parish Hall
CATEGORIES:Small Groups
END:VEVENT
BEGIN:VEVENT
DTSTART;TZID=America/Chicago:20210909T133000
DTEND;TZID=America/Chicago:20210909T150000
DTSTAMP:20260425T163901
CREATED:20210903T155035Z
LAST-MODIFIED:20210909T170903Z
UID:10000811-1631194200-1631199600@www.stpetercatholicchurch.org
SUMMARY:Prayers & Squares
DESCRIPTION:
URL:https://www.stpetercatholicchurch.org/event/prayers-squares/
LOCATION:Parish Hall
CATEGORIES:Small Groups
END:VEVENT
BEGIN:VEVENT
DTSTART;TZID=America/Chicago:20210909T190000
DTEND;TZID=America/Chicago:20210909T210000
DTSTAMP:20260425T163901
CREATED:20210903T155046Z
LAST-MODIFIED:20210909T170903Z
UID:10000813-1631214000-1631221200@www.stpetercatholicchurch.org
SUMMARY:Adult Choir Rehearsal
DESCRIPTION:(9:00 & 11:00 am Mass) – Choir Rehearsal – 7:00 pm
URL:https://www.stpetercatholicchurch.org/event/adult-choir-rehearsal/
LOCATION:Church Choir Loft
CATEGORIES:Small Groups
END:VEVENT
BEGIN:VEVENT
DTSTART;TZID=America/Chicago:20210914T190000
DTEND;TZID=America/Chicago:20210914T210000
DTSTAMP:20260425T163901
CREATED:20210903T155058Z
LAST-MODIFIED:20210914T180902Z
UID:10000834-1631646000-1631653200@www.stpetercatholicchurch.org
SUMMARY:K of C Mtg
DESCRIPTION:
URL:https://www.stpetercatholicchurch.org/event/k-of-c-mtg/
LOCATION:Parish Hall
CATEGORIES:Small Groups
END:VEVENT
BEGIN:VEVENT
DTSTART;TZID=America/Chicago:20210916T190000
DTEND;TZID=America/Chicago:20210916T210000
DTSTAMP:20260425T163901
CREATED:20210903T155059Z
LAST-MODIFIED:20210916T183903Z
UID:10000839-1631818800-1631826000@www.stpetercatholicchurch.org
SUMMARY:Adult Choir Rehearsal
DESCRIPTION:(9:00 & 11:00 am Mass) – Choir Rehearsal – 7:00 pm
URL:https://www.stpetercatholicchurch.org/event/adult-choir-rehearsal-2/
LOCATION:Church Choir Loft
CATEGORIES:Small Groups
END:VEVENT
BEGIN:VEVENT
DTSTART;TZID=America/Chicago:20210920T190000
DTEND;TZID=America/Chicago:20210920T203000
DTSTAMP:20260425T163901
CREATED:20210903T155105Z
LAST-MODIFIED:20210920T185402Z
UID:10000851-1632164400-1632169800@www.stpetercatholicchurch.org
SUMMARY:S.V.d.P
DESCRIPTION:
URL:https://www.stpetercatholicchurch.org/event/s-v-d-p-2/
LOCATION:Parish Office Upper Room Classroom
CATEGORIES:Small Groups
END:VEVENT
BEGIN:VEVENT
DTSTART;TZID=America/Chicago:20210923T190000
DTEND;TZID=America/Chicago:20210923T210000
DTSTAMP:20260425T163901
CREATED:20210903T155106Z
LAST-MODIFIED:20210923T190902Z
UID:10000766-1632423600-1632430800@www.stpetercatholicchurch.org
SUMMARY:Adult Choir Rehearsal
DESCRIPTION:(9:00 & 11:00 am Mass) – Choir Rehearsal – 7:00 pm
URL:https://www.stpetercatholicchurch.org/event/adult-choir-rehearsal-3/
LOCATION:Church Choir Loft
CATEGORIES:Small Groups
END:VEVENT
BEGIN:VEVENT
DTSTART;TZID=America/Chicago:20210928T100000
DTEND;TZID=America/Chicago:20210928T120000
DTSTAMP:20260425T163901
CREATED:20210903T155107Z
LAST-MODIFIED:20210927T192403Z
UID:10000858-1632823200-1632830400@www.stpetercatholicchurch.org
SUMMARY:Peace of Heart Forum
DESCRIPTION:
URL:https://www.stpetercatholicchurch.org/event/peace-of-heart-forum/
LOCATION:Parish Hall
CATEGORIES:Small Groups
END:VEVENT
BEGIN:VEVENT
DTSTART;TZID=America/Chicago:20210928T190000
DTEND;TZID=America/Chicago:20210928T203000
DTSTAMP:20260425T163901
CREATED:20210903T155107Z
LAST-MODIFIED:20210928T192403Z
UID:10000859-1632855600-1632861000@www.stpetercatholicchurch.org
SUMMARY:K of C Mtg
DESCRIPTION:
URL:https://www.stpetercatholicchurch.org/event/k-of-c-mtg-2/
LOCATION:Parish Hall
CATEGORIES:Small Groups
END:VEVENT
BEGIN:VEVENT
DTSTART;TZID=America/Chicago:20210930T190000
DTEND;TZID=America/Chicago:20210930T210000
DTSTAMP:20260425T163901
CREATED:20210903T155107Z
LAST-MODIFIED:20210930T195403Z
UID:10000862-1633028400-1633035600@www.stpetercatholicchurch.org
SUMMARY:Adult Choir Rehearsal
DESCRIPTION:(9:00 & 11:00 am Mass) – Choir Rehearsal – 7:00 pm
URL:https://www.stpetercatholicchurch.org/event/adult-choir-rehearsal-4/
LOCATION:Church Choir Loft
CATEGORIES:Small Groups
END:VEVENT
END:VCALENDAR