BEGIN:VCALENDAR
VERSION:2.0
PRODID:-//St. Peter&#039;s Church - ECPv6.15.20//NONSGML v1.0//EN
CALSCALE:GREGORIAN
METHOD:PUBLISH
X-ORIGINAL-URL:https://www.stpetercatholicchurch.org
X-WR-CALDESC:Events for St. Peter&#039;s Church
REFRESH-INTERVAL;VALUE=DURATION:PT1H
X-Robots-Tag:noindex
X-PUBLISHED-TTL:PT1H
BEGIN:VTIMEZONE
TZID:America/Chicago
BEGIN:DAYLIGHT
TZOFFSETFROM:-0600
TZOFFSETTO:-0500
TZNAME:CDT
DTSTART:20200308T080000
END:DAYLIGHT
BEGIN:STANDARD
TZOFFSETFROM:-0500
TZOFFSETTO:-0600
TZNAME:CST
DTSTART:20201101T070000
END:STANDARD
BEGIN:DAYLIGHT
TZOFFSETFROM:-0600
TZOFFSETTO:-0500
TZNAME:CDT
DTSTART:20210314T080000
END:DAYLIGHT
BEGIN:STANDARD
TZOFFSETFROM:-0500
TZOFFSETTO:-0600
TZNAME:CST
DTSTART:20211107T070000
END:STANDARD
BEGIN:DAYLIGHT
TZOFFSETFROM:-0600
TZOFFSETTO:-0500
TZNAME:CDT
DTSTART:20220313T080000
END:DAYLIGHT
BEGIN:STANDARD
TZOFFSETFROM:-0500
TZOFFSETTO:-0600
TZNAME:CST
DTSTART:20221106T070000
END:STANDARD
BEGIN:DAYLIGHT
TZOFFSETFROM:-0600
TZOFFSETTO:-0500
TZNAME:CDT
DTSTART:20230312T080000
END:DAYLIGHT
BEGIN:STANDARD
TZOFFSETFROM:-0500
TZOFFSETTO:-0600
TZNAME:CST
DTSTART:20231105T070000
END:STANDARD
END:VTIMEZONE
BEGIN:VEVENT
DTSTART;TZID=America/Chicago:20220130T064500
DTEND;TZID=America/Chicago:20220130T070000
DTSTAMP:20260422T041013
CREATED:20211020T155507Z
LAST-MODIFIED:20211109T180920Z
UID:10001002-1643525100-1643526000@www.stpetercatholicchurch.org
SUMMARY:Benediction
DESCRIPTION:Benediction of the Holy Eucharist
URL:https://www.stpetercatholicchurch.org/event/benediction-22/
LOCATION:Church
CATEGORIES:Parish Events,Special Events
END:VEVENT
BEGIN:VEVENT
DTSTART;TZID=America/Chicago:20220129T171000
DTEND;TZID=America/Chicago:20220129T171000
DTSTAMP:20260422T041013
CREATED:20211020T155507Z
LAST-MODIFIED:20211109T180920Z
UID:10001000-1643476200-1643476200@www.stpetercatholicchurch.org
SUMMARY:All Night Adoration
DESCRIPTION:
URL:https://www.stpetercatholicchurch.org/event/all-night-adoration-22/
CATEGORIES:Parish Events,Special Events
END:VEVENT
BEGIN:VEVENT
DTSTART;TZID=America/Chicago:20220128T190000
DTEND;TZID=America/Chicago:20220128T194500
DTSTAMP:20260422T041013
CREATED:20211020T155506Z
LAST-MODIFIED:20211109T180920Z
UID:10001158-1643396400-1643399100@www.stpetercatholicchurch.org
SUMMARY:Stations of the Cross
DESCRIPTION:
URL:https://www.stpetercatholicchurch.org/event/stations-of-the-cross-22/
LOCATION:Church
CATEGORIES:Parish Events,Special Events
END:VEVENT
BEGIN:VEVENT
DTSTART;TZID=America/Chicago:20220123T064500
DTEND;TZID=America/Chicago:20220123T070000
DTSTAMP:20260422T041013
CREATED:20211020T155505Z
LAST-MODIFIED:20211109T180918Z
UID:10000996-1642920300-1642921200@www.stpetercatholicchurch.org
SUMMARY:Benediction
DESCRIPTION:Benediction of the Holy Eucharist
URL:https://www.stpetercatholicchurch.org/event/benediction-21/
LOCATION:Church
CATEGORIES:Parish Events,Special Events
END:VEVENT
BEGIN:VEVENT
DTSTART;TZID=America/Chicago:20220122T171000
DTEND;TZID=America/Chicago:20220122T171000
DTSTAMP:20260422T041013
CREATED:20211020T155505Z
LAST-MODIFIED:20211109T180919Z
UID:10000994-1642871400-1642871400@www.stpetercatholicchurch.org
SUMMARY:All Night Adoration
DESCRIPTION:
URL:https://www.stpetercatholicchurch.org/event/all-night-adoration-21/
CATEGORIES:Parish Events,Special Events
END:VEVENT
BEGIN:VEVENT
DTSTART;TZID=America/Chicago:20220121T190000
DTEND;TZID=America/Chicago:20220121T194500
DTSTAMP:20260422T041013
CREATED:20211020T155505Z
LAST-MODIFIED:20211109T180918Z
UID:10000991-1642791600-1642794300@www.stpetercatholicchurch.org
SUMMARY:Stations of the Cross
DESCRIPTION:
URL:https://www.stpetercatholicchurch.org/event/stations-of-the-cross-21/
LOCATION:Church
CATEGORIES:Parish Events,Special Events
END:VEVENT
BEGIN:VEVENT
DTSTART;TZID=America/Chicago:20220116T070000
DTEND;TZID=America/Chicago:20220116T123000
DTSTAMP:20260422T041013
CREATED:20211020T155504Z
LAST-MODIFIED:20211109T180917Z
UID:10001139-1642316400-1642336200@www.stpetercatholicchurch.org
SUMMARY:Parish Family Fellowship
DESCRIPTION:
URL:https://www.stpetercatholicchurch.org/event/parish-family-fellowship-5/
LOCATION:Parish Hall
CATEGORIES:Parish Events,Special Events
END:VEVENT
BEGIN:VEVENT
DTSTART;TZID=America/Chicago:20220116T064500
DTEND;TZID=America/Chicago:20220116T070000
DTSTAMP:20260422T041013
CREATED:20211020T155504Z
LAST-MODIFIED:20211109T180917Z
UID:10001142-1642315500-1642316400@www.stpetercatholicchurch.org
SUMMARY:Benediction
DESCRIPTION:Benediction of the Holy Eucharist
URL:https://www.stpetercatholicchurch.org/event/benediction-20/
LOCATION:Church
CATEGORIES:Parish Events,Special Events
END:VEVENT
BEGIN:VEVENT
DTSTART;TZID=America/Chicago:20220115T171000
DTEND;TZID=America/Chicago:20220115T171000
DTSTAMP:20260422T041013
CREATED:20211020T155503Z
LAST-MODIFIED:20211109T180917Z
UID:10001137-1642266600-1642266600@www.stpetercatholicchurch.org
SUMMARY:All Night Adoration
DESCRIPTION:
URL:https://www.stpetercatholicchurch.org/event/all-night-adoration-20/
CATEGORIES:Parish Events,Special Events
END:VEVENT
BEGIN:VEVENT
DTSTART;TZID=America/Chicago:20220114T190000
DTEND;TZID=America/Chicago:20220114T194500
DTSTAMP:20260422T041013
CREATED:20211020T155503Z
LAST-MODIFIED:20211109T180917Z
UID:10001132-1642186800-1642189500@www.stpetercatholicchurch.org
SUMMARY:Stations of the Cross
DESCRIPTION:
URL:https://www.stpetercatholicchurch.org/event/stations-of-the-cross-20/
LOCATION:Church
CATEGORIES:Parish Events,Special Events
END:VEVENT
BEGIN:VEVENT
DTSTART;TZID=America/Chicago:20220109T064500
DTEND;TZID=America/Chicago:20220109T070000
DTSTAMP:20260422T041013
CREATED:20211020T155421Z
LAST-MODIFIED:20211109T180916Z
UID:10001124-1641710700-1641711600@www.stpetercatholicchurch.org
SUMMARY:Benediction
DESCRIPTION:Benediction of the Holy Eucharist
URL:https://www.stpetercatholicchurch.org/event/benediction-19/
LOCATION:Church
CATEGORIES:Parish Events,Special Events
END:VEVENT
BEGIN:VEVENT
DTSTART;TZID=America/Chicago:20220108T171000
DTEND;TZID=America/Chicago:20220108T171000
DTSTAMP:20260422T041013
CREATED:20211020T155421Z
LAST-MODIFIED:20211109T180915Z
UID:10001121-1641661800-1641661800@www.stpetercatholicchurch.org
SUMMARY:All Night Adoration
DESCRIPTION:
URL:https://www.stpetercatholicchurch.org/event/all-night-adoration-19/
CATEGORIES:Parish Events,Special Events
END:VEVENT
BEGIN:VEVENT
DTSTART;TZID=America/Chicago:20220107T190000
DTEND;TZID=America/Chicago:20220107T194500
DTSTAMP:20260422T041013
CREATED:20211020T155420Z
LAST-MODIFIED:20211109T180915Z
UID:10001118-1641582000-1641584700@www.stpetercatholicchurch.org
SUMMARY:Stations of the Cross
DESCRIPTION:
URL:https://www.stpetercatholicchurch.org/event/stations-of-the-cross-19/
LOCATION:Church
CATEGORIES:Parish Events,Special Events
END:VEVENT
BEGIN:VEVENT
DTSTART;TZID=America/Chicago:20220102T070000
DTEND;TZID=America/Chicago:20220102T103000
DTSTAMP:20260422T041013
CREATED:20211020T155419Z
LAST-MODIFIED:20211109T180914Z
UID:10001106-1641106800-1641119400@www.stpetercatholicchurch.org
SUMMARY:K of C Pancake Breakfast
DESCRIPTION:Breakfast Served:\nAfter the 7:00 and 9:00 AM Masses Only!
URL:https://www.stpetercatholicchurch.org/event/k-of-c-pancake-breakfast-9/
LOCATION:Parish Hall
CATEGORIES:Parish Events,Special Events
END:VEVENT
BEGIN:VEVENT
DTSTART;TZID=America/Chicago:20220102T070000
DTEND;TZID=America/Chicago:20220102T103000
DTSTAMP:20260422T041013
CREATED:20211020T155419Z
LAST-MODIFIED:20211109T180914Z
UID:10001107-1641106800-1641119400@www.stpetercatholicchurch.org
SUMMARY:K of C Pancake Breakfast
DESCRIPTION:Served After the 7:00 am & 9:00 am Masses Only!
URL:https://www.stpetercatholicchurch.org/event/k-of-c-pancake-breakfast-10/
LOCATION:Parish Hall
CATEGORIES:Parish Events,Special Events
END:VEVENT
BEGIN:VEVENT
DTSTART;TZID=America/Chicago:20220102T064500
DTEND;TZID=America/Chicago:20220102T070000
DTSTAMP:20260422T041013
CREATED:20211020T155419Z
LAST-MODIFIED:20211109T180914Z
UID:10001105-1641105900-1641106800@www.stpetercatholicchurch.org
SUMMARY:Benediction
DESCRIPTION:Benediction of the Holy Eucharist
URL:https://www.stpetercatholicchurch.org/event/benediction-18/
LOCATION:Church
CATEGORIES:Parish Events,Special Events
END:VEVENT
BEGIN:VEVENT
DTSTART;TZID=America/Chicago:20220101T171000
DTEND;TZID=America/Chicago:20220101T171000
DTSTAMP:20260422T041013
CREATED:20211020T155419Z
LAST-MODIFIED:20211109T180914Z
UID:10001103-1641057000-1641057000@www.stpetercatholicchurch.org
SUMMARY:All Night Adoration
DESCRIPTION:
URL:https://www.stpetercatholicchurch.org/event/all-night-adoration-18/
CATEGORIES:Parish Events,Special Events
END:VEVENT
BEGIN:VEVENT
DTSTART;TZID=America/Chicago:20211231T190000
DTEND;TZID=America/Chicago:20211231T194500
DTSTAMP:20260422T041013
CREATED:20211020T155417Z
LAST-MODIFIED:20211109T180914Z
UID:10000945-1640977200-1640979900@www.stpetercatholicchurch.org
SUMMARY:Stations of the Cross
DESCRIPTION:
URL:https://www.stpetercatholicchurch.org/event/stations-of-the-cross-18/
LOCATION:Church
CATEGORIES:Parish Events,Special Events
END:VEVENT
BEGIN:VEVENT
DTSTART;TZID=America/Chicago:20211226T064500
DTEND;TZID=America/Chicago:20211226T070000
DTSTAMP:20260422T041013
CREATED:20211020T155417Z
LAST-MODIFIED:20211109T180913Z
UID:10000938-1640501100-1640502000@www.stpetercatholicchurch.org
SUMMARY:Benediction
DESCRIPTION:Benediction of the Holy Eucharist
URL:https://www.stpetercatholicchurch.org/event/benediction-17/
LOCATION:Church
CATEGORIES:Parish Events,Special Events
END:VEVENT
BEGIN:VEVENT
DTSTART;TZID=America/Chicago:20211225T171000
DTEND;TZID=America/Chicago:20211225T171000
DTSTAMP:20260422T041013
CREATED:20211020T155417Z
LAST-MODIFIED:20211109T180913Z
UID:10000936-1640452200-1640452200@www.stpetercatholicchurch.org
SUMMARY:All Night Adoration
DESCRIPTION:
URL:https://www.stpetercatholicchurch.org/event/all-night-adoration-17/
CATEGORIES:Parish Events,Special Events
END:VEVENT
BEGIN:VEVENT
DTSTART;TZID=America/Chicago:20211225T000000
DTEND;TZID=America/Chicago:20211226T000000
DTSTAMP:20260422T041013
CREATED:20211020T155418Z
LAST-MODIFIED:20211109T180913Z
UID:10000951-1640390400-1640476800@www.stpetercatholicchurch.org
SUMMARY:Christmas Day Mass Times
DESCRIPTION:Nativity of the Lord\nHOLY DAY OF OBLIGATION\nChristmas Day: Mass Times – 9:00 am  & 11:00 am
URL:https://www.stpetercatholicchurch.org/event/christmas-day-mass-times/
LOCATION:Church
CATEGORIES:Parish Events,Special Events
END:VEVENT
BEGIN:VEVENT
DTSTART;TZID=America/Chicago:20211224T190000
DTEND;TZID=America/Chicago:20211224T194500
DTSTAMP:20260422T041013
CREATED:20211020T155416Z
LAST-MODIFIED:20211109T180912Z
UID:10001091-1640372400-1640375100@www.stpetercatholicchurch.org
SUMMARY:Stations of the Cross
DESCRIPTION:
URL:https://www.stpetercatholicchurch.org/event/stations-of-the-cross-17/
LOCATION:Church
CATEGORIES:Parish Events,Special Events
END:VEVENT
BEGIN:VEVENT
DTSTART;TZID=America/Chicago:20211219T070000
DTEND;TZID=America/Chicago:20211219T123000
DTSTAMP:20260422T041013
CREATED:20211020T155415Z
LAST-MODIFIED:20211109T180912Z
UID:10001080-1639897200-1639917000@www.stpetercatholicchurch.org
SUMMARY:Parish Family Fellowship
DESCRIPTION:
URL:https://www.stpetercatholicchurch.org/event/parish-family-fellowship-4/
LOCATION:Parish Hall
CATEGORIES:Parish Events,Special Events
END:VEVENT
BEGIN:VEVENT
DTSTART;TZID=America/Chicago:20211219T064500
DTEND;TZID=America/Chicago:20211219T070000
DTSTAMP:20260422T041013
CREATED:20211020T155415Z
LAST-MODIFIED:20211109T180912Z
UID:10001081-1639896300-1639897200@www.stpetercatholicchurch.org
SUMMARY:Benediction
DESCRIPTION:Benediction of the Holy Eucharist
URL:https://www.stpetercatholicchurch.org/event/benediction-16/
LOCATION:Church
CATEGORIES:Parish Events,Special Events
END:VEVENT
BEGIN:VEVENT
DTSTART;TZID=America/Chicago:20211218T171000
DTEND;TZID=America/Chicago:20211218T171000
DTSTAMP:20260422T041013
CREATED:20211020T155415Z
LAST-MODIFIED:20211109T180911Z
UID:10001078-1639847400-1639847400@www.stpetercatholicchurch.org
SUMMARY:All Night Adoration
DESCRIPTION:
URL:https://www.stpetercatholicchurch.org/event/all-night-adoration-16/
CATEGORIES:Parish Events,Special Events
END:VEVENT
BEGIN:VEVENT
DTSTART;TZID=America/Chicago:20211217T190000
DTEND;TZID=America/Chicago:20211217T194500
DTSTAMP:20260422T041013
CREATED:20211020T155414Z
LAST-MODIFIED:20211109T180911Z
UID:10001074-1639767600-1639770300@www.stpetercatholicchurch.org
SUMMARY:Stations of the Cross
DESCRIPTION:
URL:https://www.stpetercatholicchurch.org/event/stations-of-the-cross-16/
LOCATION:Church
CATEGORIES:Parish Events,Special Events
END:VEVENT
BEGIN:VEVENT
DTSTART;TZID=America/Chicago:20211212T064500
DTEND;TZID=America/Chicago:20211212T070000
DTSTAMP:20260422T041013
CREATED:20211020T155413Z
LAST-MODIFIED:20211109T180910Z
UID:10001063-1639291500-1639292400@www.stpetercatholicchurch.org
SUMMARY:Benediction
DESCRIPTION:Benediction of the Holy Eucharist
URL:https://www.stpetercatholicchurch.org/event/benediction-15/
LOCATION:Church
CATEGORIES:Parish Events,Special Events
END:VEVENT
BEGIN:VEVENT
DTSTART;TZID=America/Chicago:20211211T171000
DTEND;TZID=America/Chicago:20211211T171000
DTSTAMP:20260422T041013
CREATED:20211020T155414Z
LAST-MODIFIED:20211109T180910Z
UID:10001067-1639242600-1639242600@www.stpetercatholicchurch.org
SUMMARY:All Night Adoration
DESCRIPTION:
URL:https://www.stpetercatholicchurch.org/event/all-night-adoration-15/
CATEGORIES:Parish Events,Special Events
END:VEVENT
BEGIN:VEVENT
DTSTART;TZID=America/Chicago:20211210T190000
DTEND;TZID=America/Chicago:20211210T194500
DTSTAMP:20260422T041013
CREATED:20211020T155412Z
LAST-MODIFIED:20211109T180910Z
UID:10001059-1639162800-1639165500@www.stpetercatholicchurch.org
SUMMARY:Stations of the Cross
DESCRIPTION:
URL:https://www.stpetercatholicchurch.org/event/stations-of-the-cross-15/
LOCATION:Church
CATEGORIES:Parish Events,Special Events
END:VEVENT
BEGIN:VEVENT
DTSTART;TZID=America/Chicago:20211205T070000
DTEND;TZID=America/Chicago:20211205T103000
DTSTAMP:20260422T041013
CREATED:20211020T155411Z
LAST-MODIFIED:20211109T180909Z
UID:10001038-1638687600-1638700200@www.stpetercatholicchurch.org
SUMMARY:K of C Pancake Breakfast
DESCRIPTION:Breakfast Served:\nAfter the 7:00 and 9:00 AM Masses Only!
URL:https://www.stpetercatholicchurch.org/event/k-of-c-pancake-breakfast-7/
LOCATION:Parish Hall
CATEGORIES:Parish Events,Special Events
END:VEVENT
END:VCALENDAR