BEGIN:VCALENDAR
VERSION:2.0
PRODID:-//St. Peter&#039;s Church - ECPv6.15.20//NONSGML v1.0//EN
CALSCALE:GREGORIAN
METHOD:PUBLISH
X-WR-CALNAME:St. Peter&#039;s Church
X-ORIGINAL-URL:https://www.stpetercatholicchurch.org
X-WR-CALDESC:Events for St. Peter&#039;s Church
REFRESH-INTERVAL;VALUE=DURATION:PT1H
X-Robots-Tag:noindex
X-PUBLISHED-TTL:PT1H
BEGIN:VTIMEZONE
TZID:America/Chicago
BEGIN:DAYLIGHT
TZOFFSETFROM:-0600
TZOFFSETTO:-0500
TZNAME:CDT
DTSTART:20200308T080000
END:DAYLIGHT
BEGIN:STANDARD
TZOFFSETFROM:-0500
TZOFFSETTO:-0600
TZNAME:CST
DTSTART:20201101T070000
END:STANDARD
BEGIN:DAYLIGHT
TZOFFSETFROM:-0600
TZOFFSETTO:-0500
TZNAME:CDT
DTSTART:20210314T080000
END:DAYLIGHT
BEGIN:STANDARD
TZOFFSETFROM:-0500
TZOFFSETTO:-0600
TZNAME:CST
DTSTART:20211107T070000
END:STANDARD
BEGIN:DAYLIGHT
TZOFFSETFROM:-0600
TZOFFSETTO:-0500
TZNAME:CDT
DTSTART:20220313T080000
END:DAYLIGHT
BEGIN:STANDARD
TZOFFSETFROM:-0500
TZOFFSETTO:-0600
TZNAME:CST
DTSTART:20221106T070000
END:STANDARD
END:VTIMEZONE
BEGIN:VEVENT
DTSTART;TZID=America/Chicago:20211120T150000
DTEND;TZID=America/Chicago:20211120T154500
DTSTAMP:20260422T023914
CREATED:20211020T155407Z
LAST-MODIFIED:20211109T180904Z
UID:10000973-1637420400-1637423100@www.stpetercatholicchurch.org
SUMMARY:Confession
DESCRIPTION:
URL:https://www.stpetercatholicchurch.org/event/confession-12/
CATEGORIES:Non-Mass Events
END:VEVENT
BEGIN:VEVENT
DTSTART;TZID=America/Chicago:20211113T150000
DTEND;TZID=America/Chicago:20211113T154500
DTSTAMP:20260422T023914
CREATED:20211014T150907Z
LAST-MODIFIED:20211109T180903Z
UID:10000959-1636815600-1636818300@www.stpetercatholicchurch.org
SUMMARY:Confession
DESCRIPTION:
URL:https://www.stpetercatholicchurch.org/event/confession-11/
CATEGORIES:Non-Mass Events
END:VEVENT
BEGIN:VEVENT
DTSTART;TZID=America/Chicago:20211112T093000
DTEND;TZID=America/Chicago:20211112T113000
DTSTAMP:20260422T023914
CREATED:20211013T150907Z
LAST-MODIFIED:20211109T180906Z
UID:10000956-1636709400-1636716600@www.stpetercatholicchurch.org
SUMMARY:Womans Morning of Recollection
DESCRIPTION:
URL:https://www.stpetercatholicchurch.org/event/womans-morning-of-recollection-3/
LOCATION:Church
CATEGORIES:Non-Mass Events
END:VEVENT
BEGIN:VEVENT
DTSTART;TZID=America/Chicago:20211106T150000
DTEND;TZID=America/Chicago:20211106T154500
DTSTAMP:20260422T023914
CREATED:20211007T142307Z
LAST-MODIFIED:20211106T173902Z
UID:10000928-1636210800-1636213500@www.stpetercatholicchurch.org
SUMMARY:Confession
DESCRIPTION:
URL:https://www.stpetercatholicchurch.org/event/confession-10/
CATEGORIES:Non-Mass Events
END:VEVENT
BEGIN:VEVENT
DTSTART;TZID=America/Chicago:20211030T150000
DTEND;TZID=America/Chicago:20211030T154500
DTSTAMP:20260422T023914
CREATED:20210930T195408Z
LAST-MODIFIED:20211030T163901Z
UID:10000827-1635606000-1635608700@www.stpetercatholicchurch.org
SUMMARY:Confession
DESCRIPTION:
URL:https://www.stpetercatholicchurch.org/event/confession-9/
CATEGORIES:Non-Mass Events
END:VEVENT
BEGIN:VEVENT
DTSTART;TZID=America/Chicago:20211023T150000
DTEND;TZID=America/Chicago:20211023T154500
DTSTAMP:20260422T023914
CREATED:20210923T190909Z
LAST-MODIFIED:20211023T162402Z
UID:10000908-1635001200-1635003900@www.stpetercatholicchurch.org
SUMMARY:Confession
DESCRIPTION:
URL:https://www.stpetercatholicchurch.org/event/confession-8/
CATEGORIES:Non-Mass Events
END:VEVENT
BEGIN:VEVENT
DTSTART;TZID=America/Chicago:20211016T150000
DTEND;TZID=America/Chicago:20211016T154500
DTSTAMP:20260422T023914
CREATED:20210916T183909Z
LAST-MODIFIED:20211016T152403Z
UID:10000887-1634396400-1634399100@www.stpetercatholicchurch.org
SUMMARY:Confession
DESCRIPTION:
URL:https://www.stpetercatholicchurch.org/event/confession-7/
CATEGORIES:Non-Mass Events
END:VEVENT
BEGIN:VEVENT
DTSTART;TZID=America/Chicago:20211009T150000
DTEND;TZID=America/Chicago:20211009T154500
DTSTAMP:20260422T023914
CREATED:20210909T170908Z
LAST-MODIFIED:20211009T145402Z
UID:10000786-1633791600-1633794300@www.stpetercatholicchurch.org
SUMMARY:Confession
DESCRIPTION:
URL:https://www.stpetercatholicchurch.org/event/confession-6/
CATEGORIES:Non-Mass Events
END:VEVENT
BEGIN:VEVENT
DTSTART;TZID=America/Chicago:20211008T093000
DTEND;TZID=America/Chicago:20211008T113000
DTSTAMP:20260422T023914
CREATED:20210908T165409Z
LAST-MODIFIED:20211008T143902Z
UID:10000783-1633685400-1633692600@www.stpetercatholicchurch.org
SUMMARY:Womans Morning of Recollection
DESCRIPTION:
URL:https://www.stpetercatholicchurch.org/event/womans-morning-of-recollection-2/
LOCATION:Church
CATEGORIES:Non-Mass Events
END:VEVENT
BEGIN:VEVENT
DTSTART;TZID=America/Chicago:20211002T150000
DTEND;TZID=America/Chicago:20211002T154500
DTSTAMP:20260422T023914
CREATED:20210903T155108Z
LAST-MODIFIED:20211002T200901Z
UID:10000776-1633186800-1633189500@www.stpetercatholicchurch.org
SUMMARY:Confession
DESCRIPTION:
URL:https://www.stpetercatholicchurch.org/event/confession-5/
CATEGORIES:Non-Mass Events
END:VEVENT
BEGIN:VEVENT
DTSTART;TZID=America/Chicago:20210925T150000
DTEND;TZID=America/Chicago:20210925T154500
DTSTAMP:20260422T023914
CREATED:20210903T155106Z
LAST-MODIFIED:20210925T190903Z
UID:10000771-1632582000-1632584700@www.stpetercatholicchurch.org
SUMMARY:Confession
DESCRIPTION:
URL:https://www.stpetercatholicchurch.org/event/confession-4/
CATEGORIES:Non-Mass Events
END:VEVENT
BEGIN:VEVENT
DTSTART;TZID=America/Chicago:20210918T150000
DTEND;TZID=America/Chicago:20210918T154500
DTSTAMP:20260422T023914
CREATED:20210903T155105Z
LAST-MODIFIED:20210918T185402Z
UID:10000845-1631977200-1631979900@www.stpetercatholicchurch.org
SUMMARY:Confession
DESCRIPTION:
URL:https://www.stpetercatholicchurch.org/event/confession-3/
CATEGORIES:Non-Mass Events
END:VEVENT
BEGIN:VEVENT
DTSTART;TZID=America/Chicago:20210911T150000
DTEND;TZID=America/Chicago:20210911T154500
DTSTAMP:20260422T023914
CREATED:20210903T155047Z
LAST-MODIFIED:20210911T173901Z
UID:10000820-1631372400-1631375100@www.stpetercatholicchurch.org
SUMMARY:Confession
DESCRIPTION:
URL:https://www.stpetercatholicchurch.org/event/confession-2/
CATEGORIES:Non-Mass Events
END:VEVENT
BEGIN:VEVENT
DTSTART;TZID=America/Chicago:20210910T093000
DTEND;TZID=America/Chicago:20210910T113000
DTSTAMP:20260422T023914
CREATED:20210903T155046Z
LAST-MODIFIED:20210909T170902Z
UID:10000815-1631266200-1631273400@www.stpetercatholicchurch.org
SUMMARY:Womans Morning of Recollection
DESCRIPTION:
URL:https://www.stpetercatholicchurch.org/event/womans-morning-of-recollection/
LOCATION:Church
CATEGORIES:Non-Mass Events
END:VEVENT
BEGIN:VEVENT
DTSTART;TZID=America/Chicago:20210904T150000
DTEND;TZID=America/Chicago:20210904T154500
DTSTAMP:20260422T023914
CREATED:20210903T155022Z
LAST-MODIFIED:20210904T155402Z
UID:10000794-1630767600-1630770300@www.stpetercatholicchurch.org
SUMMARY:Confession
DESCRIPTION:
URL:https://www.stpetercatholicchurch.org/event/confession/
CATEGORIES:Non-Mass Events
END:VEVENT
END:VCALENDAR