BEGIN:VCALENDAR
VERSION:2.0
PRODID:-//St. Peter&#039;s Church - ECPv6.15.20//NONSGML v1.0//EN
CALSCALE:GREGORIAN
METHOD:PUBLISH
X-ORIGINAL-URL:https://www.stpetercatholicchurch.org
X-WR-CALDESC:Events for St. Peter&#039;s Church
REFRESH-INTERVAL;VALUE=DURATION:PT1H
X-Robots-Tag:noindex
X-PUBLISHED-TTL:PT1H
BEGIN:VTIMEZONE
TZID:America/Chicago
BEGIN:DAYLIGHT
TZOFFSETFROM:-0600
TZOFFSETTO:-0500
TZNAME:CDT
DTSTART:20200308T080000
END:DAYLIGHT
BEGIN:STANDARD
TZOFFSETFROM:-0500
TZOFFSETTO:-0600
TZNAME:CST
DTSTART:20201101T070000
END:STANDARD
BEGIN:DAYLIGHT
TZOFFSETFROM:-0600
TZOFFSETTO:-0500
TZNAME:CDT
DTSTART:20210314T080000
END:DAYLIGHT
BEGIN:STANDARD
TZOFFSETFROM:-0500
TZOFFSETTO:-0600
TZNAME:CST
DTSTART:20211107T070000
END:STANDARD
BEGIN:DAYLIGHT
TZOFFSETFROM:-0600
TZOFFSETTO:-0500
TZNAME:CDT
DTSTART:20220313T080000
END:DAYLIGHT
BEGIN:STANDARD
TZOFFSETFROM:-0500
TZOFFSETTO:-0600
TZNAME:CST
DTSTART:20221106T070000
END:STANDARD
BEGIN:DAYLIGHT
TZOFFSETFROM:-0600
TZOFFSETTO:-0500
TZNAME:CDT
DTSTART:20230312T080000
END:DAYLIGHT
BEGIN:STANDARD
TZOFFSETFROM:-0500
TZOFFSETTO:-0600
TZNAME:CST
DTSTART:20231105T070000
END:STANDARD
END:VTIMEZONE
BEGIN:VEVENT
DTSTART;TZID=America/Chicago:20220312T150000
DTEND;TZID=America/Chicago:20220312T154500
DTSTAMP:20260421T225412
CREATED:20211108T181013Z
LAST-MODIFIED:20211109T181009Z
UID:10001520-1647097200-1647099900@www.stpetercatholicchurch.org
SUMMARY:Confession
DESCRIPTION:
URL:https://www.stpetercatholicchurch.org/event/confession-28/
CATEGORIES:Non-Mass Events
END:VEVENT
BEGIN:VEVENT
DTSTART;TZID=America/Chicago:20220311T093000
DTEND;TZID=America/Chicago:20220311T113000
DTSTAMP:20260421T225412
CREATED:20211106T174012Z
LAST-MODIFIED:20211109T181009Z
UID:10001515-1646991000-1646998200@www.stpetercatholicchurch.org
SUMMARY:Womans Morning of Recollection
DESCRIPTION:
URL:https://www.stpetercatholicchurch.org/event/womans-morning-of-recollection-7/
LOCATION:Church
CATEGORIES:Non-Mass Events
END:VEVENT
BEGIN:VEVENT
DTSTART;TZID=America/Chicago:20220305T150000
DTEND;TZID=America/Chicago:20220305T154500
DTSTAMP:20260421T225412
CREATED:20211030T164006Z
LAST-MODIFIED:20211109T181007Z
UID:10001201-1646492400-1646495100@www.stpetercatholicchurch.org
SUMMARY:Confession
DESCRIPTION:
URL:https://www.stpetercatholicchurch.org/event/confession-27/
CATEGORIES:Non-Mass Events
END:VEVENT
BEGIN:VEVENT
DTSTART;TZID=America/Chicago:20220226T150000
DTEND;TZID=America/Chicago:20220226T154500
DTSTAMP:20260421T225412
CREATED:20211024T162505Z
LAST-MODIFIED:20211109T181006Z
UID:10001049-1645887600-1645890300@www.stpetercatholicchurch.org
SUMMARY:Confession
DESCRIPTION:
URL:https://www.stpetercatholicchurch.org/event/confession-26/
CATEGORIES:Non-Mass Events
END:VEVENT
BEGIN:VEVENT
DTSTART;TZID=America/Chicago:20220219T150000
DTEND;TZID=America/Chicago:20220219T154500
DTSTAMP:20260421T225412
CREATED:20211020T155511Z
LAST-MODIFIED:20211109T181004Z
UID:10001027-1645282800-1645285500@www.stpetercatholicchurch.org
SUMMARY:Confession
DESCRIPTION:
URL:https://www.stpetercatholicchurch.org/event/confession-25/
CATEGORIES:Non-Mass Events
END:VEVENT
BEGIN:VEVENT
DTSTART;TZID=America/Chicago:20220212T150000
DTEND;TZID=America/Chicago:20220212T154500
DTSTAMP:20260421T225412
CREATED:20211020T155510Z
LAST-MODIFIED:20211109T181003Z
UID:10001174-1644678000-1644680700@www.stpetercatholicchurch.org
SUMMARY:Confession
DESCRIPTION:
URL:https://www.stpetercatholicchurch.org/event/confession-24/
CATEGORIES:Non-Mass Events
END:VEVENT
BEGIN:VEVENT
DTSTART;TZID=America/Chicago:20220211T093000
DTEND;TZID=America/Chicago:20220211T113000
DTSTAMP:20260421T225412
CREATED:20211020T155510Z
LAST-MODIFIED:20211109T181003Z
UID:10001172-1644571800-1644579000@www.stpetercatholicchurch.org
SUMMARY:Womans Morning of Recollection
DESCRIPTION:
URL:https://www.stpetercatholicchurch.org/event/womans-morning-of-recollection-6/
LOCATION:Church
CATEGORIES:Non-Mass Events
END:VEVENT
BEGIN:VEVENT
DTSTART;TZID=America/Chicago:20220205T150000
DTEND;TZID=America/Chicago:20220205T154500
DTSTAMP:20260421T225412
CREATED:20211020T155508Z
LAST-MODIFIED:20211109T180921Z
UID:10001163-1644073200-1644075900@www.stpetercatholicchurch.org
SUMMARY:Confession
DESCRIPTION:
URL:https://www.stpetercatholicchurch.org/event/confession-23/
CATEGORIES:Non-Mass Events
END:VEVENT
BEGIN:VEVENT
DTSTART;TZID=America/Chicago:20220129T150000
DTEND;TZID=America/Chicago:20220129T154500
DTSTAMP:20260421T225412
CREATED:20211020T155507Z
LAST-MODIFIED:20211109T180920Z
UID:10001159-1643468400-1643471100@www.stpetercatholicchurch.org
SUMMARY:Confession
DESCRIPTION:
URL:https://www.stpetercatholicchurch.org/event/confession-22/
CATEGORIES:Non-Mass Events
END:VEVENT
BEGIN:VEVENT
DTSTART;TZID=America/Chicago:20220122T150000
DTEND;TZID=America/Chicago:20220122T154500
DTSTAMP:20260421T225412
CREATED:20211020T155505Z
LAST-MODIFIED:20211109T180918Z
UID:10000993-1642863600-1642866300@www.stpetercatholicchurch.org
SUMMARY:Confession
DESCRIPTION:
URL:https://www.stpetercatholicchurch.org/event/confession-21/
CATEGORIES:Non-Mass Events
END:VEVENT
BEGIN:VEVENT
DTSTART;TZID=America/Chicago:20220115T150000
DTEND;TZID=America/Chicago:20220115T154500
DTSTAMP:20260421T225412
CREATED:20211020T155503Z
LAST-MODIFIED:20211109T180917Z
UID:10001136-1642258800-1642261500@www.stpetercatholicchurch.org
SUMMARY:Confession
DESCRIPTION:
URL:https://www.stpetercatholicchurch.org/event/confession-20/
CATEGORIES:Non-Mass Events
END:VEVENT
BEGIN:VEVENT
DTSTART;TZID=America/Chicago:20220114T093000
DTEND;TZID=America/Chicago:20220114T113000
DTSTAMP:20260421T225412
CREATED:20211020T155503Z
LAST-MODIFIED:20211109T180916Z
UID:10001135-1642152600-1642159800@www.stpetercatholicchurch.org
SUMMARY:Womans Morning of Recollection
DESCRIPTION:
URL:https://www.stpetercatholicchurch.org/event/womans-morning-of-recollection-5/
LOCATION:Church
CATEGORIES:Non-Mass Events
END:VEVENT
BEGIN:VEVENT
DTSTART;TZID=America/Chicago:20220108T150000
DTEND;TZID=America/Chicago:20220108T154500
DTSTAMP:20260421T225412
CREATED:20211020T155421Z
LAST-MODIFIED:20211109T180915Z
UID:10001120-1641654000-1641656700@www.stpetercatholicchurch.org
SUMMARY:Confession
DESCRIPTION:
URL:https://www.stpetercatholicchurch.org/event/confession-19/
CATEGORIES:Non-Mass Events
END:VEVENT
BEGIN:VEVENT
DTSTART;TZID=America/Chicago:20220101T150000
DTEND;TZID=America/Chicago:20220101T154500
DTSTAMP:20260421T225412
CREATED:20211020T155419Z
LAST-MODIFIED:20211109T180914Z
UID:10001102-1641049200-1641051900@www.stpetercatholicchurch.org
SUMMARY:Confession
DESCRIPTION:
URL:https://www.stpetercatholicchurch.org/event/confession-18/
CATEGORIES:Non-Mass Events
END:VEVENT
BEGIN:VEVENT
DTSTART;TZID=America/Chicago:20211225T150000
DTEND;TZID=America/Chicago:20211225T154500
DTSTAMP:20260421T225412
CREATED:20211020T155417Z
LAST-MODIFIED:20211109T180913Z
UID:10001093-1640444400-1640447100@www.stpetercatholicchurch.org
SUMMARY:Confession
DESCRIPTION:
URL:https://www.stpetercatholicchurch.org/event/confession-17/
CATEGORIES:Non-Mass Events
END:VEVENT
BEGIN:VEVENT
DTSTART;TZID=America/Chicago:20211218T150000
DTEND;TZID=America/Chicago:20211218T154500
DTSTAMP:20260421T225412
CREATED:20211020T155415Z
LAST-MODIFIED:20211109T180911Z
UID:10001076-1639839600-1639842300@www.stpetercatholicchurch.org
SUMMARY:Confession
DESCRIPTION:
URL:https://www.stpetercatholicchurch.org/event/confession-16/
CATEGORIES:Non-Mass Events
END:VEVENT
BEGIN:VEVENT
DTSTART;TZID=America/Chicago:20211211T150000
DTEND;TZID=America/Chicago:20211211T154500
DTSTAMP:20260421T225412
CREATED:20211020T155413Z
LAST-MODIFIED:20211109T180910Z
UID:10001061-1639234800-1639237500@www.stpetercatholicchurch.org
SUMMARY:Confession
DESCRIPTION:
URL:https://www.stpetercatholicchurch.org/event/confession-15/
CATEGORIES:Non-Mass Events
END:VEVENT
BEGIN:VEVENT
DTSTART;TZID=America/Chicago:20211210T093000
DTEND;TZID=America/Chicago:20211210T113000
DTSTAMP:20260421T225412
CREATED:20211020T155412Z
LAST-MODIFIED:20211109T180910Z
UID:10001058-1639128600-1639135800@www.stpetercatholicchurch.org
SUMMARY:Womans Morning of Recollection
DESCRIPTION:
URL:https://www.stpetercatholicchurch.org/event/womans-morning-of-recollection-4/
LOCATION:Church
CATEGORIES:Non-Mass Events
END:VEVENT
BEGIN:VEVENT
DTSTART;TZID=America/Chicago:20211204T150000
DTEND;TZID=America/Chicago:20211204T154500
DTSTAMP:20260421T225412
CREATED:20211020T155411Z
LAST-MODIFIED:20211109T180908Z
UID:10001032-1638630000-1638632700@www.stpetercatholicchurch.org
SUMMARY:Confession
DESCRIPTION:
URL:https://www.stpetercatholicchurch.org/event/confession-14/
CATEGORIES:Non-Mass Events
END:VEVENT
BEGIN:VEVENT
DTSTART;TZID=America/Chicago:20211127T150000
DTEND;TZID=America/Chicago:20211127T154500
DTSTAMP:20260421T225412
CREATED:20211020T155409Z
LAST-MODIFIED:20211109T180907Z
UID:10000880-1638025200-1638027900@www.stpetercatholicchurch.org
SUMMARY:Confession
DESCRIPTION:
URL:https://www.stpetercatholicchurch.org/event/confession-13/
CATEGORIES:Non-Mass Events
END:VEVENT
BEGIN:VEVENT
DTSTART;TZID=America/Chicago:20211120T150000
DTEND;TZID=America/Chicago:20211120T154500
DTSTAMP:20260421T225412
CREATED:20211020T155407Z
LAST-MODIFIED:20211109T180904Z
UID:10000973-1637420400-1637423100@www.stpetercatholicchurch.org
SUMMARY:Confession
DESCRIPTION:
URL:https://www.stpetercatholicchurch.org/event/confession-12/
CATEGORIES:Non-Mass Events
END:VEVENT
BEGIN:VEVENT
DTSTART;TZID=America/Chicago:20211113T150000
DTEND;TZID=America/Chicago:20211113T154500
DTSTAMP:20260421T225412
CREATED:20211014T150907Z
LAST-MODIFIED:20211109T180903Z
UID:10000959-1636815600-1636818300@www.stpetercatholicchurch.org
SUMMARY:Confession
DESCRIPTION:
URL:https://www.stpetercatholicchurch.org/event/confession-11/
CATEGORIES:Non-Mass Events
END:VEVENT
BEGIN:VEVENT
DTSTART;TZID=America/Chicago:20211112T093000
DTEND;TZID=America/Chicago:20211112T113000
DTSTAMP:20260421T225412
CREATED:20211013T150907Z
LAST-MODIFIED:20211109T180906Z
UID:10000956-1636709400-1636716600@www.stpetercatholicchurch.org
SUMMARY:Womans Morning of Recollection
DESCRIPTION:
URL:https://www.stpetercatholicchurch.org/event/womans-morning-of-recollection-3/
LOCATION:Church
CATEGORIES:Non-Mass Events
END:VEVENT
BEGIN:VEVENT
DTSTART;TZID=America/Chicago:20211106T150000
DTEND;TZID=America/Chicago:20211106T154500
DTSTAMP:20260421T225412
CREATED:20211007T142307Z
LAST-MODIFIED:20211106T173902Z
UID:10000928-1636210800-1636213500@www.stpetercatholicchurch.org
SUMMARY:Confession
DESCRIPTION:
URL:https://www.stpetercatholicchurch.org/event/confession-10/
CATEGORIES:Non-Mass Events
END:VEVENT
BEGIN:VEVENT
DTSTART;TZID=America/Chicago:20211030T150000
DTEND;TZID=America/Chicago:20211030T154500
DTSTAMP:20260421T225412
CREATED:20210930T195408Z
LAST-MODIFIED:20211030T163901Z
UID:10000827-1635606000-1635608700@www.stpetercatholicchurch.org
SUMMARY:Confession
DESCRIPTION:
URL:https://www.stpetercatholicchurch.org/event/confession-9/
CATEGORIES:Non-Mass Events
END:VEVENT
BEGIN:VEVENT
DTSTART;TZID=America/Chicago:20211023T150000
DTEND;TZID=America/Chicago:20211023T154500
DTSTAMP:20260421T225412
CREATED:20210923T190909Z
LAST-MODIFIED:20211023T162402Z
UID:10000908-1635001200-1635003900@www.stpetercatholicchurch.org
SUMMARY:Confession
DESCRIPTION:
URL:https://www.stpetercatholicchurch.org/event/confession-8/
CATEGORIES:Non-Mass Events
END:VEVENT
BEGIN:VEVENT
DTSTART;TZID=America/Chicago:20211016T150000
DTEND;TZID=America/Chicago:20211016T154500
DTSTAMP:20260421T225412
CREATED:20210916T183909Z
LAST-MODIFIED:20211016T152403Z
UID:10000887-1634396400-1634399100@www.stpetercatholicchurch.org
SUMMARY:Confession
DESCRIPTION:
URL:https://www.stpetercatholicchurch.org/event/confession-7/
CATEGORIES:Non-Mass Events
END:VEVENT
BEGIN:VEVENT
DTSTART;TZID=America/Chicago:20211009T150000
DTEND;TZID=America/Chicago:20211009T154500
DTSTAMP:20260421T225412
CREATED:20210909T170908Z
LAST-MODIFIED:20211009T145402Z
UID:10000786-1633791600-1633794300@www.stpetercatholicchurch.org
SUMMARY:Confession
DESCRIPTION:
URL:https://www.stpetercatholicchurch.org/event/confession-6/
CATEGORIES:Non-Mass Events
END:VEVENT
BEGIN:VEVENT
DTSTART;TZID=America/Chicago:20211008T093000
DTEND;TZID=America/Chicago:20211008T113000
DTSTAMP:20260421T225412
CREATED:20210908T165409Z
LAST-MODIFIED:20211008T143902Z
UID:10000783-1633685400-1633692600@www.stpetercatholicchurch.org
SUMMARY:Womans Morning of Recollection
DESCRIPTION:
URL:https://www.stpetercatholicchurch.org/event/womans-morning-of-recollection-2/
LOCATION:Church
CATEGORIES:Non-Mass Events
END:VEVENT
BEGIN:VEVENT
DTSTART;TZID=America/Chicago:20211002T150000
DTEND;TZID=America/Chicago:20211002T154500
DTSTAMP:20260421T225412
CREATED:20210903T155108Z
LAST-MODIFIED:20211002T200901Z
UID:10000776-1633186800-1633189500@www.stpetercatholicchurch.org
SUMMARY:Confession
DESCRIPTION:
URL:https://www.stpetercatholicchurch.org/event/confession-5/
CATEGORIES:Non-Mass Events
END:VEVENT
END:VCALENDAR