BEGIN:VCALENDAR
VERSION:2.0
PRODID:-//St. Peter&#039;s Church - ECPv6.15.20//NONSGML v1.0//EN
CALSCALE:GREGORIAN
METHOD:PUBLISH
X-ORIGINAL-URL:https://www.stpetercatholicchurch.org
X-WR-CALDESC:Events for St. Peter&#039;s Church
REFRESH-INTERVAL;VALUE=DURATION:PT1H
X-Robots-Tag:noindex
X-PUBLISHED-TTL:PT1H
BEGIN:VTIMEZONE
TZID:America/Chicago
BEGIN:DAYLIGHT
TZOFFSETFROM:-0600
TZOFFSETTO:-0500
TZNAME:CDT
DTSTART:20200308T080000
END:DAYLIGHT
BEGIN:STANDARD
TZOFFSETFROM:-0500
TZOFFSETTO:-0600
TZNAME:CST
DTSTART:20201101T070000
END:STANDARD
BEGIN:DAYLIGHT
TZOFFSETFROM:-0600
TZOFFSETTO:-0500
TZNAME:CDT
DTSTART:20210314T080000
END:DAYLIGHT
BEGIN:STANDARD
TZOFFSETFROM:-0500
TZOFFSETTO:-0600
TZNAME:CST
DTSTART:20211107T070000
END:STANDARD
BEGIN:DAYLIGHT
TZOFFSETFROM:-0600
TZOFFSETTO:-0500
TZNAME:CDT
DTSTART:20220313T080000
END:DAYLIGHT
BEGIN:STANDARD
TZOFFSETFROM:-0500
TZOFFSETTO:-0600
TZNAME:CST
DTSTART:20221106T070000
END:STANDARD
END:VTIMEZONE
BEGIN:VEVENT
DTSTART;TZID=America/Chicago:20211209T080000
DTEND;TZID=America/Chicago:20211209T084500
DTSTAMP:20260422T110744
CREATED:20211020T155412Z
LAST-MODIFIED:20211109T180909Z
UID:10001054-1639036800-1639039500@www.stpetercatholicchurch.org
SUMMARY:Daily Mass
DESCRIPTION:Daily Mass: 8:00 am\nNo Mass on Monday’s
URL:https://www.stpetercatholicchurch.org/event/daily-mass-55/
LOCATION:Church
CATEGORIES:Mass
END:VEVENT
BEGIN:VEVENT
DTSTART;TZID=America/Chicago:20211208T080000
DTEND;TZID=America/Chicago:20211208T084500
DTSTAMP:20260422T110744
CREATED:20211020T155412Z
LAST-MODIFIED:20211109T180909Z
UID:10001053-1638950400-1638953100@www.stpetercatholicchurch.org
SUMMARY:Daily Mass
DESCRIPTION:Daily Mass: 8:00 am\nNo Mass on Monday’s
URL:https://www.stpetercatholicchurch.org/event/daily-mass-54/
LOCATION:Church
CATEGORIES:Mass
END:VEVENT
BEGIN:VEVENT
DTSTART;TZID=America/Chicago:20211207T080000
DTEND;TZID=America/Chicago:20211207T084500
DTSTAMP:20260422T110744
CREATED:20211020T155412Z
LAST-MODIFIED:20211109T180909Z
UID:10001051-1638864000-1638866700@www.stpetercatholicchurch.org
SUMMARY:Daily Mass
DESCRIPTION:Daily Mass: 8:00 am\nNo Mass on Monday’s
URL:https://www.stpetercatholicchurch.org/event/daily-mass-53/
LOCATION:Church
CATEGORIES:Mass
END:VEVENT
BEGIN:VEVENT
DTSTART;TZID=America/Chicago:20211205T000000
DTEND;TZID=America/Chicago:20211206T000000
DTSTAMP:20260422T110744
CREATED:20211020T155411Z
LAST-MODIFIED:20211109T180909Z
UID:10001046-1638662400-1638748800@www.stpetercatholicchurch.org
SUMMARY:Sunday Masses
DESCRIPTION:7:00 am\,\n9:00 am &\n11:00 am
URL:https://www.stpetercatholicchurch.org/event/sunday-masses-14/
LOCATION:Church
CATEGORIES:Mass
END:VEVENT
BEGIN:VEVENT
DTSTART;TZID=America/Chicago:20211204T160000
DTEND;TZID=America/Chicago:20211204T171500
DTSTAMP:20260422T110744
CREATED:20211020T155411Z
LAST-MODIFIED:20211109T180908Z
UID:10001034-1638633600-1638638100@www.stpetercatholicchurch.org
SUMMARY:Mass
DESCRIPTION:
URL:https://www.stpetercatholicchurch.org/event/mass-14/
LOCATION:Church
CATEGORIES:Mass
END:VEVENT
BEGIN:VEVENT
DTSTART;TZID=America/Chicago:20211203T080000
DTEND;TZID=America/Chicago:20211203T084500
DTSTAMP:20260422T110744
CREATED:20211020T155410Z
LAST-MODIFIED:20211109T180908Z
UID:10000989-1638518400-1638521100@www.stpetercatholicchurch.org
SUMMARY:Daily Mass
DESCRIPTION:Daily Mass: 8:00 am\nNo Mass on Monday’s
URL:https://www.stpetercatholicchurch.org/event/daily-mass-52/
LOCATION:Church
CATEGORIES:Mass
END:VEVENT
BEGIN:VEVENT
DTSTART;TZID=America/Chicago:20211202T080000
DTEND;TZID=America/Chicago:20211202T084500
DTSTAMP:20260422T110744
CREATED:20211020T155410Z
LAST-MODIFIED:20211109T180908Z
UID:10000987-1638432000-1638434700@www.stpetercatholicchurch.org
SUMMARY:Daily Mass
DESCRIPTION:Daily Mass: 8:00 am\nNo Mass on Monday’s
URL:https://www.stpetercatholicchurch.org/event/daily-mass-51/
LOCATION:Church
CATEGORIES:Mass
END:VEVENT
BEGIN:VEVENT
DTSTART;TZID=America/Chicago:20211201T080000
DTEND;TZID=America/Chicago:20211201T084500
DTSTAMP:20260422T110744
CREATED:20211020T155410Z
LAST-MODIFIED:20211109T180908Z
UID:10000896-1638345600-1638348300@www.stpetercatholicchurch.org
SUMMARY:Daily Mass
DESCRIPTION:Daily Mass: 8:00 am\nNo Mass on Monday’s
URL:https://www.stpetercatholicchurch.org/event/daily-mass-50/
LOCATION:Church
CATEGORIES:Mass
END:VEVENT
BEGIN:VEVENT
DTSTART;TZID=America/Chicago:20211130T080000
DTEND;TZID=America/Chicago:20211130T084500
DTSTAMP:20260422T110744
CREATED:20211020T155410Z
LAST-MODIFIED:20211109T180908Z
UID:10000892-1638259200-1638261900@www.stpetercatholicchurch.org
SUMMARY:Daily Mass
DESCRIPTION:Daily Mass: 8:00 am\nNo Mass on Monday’s
URL:https://www.stpetercatholicchurch.org/event/daily-mass-49/
LOCATION:Church
CATEGORIES:Mass
END:VEVENT
BEGIN:VEVENT
DTSTART;TZID=America/Chicago:20211128T000000
DTEND;TZID=America/Chicago:20211129T000000
DTSTAMP:20260422T110744
CREATED:20211020T155409Z
LAST-MODIFIED:20211109T180907Z
UID:10000890-1638057600-1638144000@www.stpetercatholicchurch.org
SUMMARY:Sunday Masses
DESCRIPTION:7:00 am\,\n9:00 am &\n11:00 am
URL:https://www.stpetercatholicchurch.org/event/sunday-masses-13/
LOCATION:Church
CATEGORIES:Mass
END:VEVENT
BEGIN:VEVENT
DTSTART;TZID=America/Chicago:20211127T160000
DTEND;TZID=America/Chicago:20211127T171500
DTSTAMP:20260422T110744
CREATED:20211020T155409Z
LAST-MODIFIED:20211109T180907Z
UID:10000882-1638028800-1638033300@www.stpetercatholicchurch.org
SUMMARY:Mass
DESCRIPTION:
URL:https://www.stpetercatholicchurch.org/event/mass-13/
LOCATION:Church
CATEGORIES:Mass
END:VEVENT
BEGIN:VEVENT
DTSTART;TZID=America/Chicago:20211126T080000
DTEND;TZID=America/Chicago:20211126T084500
DTSTAMP:20260422T110744
CREATED:20211020T155409Z
LAST-MODIFIED:20211109T180904Z
UID:10000986-1637913600-1637916300@www.stpetercatholicchurch.org
SUMMARY:Daily Mass
DESCRIPTION:Daily Mass: 8:00 am\nNo Mass on Monday’s
URL:https://www.stpetercatholicchurch.org/event/daily-mass-48/
LOCATION:Church
CATEGORIES:Mass
END:VEVENT
BEGIN:VEVENT
DTSTART;TZID=America/Chicago:20211125T080000
DTEND;TZID=America/Chicago:20211125T084500
DTSTAMP:20260422T110744
CREATED:20211020T155408Z
LAST-MODIFIED:20211109T180904Z
UID:10000983-1637827200-1637829900@www.stpetercatholicchurch.org
SUMMARY:Daily Mass
DESCRIPTION:Daily Mass: 8:00 am\nNo Mass on Monday’s
URL:https://www.stpetercatholicchurch.org/event/daily-mass-47/
LOCATION:Church
CATEGORIES:Mass
END:VEVENT
BEGIN:VEVENT
DTSTART;TZID=America/Chicago:20211124T080000
DTEND;TZID=America/Chicago:20211124T084500
DTSTAMP:20260422T110744
CREATED:20211020T155408Z
LAST-MODIFIED:20211109T180904Z
UID:10000982-1637740800-1637743500@www.stpetercatholicchurch.org
SUMMARY:Daily Mass
DESCRIPTION:Daily Mass: 8:00 am\nNo Mass on Monday’s
URL:https://www.stpetercatholicchurch.org/event/daily-mass-46/
LOCATION:Church
CATEGORIES:Mass
END:VEVENT
BEGIN:VEVENT
DTSTART;TZID=America/Chicago:20211123T080000
DTEND;TZID=America/Chicago:20211123T084500
DTSTAMP:20260422T110744
CREATED:20211020T155408Z
LAST-MODIFIED:20211109T180904Z
UID:10000980-1637654400-1637657100@www.stpetercatholicchurch.org
SUMMARY:Daily Mass
DESCRIPTION:Daily Mass: 8:00 am\nNo Mass on Monday’s
URL:https://www.stpetercatholicchurch.org/event/daily-mass-45/
LOCATION:Church
CATEGORIES:Mass
END:VEVENT
BEGIN:VEVENT
DTSTART;TZID=America/Chicago:20211121T000000
DTEND;TZID=America/Chicago:20211122T000000
DTSTAMP:20260422T110744
CREATED:20211020T155408Z
LAST-MODIFIED:20211109T180904Z
UID:10000976-1637452800-1637539200@www.stpetercatholicchurch.org
SUMMARY:Sunday Masses
DESCRIPTION:7:00 am\,\n9:00 am &\n11:00 am
URL:https://www.stpetercatholicchurch.org/event/sunday-masses-12/
LOCATION:Church
CATEGORIES:Mass
END:VEVENT
BEGIN:VEVENT
DTSTART;TZID=America/Chicago:20211120T160000
DTEND;TZID=America/Chicago:20211120T171500
DTSTAMP:20260422T110744
CREATED:20211020T155408Z
LAST-MODIFIED:20211109T180906Z
UID:10000975-1637424000-1637428500@www.stpetercatholicchurch.org
SUMMARY:Mass
DESCRIPTION:
URL:https://www.stpetercatholicchurch.org/event/mass-12/
LOCATION:Church
CATEGORIES:Mass
END:VEVENT
BEGIN:VEVENT
DTSTART;TZID=America/Chicago:20211119T080000
DTEND;TZID=America/Chicago:20211119T084500
DTSTAMP:20260422T110744
CREATED:20211020T155407Z
LAST-MODIFIED:20211109T180904Z
UID:10000971-1637308800-1637311500@www.stpetercatholicchurch.org
SUMMARY:Daily Mass
DESCRIPTION:Daily Mass: 8:00 am\nNo Mass on Monday’s
URL:https://www.stpetercatholicchurch.org/event/daily-mass-44/
LOCATION:Church
CATEGORIES:Mass
END:VEVENT
BEGIN:VEVENT
DTSTART;TZID=America/Chicago:20211118T080000
DTEND;TZID=America/Chicago:20211118T084500
DTSTAMP:20260422T110744
CREATED:20211019T153907Z
LAST-MODIFIED:20211109T180904Z
UID:10000968-1637222400-1637225100@www.stpetercatholicchurch.org
SUMMARY:Daily Mass
DESCRIPTION:Daily Mass: 8:00 am\nNo Mass on Monday’s
URL:https://www.stpetercatholicchurch.org/event/daily-mass-43/
LOCATION:Church
CATEGORIES:Mass
END:VEVENT
BEGIN:VEVENT
DTSTART;TZID=America/Chicago:20211117T080000
DTEND;TZID=America/Chicago:20211117T084500
DTSTAMP:20260422T110744
CREATED:20211018T152408Z
LAST-MODIFIED:20211109T180904Z
UID:10000967-1637136000-1637138700@www.stpetercatholicchurch.org
SUMMARY:Daily Mass
DESCRIPTION:Daily Mass: 8:00 am\nNo Mass on Monday’s
URL:https://www.stpetercatholicchurch.org/event/daily-mass-42/
LOCATION:Church
CATEGORIES:Mass
END:VEVENT
BEGIN:VEVENT
DTSTART;TZID=America/Chicago:20211116T080000
DTEND;TZID=America/Chicago:20211116T084500
DTSTAMP:20260422T110744
CREATED:20211017T152408Z
LAST-MODIFIED:20211109T180903Z
UID:10000966-1637049600-1637052300@www.stpetercatholicchurch.org
SUMMARY:Daily Mass
DESCRIPTION:Daily Mass: 8:00 am\nNo Mass on Monday’s
URL:https://www.stpetercatholicchurch.org/event/daily-mass-41/
LOCATION:Church
CATEGORIES:Mass
END:VEVENT
BEGIN:VEVENT
DTSTART;TZID=America/Chicago:20211114T000000
DTEND;TZID=America/Chicago:20211115T000000
DTSTAMP:20260422T110744
CREATED:20211015T150908Z
LAST-MODIFIED:20211109T180903Z
UID:10000962-1636848000-1636934400@www.stpetercatholicchurch.org
SUMMARY:Sunday Masses
DESCRIPTION:7:00 am\,\n9:00 am &\n11:00 am
URL:https://www.stpetercatholicchurch.org/event/sunday-masses-11/
LOCATION:Church
CATEGORIES:Mass
END:VEVENT
BEGIN:VEVENT
DTSTART;TZID=America/Chicago:20211113T160000
DTEND;TZID=America/Chicago:20211113T171500
DTSTAMP:20260422T110744
CREATED:20211014T150907Z
LAST-MODIFIED:20211109T180906Z
UID:10000961-1636819200-1636823700@www.stpetercatholicchurch.org
SUMMARY:Mass
DESCRIPTION:
URL:https://www.stpetercatholicchurch.org/event/mass-11/
LOCATION:Church
CATEGORIES:Mass
END:VEVENT
BEGIN:VEVENT
DTSTART;TZID=America/Chicago:20211112T080000
DTEND;TZID=America/Chicago:20211112T084500
DTSTAMP:20260422T110744
CREATED:20211013T150907Z
LAST-MODIFIED:20211109T180903Z
UID:10000955-1636704000-1636706700@www.stpetercatholicchurch.org
SUMMARY:Daily Mass
DESCRIPTION:Daily Mass: 8:00 am\nNo Mass on Monday’s
URL:https://www.stpetercatholicchurch.org/event/daily-mass-40/
LOCATION:Church
CATEGORIES:Mass
END:VEVENT
BEGIN:VEVENT
DTSTART;TZID=America/Chicago:20211111T080000
DTEND;TZID=America/Chicago:20211111T084500
DTSTAMP:20260422T110744
CREATED:20211012T145408Z
LAST-MODIFIED:20211109T180903Z
UID:10000948-1636617600-1636620300@www.stpetercatholicchurch.org
SUMMARY:Daily Mass
DESCRIPTION:Daily Mass: 8:00 am\nNo Mass on Monday’s
URL:https://www.stpetercatholicchurch.org/event/daily-mass-39/
LOCATION:Church
CATEGORIES:Mass
END:VEVENT
BEGIN:VEVENT
DTSTART;TZID=America/Chicago:20211110T080000
DTEND;TZID=America/Chicago:20211110T084500
DTSTAMP:20260422T110744
CREATED:20211011T145408Z
LAST-MODIFIED:20211109T180903Z
UID:10000946-1636531200-1636533900@www.stpetercatholicchurch.org
SUMMARY:Daily Mass
DESCRIPTION:Daily Mass: 8:00 am\nNo Mass on Monday’s
URL:https://www.stpetercatholicchurch.org/event/daily-mass-38/
LOCATION:Church
CATEGORIES:Mass
END:VEVENT
BEGIN:VEVENT
DTSTART;TZID=America/Chicago:20211109T080000
DTEND;TZID=America/Chicago:20211109T084500
DTSTAMP:20260422T110744
CREATED:20211010T145408Z
LAST-MODIFIED:20211108T180906Z
UID:10000941-1636444800-1636447500@www.stpetercatholicchurch.org
SUMMARY:Daily Mass
DESCRIPTION:Daily Mass: 8:00 am\nNo Mass on Monday’s
URL:https://www.stpetercatholicchurch.org/event/daily-mass-37/
LOCATION:Church
CATEGORIES:Mass
END:VEVENT
BEGIN:VEVENT
DTSTART;TZID=America/Chicago:20211107T000000
DTEND;TZID=America/Chicago:20211108T000000
DTSTAMP:20260422T110744
CREATED:20211008T143908Z
LAST-MODIFIED:20211107T175403Z
UID:10000937-1636243200-1636329600@www.stpetercatholicchurch.org
SUMMARY:Sunday Masses
DESCRIPTION:7:00 am\,\n9:00 am &\n11:00 am
URL:https://www.stpetercatholicchurch.org/event/sunday-masses-10/
LOCATION:Church
CATEGORIES:Mass
END:VEVENT
BEGIN:VEVENT
DTSTART;TZID=America/Chicago:20211106T160000
DTEND;TZID=America/Chicago:20211106T171500
DTSTAMP:20260422T110744
CREATED:20211007T142307Z
LAST-MODIFIED:20211106T173903Z
UID:10000930-1636214400-1636218900@www.stpetercatholicchurch.org
SUMMARY:Mass
DESCRIPTION:
URL:https://www.stpetercatholicchurch.org/event/mass-10/
LOCATION:Church
CATEGORIES:Mass
END:VEVENT
BEGIN:VEVENT
DTSTART;TZID=America/Chicago:20211105T080000
DTEND;TZID=America/Chicago:20211105T084500
DTSTAMP:20260422T110744
CREATED:20211007T142307Z
LAST-MODIFIED:20211104T172402Z
UID:10000927-1636099200-1636101900@www.stpetercatholicchurch.org
SUMMARY:Daily Mass
DESCRIPTION:Daily Mass: 8:00 am\nNo Mass on Monday’s
URL:https://www.stpetercatholicchurch.org/event/daily-mass-36/
LOCATION:Church
CATEGORIES:Mass
END:VEVENT
END:VCALENDAR