BEGIN:VCALENDAR
VERSION:2.0
PRODID:-//St. Peter&#039;s Church - ECPv6.15.20//NONSGML v1.0//EN
CALSCALE:GREGORIAN
METHOD:PUBLISH
X-WR-CALNAME:St. Peter&#039;s Church
X-ORIGINAL-URL:https://www.stpetercatholicchurch.org
X-WR-CALDESC:Events for St. Peter&#039;s Church
REFRESH-INTERVAL;VALUE=DURATION:PT1H
X-Robots-Tag:noindex
X-PUBLISHED-TTL:PT1H
BEGIN:VTIMEZONE
TZID:America/Chicago
BEGIN:DAYLIGHT
TZOFFSETFROM:-0600
TZOFFSETTO:-0500
TZNAME:CDT
DTSTART:20200308T080000
END:DAYLIGHT
BEGIN:STANDARD
TZOFFSETFROM:-0500
TZOFFSETTO:-0600
TZNAME:CST
DTSTART:20201101T070000
END:STANDARD
BEGIN:DAYLIGHT
TZOFFSETFROM:-0600
TZOFFSETTO:-0500
TZNAME:CDT
DTSTART:20210314T080000
END:DAYLIGHT
BEGIN:STANDARD
TZOFFSETFROM:-0500
TZOFFSETTO:-0600
TZNAME:CST
DTSTART:20211107T070000
END:STANDARD
BEGIN:DAYLIGHT
TZOFFSETFROM:-0600
TZOFFSETTO:-0500
TZNAME:CDT
DTSTART:20220313T080000
END:DAYLIGHT
BEGIN:STANDARD
TZOFFSETFROM:-0500
TZOFFSETTO:-0600
TZNAME:CST
DTSTART:20221106T070000
END:STANDARD
BEGIN:DAYLIGHT
TZOFFSETFROM:-0600
TZOFFSETTO:-0500
TZNAME:CDT
DTSTART:20230312T080000
END:DAYLIGHT
BEGIN:STANDARD
TZOFFSETFROM:-0500
TZOFFSETTO:-0600
TZNAME:CST
DTSTART:20231105T070000
END:STANDARD
END:VTIMEZONE
BEGIN:VEVENT
DTSTART;TZID=America/Chicago:20220101T160000
DTEND;TZID=America/Chicago:20220101T171500
DTSTAMP:20260422T075119
CREATED:20211020T155419Z
LAST-MODIFIED:20211109T180914Z
UID:10001104-1641052800-1641057300@www.stpetercatholicchurch.org
SUMMARY:Mass
DESCRIPTION:
URL:https://www.stpetercatholicchurch.org/event/mass-18/
LOCATION:Church
CATEGORIES:Mass
END:VEVENT
BEGIN:VEVENT
DTSTART;TZID=America/Chicago:20211231T080000
DTEND;TZID=America/Chicago:20211231T084500
DTSTAMP:20260422T075119
CREATED:20211020T155418Z
LAST-MODIFIED:20211109T180914Z
UID:10001097-1640937600-1640940300@www.stpetercatholicchurch.org
SUMMARY:Daily Mass
DESCRIPTION:Daily Mass: 8:00 am\nNo Mass on Monday’s
URL:https://www.stpetercatholicchurch.org/event/daily-mass-68/
LOCATION:Church
CATEGORIES:Mass
END:VEVENT
BEGIN:VEVENT
DTSTART;TZID=America/Chicago:20211230T080000
DTEND;TZID=America/Chicago:20211230T084500
DTSTAMP:20260422T075119
CREATED:20211020T155418Z
LAST-MODIFIED:20211109T180914Z
UID:10001096-1640851200-1640853900@www.stpetercatholicchurch.org
SUMMARY:Daily Mass
DESCRIPTION:Daily Mass: 8:00 am\nNo Mass on Monday’s
URL:https://www.stpetercatholicchurch.org/event/daily-mass-67/
LOCATION:Church
CATEGORIES:Mass
END:VEVENT
BEGIN:VEVENT
DTSTART;TZID=America/Chicago:20211229T080000
DTEND;TZID=America/Chicago:20211229T084500
DTSTAMP:20260422T075119
CREATED:20211020T155418Z
LAST-MODIFIED:20211109T180913Z
UID:10001095-1640764800-1640767500@www.stpetercatholicchurch.org
SUMMARY:Daily Mass
DESCRIPTION:Daily Mass: 8:00 am\nNo Mass on Monday’s
URL:https://www.stpetercatholicchurch.org/event/daily-mass-66/
LOCATION:Church
CATEGORIES:Mass
END:VEVENT
BEGIN:VEVENT
DTSTART;TZID=America/Chicago:20211228T080000
DTEND;TZID=America/Chicago:20211228T084500
DTSTAMP:20260422T075119
CREATED:20211020T155418Z
LAST-MODIFIED:20211109T180913Z
UID:10000953-1640678400-1640681100@www.stpetercatholicchurch.org
SUMMARY:Daily Mass
DESCRIPTION:Daily Mass: 8:00 am\nNo Mass on Monday’s
URL:https://www.stpetercatholicchurch.org/event/daily-mass-65/
LOCATION:Church
CATEGORIES:Mass
END:VEVENT
BEGIN:VEVENT
DTSTART;TZID=America/Chicago:20211226T000000
DTEND;TZID=America/Chicago:20211227T000000
DTSTAMP:20260422T075119
CREATED:20211020T155417Z
LAST-MODIFIED:20211109T180913Z
UID:10000942-1640476800-1640563200@www.stpetercatholicchurch.org
SUMMARY:Sunday Masses
DESCRIPTION:7:00 am\,\n9:00 am &\n11:00 am
URL:https://www.stpetercatholicchurch.org/event/sunday-masses-17/
LOCATION:Church
CATEGORIES:Mass
END:VEVENT
BEGIN:VEVENT
DTSTART;TZID=America/Chicago:20211225T160000
DTEND;TZID=America/Chicago:20211225T171500
DTSTAMP:20260422T075119
CREATED:20211020T155417Z
LAST-MODIFIED:20211109T180913Z
UID:10001094-1640448000-1640452500@www.stpetercatholicchurch.org
SUMMARY:Mass
DESCRIPTION:
URL:https://www.stpetercatholicchurch.org/event/mass-17/
LOCATION:Church
CATEGORIES:Mass
END:VEVENT
BEGIN:VEVENT
DTSTART;TZID=America/Chicago:20211224T080000
DTEND;TZID=America/Chicago:20211224T084500
DTSTAMP:20260422T075119
CREATED:20211020T155416Z
LAST-MODIFIED:20211109T180912Z
UID:10001088-1640332800-1640335500@www.stpetercatholicchurch.org
SUMMARY:Daily Mass
DESCRIPTION:Daily Mass: 8:00 am\nNo Mass on Monday’s
URL:https://www.stpetercatholicchurch.org/event/daily-mass-64/
LOCATION:Church
CATEGORIES:Mass
END:VEVENT
BEGIN:VEVENT
DTSTART;TZID=America/Chicago:20211223T080000
DTEND;TZID=America/Chicago:20211223T084500
DTSTAMP:20260422T075119
CREATED:20211020T155416Z
LAST-MODIFIED:20211109T180912Z
UID:10001086-1640246400-1640249100@www.stpetercatholicchurch.org
SUMMARY:Daily Mass
DESCRIPTION:Daily Mass: 8:00 am\nNo Mass on Monday’s
URL:https://www.stpetercatholicchurch.org/event/daily-mass-63/
LOCATION:Church
CATEGORIES:Mass
END:VEVENT
BEGIN:VEVENT
DTSTART;TZID=America/Chicago:20211222T080000
DTEND;TZID=America/Chicago:20211222T084500
DTSTAMP:20260422T075119
CREATED:20211020T155416Z
LAST-MODIFIED:20211109T180912Z
UID:10001085-1640160000-1640162700@www.stpetercatholicchurch.org
SUMMARY:Daily Mass
DESCRIPTION:Daily Mass: 8:00 am\nNo Mass on Monday’s
URL:https://www.stpetercatholicchurch.org/event/daily-mass-62/
LOCATION:Church
CATEGORIES:Mass
END:VEVENT
BEGIN:VEVENT
DTSTART;TZID=America/Chicago:20211221T080000
DTEND;TZID=America/Chicago:20211221T084500
DTSTAMP:20260422T075119
CREATED:20211020T155416Z
LAST-MODIFIED:20211109T180912Z
UID:10001084-1640073600-1640076300@www.stpetercatholicchurch.org
SUMMARY:Daily Mass
DESCRIPTION:Daily Mass: 8:00 am\nNo Mass on Monday’s
URL:https://www.stpetercatholicchurch.org/event/daily-mass-61/
LOCATION:Church
CATEGORIES:Mass
END:VEVENT
BEGIN:VEVENT
DTSTART;TZID=America/Chicago:20211219T000000
DTEND;TZID=America/Chicago:20211220T000000
DTSTAMP:20260422T075119
CREATED:20211020T155415Z
LAST-MODIFIED:20211109T180912Z
UID:10001079-1639872000-1639958400@www.stpetercatholicchurch.org
SUMMARY:Sunday Masses
DESCRIPTION:7:00 am\,\n9:00 am &\n11:00 am
URL:https://www.stpetercatholicchurch.org/event/sunday-masses-16/
LOCATION:Church
CATEGORIES:Mass
END:VEVENT
BEGIN:VEVENT
DTSTART;TZID=America/Chicago:20211218T160000
DTEND;TZID=America/Chicago:20211218T171500
DTSTAMP:20260422T075119
CREATED:20211020T155415Z
LAST-MODIFIED:20211109T180912Z
UID:10001077-1639843200-1639847700@www.stpetercatholicchurch.org
SUMMARY:Mass
DESCRIPTION:
URL:https://www.stpetercatholicchurch.org/event/mass-16/
LOCATION:Church
CATEGORIES:Mass
END:VEVENT
BEGIN:VEVENT
DTSTART;TZID=America/Chicago:20211217T080000
DTEND;TZID=America/Chicago:20211217T084500
DTSTAMP:20260422T075119
CREATED:20211020T155414Z
LAST-MODIFIED:20211109T180911Z
UID:10001073-1639728000-1639730700@www.stpetercatholicchurch.org
SUMMARY:Daily Mass
DESCRIPTION:Daily Mass: 8:00 am\nNo Mass on Monday’s
URL:https://www.stpetercatholicchurch.org/event/daily-mass-60/
LOCATION:Church
CATEGORIES:Mass
END:VEVENT
BEGIN:VEVENT
DTSTART;TZID=America/Chicago:20211216T080000
DTEND;TZID=America/Chicago:20211216T084500
DTSTAMP:20260422T075119
CREATED:20211020T155414Z
LAST-MODIFIED:20211109T180911Z
UID:10001071-1639641600-1639644300@www.stpetercatholicchurch.org
SUMMARY:Daily Mass
DESCRIPTION:Daily Mass: 8:00 am\nNo Mass on Monday’s
URL:https://www.stpetercatholicchurch.org/event/daily-mass-59/
LOCATION:Church
CATEGORIES:Mass
END:VEVENT
BEGIN:VEVENT
DTSTART;TZID=America/Chicago:20211215T080000
DTEND;TZID=America/Chicago:20211215T084500
DTSTAMP:20260422T075119
CREATED:20211020T155414Z
LAST-MODIFIED:20211109T180911Z
UID:10001070-1639555200-1639557900@www.stpetercatholicchurch.org
SUMMARY:Daily Mass
DESCRIPTION:Daily Mass: 8:00 am\nNo Mass on Monday’s
URL:https://www.stpetercatholicchurch.org/event/daily-mass-58/
LOCATION:Church
CATEGORIES:Mass
END:VEVENT
BEGIN:VEVENT
DTSTART;TZID=America/Chicago:20211214T080000
DTEND;TZID=America/Chicago:20211214T084500
DTSTAMP:20260422T075119
CREATED:20211020T155414Z
LAST-MODIFIED:20211109T180911Z
UID:10001068-1639468800-1639471500@www.stpetercatholicchurch.org
SUMMARY:Daily Mass
DESCRIPTION:Daily Mass: 8:00 am\nNo Mass on Monday’s
URL:https://www.stpetercatholicchurch.org/event/daily-mass-57/
LOCATION:Church
CATEGORIES:Mass
END:VEVENT
BEGIN:VEVENT
DTSTART;TZID=America/Chicago:20211212T000000
DTEND;TZID=America/Chicago:20211213T000000
DTSTAMP:20260422T075119
CREATED:20211020T155413Z
LAST-MODIFIED:20211109T180911Z
UID:10001065-1639267200-1639353600@www.stpetercatholicchurch.org
SUMMARY:Sunday Masses
DESCRIPTION:7:00 am\,\n9:00 am &\n11:00 am
URL:https://www.stpetercatholicchurch.org/event/sunday-masses-15/
LOCATION:Church
CATEGORIES:Mass
END:VEVENT
BEGIN:VEVENT
DTSTART;TZID=America/Chicago:20211211T160000
DTEND;TZID=America/Chicago:20211211T171500
DTSTAMP:20260422T075119
CREATED:20211020T155413Z
LAST-MODIFIED:20211109T180910Z
UID:10001062-1639238400-1639242900@www.stpetercatholicchurch.org
SUMMARY:Mass
DESCRIPTION:
URL:https://www.stpetercatholicchurch.org/event/mass-15/
LOCATION:Church
CATEGORIES:Mass
END:VEVENT
BEGIN:VEVENT
DTSTART;TZID=America/Chicago:20211210T080000
DTEND;TZID=America/Chicago:20211210T084500
DTSTAMP:20260422T075119
CREATED:20211020T155412Z
LAST-MODIFIED:20211109T180910Z
UID:10001057-1639123200-1639125900@www.stpetercatholicchurch.org
SUMMARY:Daily Mass
DESCRIPTION:Daily Mass: 8:00 am\nNo Mass on Monday’s
URL:https://www.stpetercatholicchurch.org/event/daily-mass-56/
LOCATION:Church
CATEGORIES:Mass
END:VEVENT
BEGIN:VEVENT
DTSTART;TZID=America/Chicago:20211209T080000
DTEND;TZID=America/Chicago:20211209T084500
DTSTAMP:20260422T075119
CREATED:20211020T155412Z
LAST-MODIFIED:20211109T180909Z
UID:10001054-1639036800-1639039500@www.stpetercatholicchurch.org
SUMMARY:Daily Mass
DESCRIPTION:Daily Mass: 8:00 am\nNo Mass on Monday’s
URL:https://www.stpetercatholicchurch.org/event/daily-mass-55/
LOCATION:Church
CATEGORIES:Mass
END:VEVENT
BEGIN:VEVENT
DTSTART;TZID=America/Chicago:20211208T080000
DTEND;TZID=America/Chicago:20211208T084500
DTSTAMP:20260422T075119
CREATED:20211020T155412Z
LAST-MODIFIED:20211109T180909Z
UID:10001053-1638950400-1638953100@www.stpetercatholicchurch.org
SUMMARY:Daily Mass
DESCRIPTION:Daily Mass: 8:00 am\nNo Mass on Monday’s
URL:https://www.stpetercatholicchurch.org/event/daily-mass-54/
LOCATION:Church
CATEGORIES:Mass
END:VEVENT
BEGIN:VEVENT
DTSTART;TZID=America/Chicago:20211207T080000
DTEND;TZID=America/Chicago:20211207T084500
DTSTAMP:20260422T075119
CREATED:20211020T155412Z
LAST-MODIFIED:20211109T180909Z
UID:10001051-1638864000-1638866700@www.stpetercatholicchurch.org
SUMMARY:Daily Mass
DESCRIPTION:Daily Mass: 8:00 am\nNo Mass on Monday’s
URL:https://www.stpetercatholicchurch.org/event/daily-mass-53/
LOCATION:Church
CATEGORIES:Mass
END:VEVENT
BEGIN:VEVENT
DTSTART;TZID=America/Chicago:20211205T000000
DTEND;TZID=America/Chicago:20211206T000000
DTSTAMP:20260422T075119
CREATED:20211020T155411Z
LAST-MODIFIED:20211109T180909Z
UID:10001046-1638662400-1638748800@www.stpetercatholicchurch.org
SUMMARY:Sunday Masses
DESCRIPTION:7:00 am\,\n9:00 am &\n11:00 am
URL:https://www.stpetercatholicchurch.org/event/sunday-masses-14/
LOCATION:Church
CATEGORIES:Mass
END:VEVENT
BEGIN:VEVENT
DTSTART;TZID=America/Chicago:20211204T160000
DTEND;TZID=America/Chicago:20211204T171500
DTSTAMP:20260422T075119
CREATED:20211020T155411Z
LAST-MODIFIED:20211109T180908Z
UID:10001034-1638633600-1638638100@www.stpetercatholicchurch.org
SUMMARY:Mass
DESCRIPTION:
URL:https://www.stpetercatholicchurch.org/event/mass-14/
LOCATION:Church
CATEGORIES:Mass
END:VEVENT
BEGIN:VEVENT
DTSTART;TZID=America/Chicago:20211203T080000
DTEND;TZID=America/Chicago:20211203T084500
DTSTAMP:20260422T075119
CREATED:20211020T155410Z
LAST-MODIFIED:20211109T180908Z
UID:10000989-1638518400-1638521100@www.stpetercatholicchurch.org
SUMMARY:Daily Mass
DESCRIPTION:Daily Mass: 8:00 am\nNo Mass on Monday’s
URL:https://www.stpetercatholicchurch.org/event/daily-mass-52/
LOCATION:Church
CATEGORIES:Mass
END:VEVENT
BEGIN:VEVENT
DTSTART;TZID=America/Chicago:20211202T080000
DTEND;TZID=America/Chicago:20211202T084500
DTSTAMP:20260422T075119
CREATED:20211020T155410Z
LAST-MODIFIED:20211109T180908Z
UID:10000987-1638432000-1638434700@www.stpetercatholicchurch.org
SUMMARY:Daily Mass
DESCRIPTION:Daily Mass: 8:00 am\nNo Mass on Monday’s
URL:https://www.stpetercatholicchurch.org/event/daily-mass-51/
LOCATION:Church
CATEGORIES:Mass
END:VEVENT
BEGIN:VEVENT
DTSTART;TZID=America/Chicago:20211201T080000
DTEND;TZID=America/Chicago:20211201T084500
DTSTAMP:20260422T075119
CREATED:20211020T155410Z
LAST-MODIFIED:20211109T180908Z
UID:10000896-1638345600-1638348300@www.stpetercatholicchurch.org
SUMMARY:Daily Mass
DESCRIPTION:Daily Mass: 8:00 am\nNo Mass on Monday’s
URL:https://www.stpetercatholicchurch.org/event/daily-mass-50/
LOCATION:Church
CATEGORIES:Mass
END:VEVENT
BEGIN:VEVENT
DTSTART;TZID=America/Chicago:20211130T080000
DTEND;TZID=America/Chicago:20211130T084500
DTSTAMP:20260422T075119
CREATED:20211020T155410Z
LAST-MODIFIED:20211109T180908Z
UID:10000892-1638259200-1638261900@www.stpetercatholicchurch.org
SUMMARY:Daily Mass
DESCRIPTION:Daily Mass: 8:00 am\nNo Mass on Monday’s
URL:https://www.stpetercatholicchurch.org/event/daily-mass-49/
LOCATION:Church
CATEGORIES:Mass
END:VEVENT
BEGIN:VEVENT
DTSTART;TZID=America/Chicago:20211128T000000
DTEND;TZID=America/Chicago:20211129T000000
DTSTAMP:20260422T075119
CREATED:20211020T155409Z
LAST-MODIFIED:20211109T180907Z
UID:10000890-1638057600-1638144000@www.stpetercatholicchurch.org
SUMMARY:Sunday Masses
DESCRIPTION:7:00 am\,\n9:00 am &\n11:00 am
URL:https://www.stpetercatholicchurch.org/event/sunday-masses-13/
LOCATION:Church
CATEGORIES:Mass
END:VEVENT
END:VCALENDAR