BEGIN:VCALENDAR
VERSION:2.0
PRODID:-//St. Peter&#039;s Church - ECPv6.15.20//NONSGML v1.0//EN
CALSCALE:GREGORIAN
METHOD:PUBLISH
X-WR-CALNAME:St. Peter&#039;s Church
X-ORIGINAL-URL:https://www.stpetercatholicchurch.org
X-WR-CALDESC:Events for St. Peter&#039;s Church
REFRESH-INTERVAL;VALUE=DURATION:PT1H
X-Robots-Tag:noindex
X-PUBLISHED-TTL:PT1H
BEGIN:VTIMEZONE
TZID:America/Chicago
BEGIN:DAYLIGHT
TZOFFSETFROM:-0600
TZOFFSETTO:-0500
TZNAME:CDT
DTSTART:20200308T080000
END:DAYLIGHT
BEGIN:STANDARD
TZOFFSETFROM:-0500
TZOFFSETTO:-0600
TZNAME:CST
DTSTART:20201101T070000
END:STANDARD
BEGIN:DAYLIGHT
TZOFFSETFROM:-0600
TZOFFSETTO:-0500
TZNAME:CDT
DTSTART:20210314T080000
END:DAYLIGHT
BEGIN:STANDARD
TZOFFSETFROM:-0500
TZOFFSETTO:-0600
TZNAME:CST
DTSTART:20211107T070000
END:STANDARD
BEGIN:DAYLIGHT
TZOFFSETFROM:-0600
TZOFFSETTO:-0500
TZNAME:CDT
DTSTART:20220313T080000
END:DAYLIGHT
BEGIN:STANDARD
TZOFFSETFROM:-0500
TZOFFSETTO:-0600
TZNAME:CST
DTSTART:20221106T070000
END:STANDARD
END:VTIMEZONE
BEGIN:VEVENT
DTSTART;TZID=America/Chicago:20211104T080000
DTEND;TZID=America/Chicago:20211104T084500
DTSTAMP:20260422T162147
CREATED:20211005T202408Z
LAST-MODIFIED:20211103T172402Z
UID:10000923-1636012800-1636015500@www.stpetercatholicchurch.org
SUMMARY:Daily Mass
DESCRIPTION:Daily Mass: 8:00 am\nNo Mass on Monday’s
URL:https://www.stpetercatholicchurch.org/event/daily-mass-35/
LOCATION:Church
CATEGORIES:Mass
END:VEVENT
BEGIN:VEVENT
DTSTART;TZID=America/Chicago:20211103T080000
DTEND;TZID=America/Chicago:20211103T084500
DTSTAMP:20260422T162147
CREATED:20211004T202407Z
LAST-MODIFIED:20211102T170902Z
UID:10000922-1635926400-1635929100@www.stpetercatholicchurch.org
SUMMARY:Daily Mass
DESCRIPTION:Daily Mass: 8:00 am\nNo Mass on Monday’s
URL:https://www.stpetercatholicchurch.org/event/daily-mass-34/
LOCATION:Church
CATEGORIES:Mass
END:VEVENT
BEGIN:VEVENT
DTSTART;TZID=America/Chicago:20211102T080000
DTEND;TZID=America/Chicago:20211102T084500
DTSTAMP:20260422T162147
CREATED:20211003T200907Z
LAST-MODIFIED:20211101T165403Z
UID:10000840-1635840000-1635842700@www.stpetercatholicchurch.org
SUMMARY:Daily Mass
DESCRIPTION:Daily Mass: 8:00 am\nNo Mass on Monday’s
URL:https://www.stpetercatholicchurch.org/event/daily-mass-33/
LOCATION:Church
CATEGORIES:Mass
END:VEVENT
BEGIN:VEVENT
DTSTART;TZID=America/Chicago:20211031T000000
DTEND;TZID=America/Chicago:20211101T000000
DTSTAMP:20260422T162147
CREATED:20211001T200907Z
LAST-MODIFIED:20211031T165403Z
UID:10000835-1635638400-1635724800@www.stpetercatholicchurch.org
SUMMARY:Sunday Masses
DESCRIPTION:7:00 am\,\n9:00 am &\n11:00 am
URL:https://www.stpetercatholicchurch.org/event/sunday-masses-9/
LOCATION:Church
CATEGORIES:Mass
END:VEVENT
BEGIN:VEVENT
DTSTART;TZID=America/Chicago:20211030T160000
DTEND;TZID=America/Chicago:20211030T171500
DTSTAMP:20260422T162147
CREATED:20210930T195408Z
LAST-MODIFIED:20211030T163902Z
UID:10000831-1635609600-1635614100@www.stpetercatholicchurch.org
SUMMARY:Mass
DESCRIPTION:
URL:https://www.stpetercatholicchurch.org/event/mass-9/
LOCATION:Church
CATEGORIES:Mass
END:VEVENT
BEGIN:VEVENT
DTSTART;TZID=America/Chicago:20211029T080000
DTEND;TZID=America/Chicago:20211029T084500
DTSTAMP:20260422T162147
CREATED:20210929T193907Z
LAST-MODIFIED:20211028T163903Z
UID:10000920-1635494400-1635497100@www.stpetercatholicchurch.org
SUMMARY:Daily Mass
DESCRIPTION:Daily Mass: 8:00 am\nNo Mass on Monday’s
URL:https://www.stpetercatholicchurch.org/event/daily-mass-32/
LOCATION:Church
CATEGORIES:Mass
END:VEVENT
BEGIN:VEVENT
DTSTART;TZID=America/Chicago:20211028T080000
DTEND;TZID=America/Chicago:20211028T084500
DTSTAMP:20260422T162147
CREATED:20210928T192408Z
LAST-MODIFIED:20211027T162403Z
UID:10000918-1635408000-1635410700@www.stpetercatholicchurch.org
SUMMARY:Daily Mass
DESCRIPTION:Daily Mass: 8:00 am\nNo Mass on Monday’s
URL:https://www.stpetercatholicchurch.org/event/daily-mass-31/
LOCATION:Church
CATEGORIES:Mass
END:VEVENT
BEGIN:VEVENT
DTSTART;TZID=America/Chicago:20211027T080000
DTEND;TZID=America/Chicago:20211027T084500
DTSTAMP:20260422T162147
CREATED:20210927T192408Z
LAST-MODIFIED:20211026T162402Z
UID:10000917-1635321600-1635324300@www.stpetercatholicchurch.org
SUMMARY:Daily Mass
DESCRIPTION:Daily Mass: 8:00 am\nNo Mass on Monday’s
URL:https://www.stpetercatholicchurch.org/event/daily-mass-30/
LOCATION:Church
CATEGORIES:Mass
END:VEVENT
BEGIN:VEVENT
DTSTART;TZID=America/Chicago:20211026T080000
DTEND;TZID=America/Chicago:20211026T084500
DTSTAMP:20260422T162147
CREATED:20210926T190907Z
LAST-MODIFIED:20211025T162402Z
UID:10000914-1635235200-1635237900@www.stpetercatholicchurch.org
SUMMARY:Daily Mass
DESCRIPTION:Daily Mass: 8:00 am\nNo Mass on Monday’s
URL:https://www.stpetercatholicchurch.org/event/daily-mass-29/
LOCATION:Church
CATEGORIES:Mass
END:VEVENT
BEGIN:VEVENT
DTSTART;TZID=America/Chicago:20211024T000000
DTEND;TZID=America/Chicago:20211025T000000
DTSTAMP:20260422T162147
CREATED:20210924T190908Z
LAST-MODIFIED:20211024T162402Z
UID:10000911-1635033600-1635120000@www.stpetercatholicchurch.org
SUMMARY:Sunday Masses
DESCRIPTION:7:00 am\,\n9:00 am &\n11:00 am
URL:https://www.stpetercatholicchurch.org/event/sunday-masses-8/
LOCATION:Church
CATEGORIES:Mass
END:VEVENT
BEGIN:VEVENT
DTSTART;TZID=America/Chicago:20211023T160000
DTEND;TZID=America/Chicago:20211023T171500
DTSTAMP:20260422T162147
CREATED:20210923T190909Z
LAST-MODIFIED:20211023T162402Z
UID:10000910-1635004800-1635009300@www.stpetercatholicchurch.org
SUMMARY:Mass
DESCRIPTION:
URL:https://www.stpetercatholicchurch.org/event/mass-8/
LOCATION:Church
CATEGORIES:Mass
END:VEVENT
BEGIN:VEVENT
DTSTART;TZID=America/Chicago:20211022T080000
DTEND;TZID=America/Chicago:20211022T084500
DTSTAMP:20260422T162147
CREATED:20210922T185408Z
LAST-MODIFIED:20211021T160903Z
UID:10000904-1634889600-1634892300@www.stpetercatholicchurch.org
SUMMARY:Daily Mass
DESCRIPTION:Daily Mass: 8:00 am\nNo Mass on Monday’s
URL:https://www.stpetercatholicchurch.org/event/daily-mass-28/
LOCATION:Church
CATEGORIES:Mass
END:VEVENT
BEGIN:VEVENT
DTSTART;TZID=America/Chicago:20211021T080000
DTEND;TZID=America/Chicago:20211021T084500
DTSTAMP:20260422T162147
CREATED:20210921T185409Z
LAST-MODIFIED:20211020T155402Z
UID:10000902-1634803200-1634805900@www.stpetercatholicchurch.org
SUMMARY:Daily Mass
DESCRIPTION:Daily Mass: 8:00 am\nNo Mass on Monday’s
URL:https://www.stpetercatholicchurch.org/event/daily-mass-27/
LOCATION:Church
CATEGORIES:Mass
END:VEVENT
BEGIN:VEVENT
DTSTART;TZID=America/Chicago:20211020T080000
DTEND;TZID=America/Chicago:20211020T084500
DTSTAMP:20260422T162147
CREATED:20210920T185408Z
LAST-MODIFIED:20211019T153902Z
UID:10000901-1634716800-1634719500@www.stpetercatholicchurch.org
SUMMARY:Daily Mass
DESCRIPTION:Daily Mass: 8:00 am\nNo Mass on Monday’s
URL:https://www.stpetercatholicchurch.org/event/daily-mass-26/
LOCATION:Church
CATEGORIES:Mass
END:VEVENT
BEGIN:VEVENT
DTSTART;TZID=America/Chicago:20211019T080000
DTEND;TZID=America/Chicago:20211019T084500
DTSTAMP:20260422T162147
CREATED:20210919T185408Z
LAST-MODIFIED:20211018T152402Z
UID:10000900-1634630400-1634633100@www.stpetercatholicchurch.org
SUMMARY:Daily Mass
DESCRIPTION:Daily Mass: 8:00 am\nNo Mass on Monday’s
URL:https://www.stpetercatholicchurch.org/event/daily-mass-25/
LOCATION:Church
CATEGORIES:Mass
END:VEVENT
BEGIN:VEVENT
DTSTART;TZID=America/Chicago:20211017T000000
DTEND;TZID=America/Chicago:20211018T000000
DTSTAMP:20260422T162147
CREATED:20210917T185408Z
LAST-MODIFIED:20211017T152402Z
UID:10000893-1634428800-1634515200@www.stpetercatholicchurch.org
SUMMARY:Sunday Masses
DESCRIPTION:7:00 am\,\n9:00 am &\n11:00 am
URL:https://www.stpetercatholicchurch.org/event/sunday-masses-7/
LOCATION:Church
CATEGORIES:Mass
END:VEVENT
BEGIN:VEVENT
DTSTART;TZID=America/Chicago:20211016T160000
DTEND;TZID=America/Chicago:20211016T171500
DTSTAMP:20260422T162147
CREATED:20210916T183909Z
LAST-MODIFIED:20211016T152403Z
UID:10000891-1634400000-1634404500@www.stpetercatholicchurch.org
SUMMARY:Mass
DESCRIPTION:
URL:https://www.stpetercatholicchurch.org/event/mass-7/
LOCATION:Church
CATEGORIES:Mass
END:VEVENT
BEGIN:VEVENT
DTSTART;TZID=America/Chicago:20211015T080000
DTEND;TZID=America/Chicago:20211015T084500
DTSTAMP:20260422T162147
CREATED:20210915T182408Z
LAST-MODIFIED:20211014T150902Z
UID:10000879-1634284800-1634287500@www.stpetercatholicchurch.org
SUMMARY:Daily Mass
DESCRIPTION:Daily Mass: 8:00 am\nNo Mass on Monday’s
URL:https://www.stpetercatholicchurch.org/event/daily-mass-24/
LOCATION:Church
CATEGORIES:Mass
END:VEVENT
BEGIN:VEVENT
DTSTART;TZID=America/Chicago:20211014T080000
DTEND;TZID=America/Chicago:20211014T084500
DTSTAMP:20260422T162147
CREATED:20210914T180908Z
LAST-MODIFIED:20211013T150902Z
UID:10000875-1634198400-1634201100@www.stpetercatholicchurch.org
SUMMARY:Daily Mass
DESCRIPTION:Daily Mass: 8:00 am\nNo Mass on Monday’s
URL:https://www.stpetercatholicchurch.org/event/daily-mass-23/
LOCATION:Church
CATEGORIES:Mass
END:VEVENT
BEGIN:VEVENT
DTSTART;TZID=America/Chicago:20211013T080000
DTEND;TZID=America/Chicago:20211013T084500
DTSTAMP:20260422T162147
CREATED:20210913T180910Z
LAST-MODIFIED:20211012T145403Z
UID:10000874-1634112000-1634114700@www.stpetercatholicchurch.org
SUMMARY:Daily Mass
DESCRIPTION:Daily Mass: 8:00 am\nNo Mass on Monday’s
URL:https://www.stpetercatholicchurch.org/event/daily-mass-22/
LOCATION:Church
CATEGORIES:Mass
END:VEVENT
BEGIN:VEVENT
DTSTART;TZID=America/Chicago:20211012T080000
DTEND;TZID=America/Chicago:20211012T084500
DTSTAMP:20260422T162147
CREATED:20210912T175408Z
LAST-MODIFIED:20211011T145403Z
UID:10000792-1634025600-1634028300@www.stpetercatholicchurch.org
SUMMARY:Daily Mass
DESCRIPTION:Daily Mass: 8:00 am\nNo Mass on Monday’s
URL:https://www.stpetercatholicchurch.org/event/daily-mass-21/
LOCATION:Church
CATEGORIES:Mass
END:VEVENT
BEGIN:VEVENT
DTSTART;TZID=America/Chicago:20211010T000000
DTEND;TZID=America/Chicago:20211011T000000
DTSTAMP:20260422T162147
CREATED:20210910T172410Z
LAST-MODIFIED:20211010T145402Z
UID:10000789-1633824000-1633910400@www.stpetercatholicchurch.org
SUMMARY:Sunday Masses
DESCRIPTION:7:00 am\,\n9:00 am &\n11:00 am
URL:https://www.stpetercatholicchurch.org/event/sunday-masses-6/
LOCATION:Church
CATEGORIES:Mass
END:VEVENT
BEGIN:VEVENT
DTSTART;TZID=America/Chicago:20211009T160000
DTEND;TZID=America/Chicago:20211009T171500
DTSTAMP:20260422T162147
CREATED:20210909T170908Z
LAST-MODIFIED:20211009T145402Z
UID:10000788-1633795200-1633799700@www.stpetercatholicchurch.org
SUMMARY:Mass
DESCRIPTION:
URL:https://www.stpetercatholicchurch.org/event/mass-6/
LOCATION:Church
CATEGORIES:Mass
END:VEVENT
BEGIN:VEVENT
DTSTART;TZID=America/Chicago:20211008T080000
DTEND;TZID=America/Chicago:20211008T084500
DTSTAMP:20260422T162147
CREATED:20210908T165408Z
LAST-MODIFIED:20211007T143303Z
UID:10000871-1633680000-1633682700@www.stpetercatholicchurch.org
SUMMARY:Daily Mass
DESCRIPTION:Daily Mass: 8:00 am\nNo Mass on Monday’s
URL:https://www.stpetercatholicchurch.org/event/daily-mass-20/
LOCATION:Church
CATEGORIES:Mass
END:VEVENT
BEGIN:VEVENT
DTSTART;TZID=America/Chicago:20211007T080000
DTEND;TZID=America/Chicago:20211007T084500
DTSTAMP:20260422T162147
CREATED:20210907T163908Z
LAST-MODIFIED:20211005T202404Z
UID:10000869-1633593600-1633596300@www.stpetercatholicchurch.org
SUMMARY:Daily Mass
DESCRIPTION:Daily Mass: 8:00 am\nNo Mass on Monday’s
URL:https://www.stpetercatholicchurch.org/event/daily-mass-19/
LOCATION:Church
CATEGORIES:Mass
END:VEVENT
BEGIN:VEVENT
DTSTART;TZID=America/Chicago:20211006T080000
DTEND;TZID=America/Chicago:20211006T084500
DTSTAMP:20260422T162147
CREATED:20210906T162409Z
LAST-MODIFIED:20211005T202404Z
UID:10000868-1633507200-1633509900@www.stpetercatholicchurch.org
SUMMARY:Daily Mass
DESCRIPTION:Daily Mass: 8:00 am\nNo Mass on Monday’s
URL:https://www.stpetercatholicchurch.org/event/daily-mass-18/
LOCATION:Church
CATEGORIES:Mass
END:VEVENT
BEGIN:VEVENT
DTSTART;TZID=America/Chicago:20211005T080000
DTEND;TZID=America/Chicago:20211005T084500
DTSTAMP:20260422T162147
CREATED:20210905T160906Z
LAST-MODIFIED:20211004T202403Z
UID:10000866-1633420800-1633423500@www.stpetercatholicchurch.org
SUMMARY:Daily Mass
DESCRIPTION:Daily Mass: 8:00 am\nNo Mass on Monday’s
URL:https://www.stpetercatholicchurch.org/event/daily-mass-17/
LOCATION:Church
CATEGORIES:Mass
END:VEVENT
BEGIN:VEVENT
DTSTART;TZID=America/Chicago:20211003T000000
DTEND;TZID=America/Chicago:20211004T000000
DTSTAMP:20260422T162147
CREATED:20210903T155108Z
LAST-MODIFIED:20211003T200902Z
UID:10000779-1633219200-1633305600@www.stpetercatholicchurch.org
SUMMARY:Sunday Masses
DESCRIPTION:7:00 am\,\n9:00 am &\n11:00 am
URL:https://www.stpetercatholicchurch.org/event/sunday-masses-5/
LOCATION:Church
CATEGORIES:Mass
END:VEVENT
BEGIN:VEVENT
DTSTART;TZID=America/Chicago:20211002T160000
DTEND;TZID=America/Chicago:20211002T171500
DTSTAMP:20260422T162147
CREATED:20210903T155108Z
LAST-MODIFIED:20211002T200902Z
UID:10000777-1633190400-1633194900@www.stpetercatholicchurch.org
SUMMARY:Mass
DESCRIPTION:
URL:https://www.stpetercatholicchurch.org/event/mass-5/
LOCATION:Church
CATEGORIES:Mass
END:VEVENT
BEGIN:VEVENT
DTSTART;TZID=America/Chicago:20211001T080000
DTEND;TZID=America/Chicago:20211001T084500
DTSTAMP:20260422T162147
CREATED:20210903T155108Z
LAST-MODIFIED:20210930T195403Z
UID:10000774-1633075200-1633077900@www.stpetercatholicchurch.org
SUMMARY:Daily Mass
DESCRIPTION:Daily Mass: 8:00 am\nNo Mass on Monday’s
URL:https://www.stpetercatholicchurch.org/event/daily-mass-16/
LOCATION:Church
CATEGORIES:Mass
END:VEVENT
END:VCALENDAR